BEGIN:VCALENDAR
VERSION:2.0
PRODID:-//Go Batroun - ECPv6.14.2//NONSGML v1.0//EN
CALSCALE:GREGORIAN
METHOD:PUBLISH
X-WR-CALNAME:Go Batroun
X-ORIGINAL-URL:https://gobatroun.com
X-WR-CALDESC:Events for Go Batroun
REFRESH-INTERVAL;VALUE=DURATION:PT1H
X-Robots-Tag:noindex
X-PUBLISHED-TTL:PT1H
BEGIN:VTIMEZONE
TZID:Asia/Beirut
BEGIN:DAYLIGHT
TZOFFSETFROM:+0200
TZOFFSETTO:+0300
TZNAME:EEST
DTSTART:20240330T220000
END:DAYLIGHT
BEGIN:STANDARD
TZOFFSETFROM:+0300
TZOFFSETTO:+0200
TZNAME:EET
DTSTART:20241026T210000
END:STANDARD
END:VTIMEZONE
BEGIN:VEVENT
DTSTART;TZID=Asia/Beirut:20240525T073000
DTEND;TZID=Asia/Beirut:20240525T073000
DTSTAMP:20260422T030952
CREATED:20240524T072702Z
LAST-MODIFIED:20240524T072702Z
UID:10006133-1716622200-1716622200@gobatroun.com
SUMMARY:Ehden and Qozhaya Trip
DESCRIPTION:Join us for a delightful cherry-picking event in the picturesque town of Ehden!  \n Ehden and Qozhaya\n Date: May 25th\nMeeting point: USEK main gate\, pick up along the way is an option\, joining by car is possible\n 30$ per person\, changes according to Meeting point or if joining by car\nLunch in Ehden \nEnjoy the fresh mountain air\, pick your own juicy cherries\, and create unforgettable memories with family and friends.\nDon’t miss this sweet adventure! \nDM for more details\nOr WhatsApp on +961  81 829 242
URL:https://gobatroun.com/event/ehden-and-qozhaya-trip/
LOCATION:Ehden\, Lebanon
CATEGORIES:Sports
ATTACH;FMTTYPE=image/jpeg:https://gobatroun.com/wp-content/uploads/2024/05/May-25-Event.jpg
END:VEVENT
BEGIN:VEVENT
DTSTART;TZID=Asia/Beirut:20240525T103000
DTEND;TZID=Asia/Beirut:20240525T170000
DTSTAMP:20260422T030952
CREATED:20240510T073908Z
LAST-MODIFIED:20240510T074324Z
UID:10006107-1716633000-1716656400@gobatroun.com
SUMMARY:Spring Blooms
DESCRIPTION:Spring Blooms with Marc Beyrouthy \nWe are starting the 2024 season with a very special guest!\nThe one and only MARC BEYROUTHY\, Nature’s Guru\, is joining us to celebrate the ongoing spring! Learn everything you need to know about the Wild Flora with Marc\, as we stroll the magnificent hills. \nWe start the day with a lovely easy Hike that takes us from the heights and all green hills of Balaa\, while Marc hunts down beautiful specimens and tells us about them\, all the way to the Balouh Balaa gorge. \nAfter enjoying the spectacular scenery of that famous landmark 65 million years old\, we will head to our premises\, our friend’s beautiful lebanese house to relax and enjoy a mouthwatering terroir lunch table made of delicacies and local specialties\, as we interact with le locals. \nIn the afternoon we will have a cultural walk in the village\, learn its history\, anecdotes and savor its beauty. \nDay starts at 10.30 a.m.\nEnds at 17.00 p.m. \nPrice per person: 45$\nIncluding:\n– Hiking and guiding\n– Exploration of the Balouh Balaa gorge.\n– Strolling the village of CHATINE with storytelling.\n– Terroir Lunch Table in a striking scenery.\n– Open Arak.\n– Open Rosé and White Obeidy Wine.\n– Desserts Table.\n– Coffee\, snacks\, juices\nKids under 12 y.o. = 25$\nKids under 5 y.o. = free \nWe organise a bus as well from Beirut to Chatine for an extra 5$ per person. If you choose not to take your own means of transportation. \nHurry and call or whatsapp +961 70 302 833 for info and reservations\, PLACES ARE VERY LIMITED\, as our policy is to have small groups per event to maintain a unique personalized experience and social agreeable ambiance! \nNB: Please note that any cancelation taking place 24 hours ahead will be charged 50% per person.\nCancellation happening on the day of the event will be charged the full amount.
URL:https://gobatroun.com/event/spring-blooms/
LOCATION:Bâloûaa Balaa\, 5VFC+F64 Meghraq\, Balouaa Baatara\, Lebanon
CATEGORIES:Sports
ATTACH;FMTTYPE=image/jpeg:https://gobatroun.com/wp-content/uploads/2024/05/Spring-Blooms-n.jpg
GEO:34.174115540559;35.872099586314
X-APPLE-STRUCTURED-LOCATION;VALUE=URI;X-ADDRESS=Bâloûaa Balaa 5VFC+F64 Meghraq Balouaa Baatara Lebanon;X-APPLE-RADIUS=500;X-TITLE=5VFC+F64 Meghraq:geo:35.872099586314,34.174115540559
END:VEVENT
BEGIN:VEVENT
DTSTART;TZID=Asia/Beirut:20240525T203000
DTEND;TZID=Asia/Beirut:20240525T203000
DTSTAMP:20260422T030952
CREATED:20240524T055120Z
LAST-MODIFIED:20240524T055140Z
UID:10006130-1716669000-1716669000@gobatroun.com
SUMMARY:Summer Kickoff
DESCRIPTION:Experience Afro Rhythms with BOB and Guy Ramy – May 25 – Free Entrance \nFor more info +961 03 74 35 43 \n 
URL:https://gobatroun.com/event/summer-kickoff/
LOCATION:Colonel Reef\, 6MX5+R2 Batroun\, Batroun\, Lebanon
CATEGORIES:Performing Arts
ATTACH;FMTTYPE=image/jpeg:https://gobatroun.com/wp-content/uploads/2024/05/SummerKickOff-May-25-Event.jpg
GEO:34.249604995751;35.657635266722
X-APPLE-STRUCTURED-LOCATION;VALUE=URI;X-ADDRESS=Colonel Reef 6MX5+R2 Batroun Batroun Lebanon;X-APPLE-RADIUS=500;X-TITLE=6MX5+R2 Batroun:geo:35.657635266722,34.249604995751
END:VEVENT
BEGIN:VEVENT
DTSTART;TZID=Asia/Beirut:20240525T210000
DTEND;TZID=Asia/Beirut:20240525T210000
DTSTAMP:20260422T030952
CREATED:20240130T133606Z
LAST-MODIFIED:20240524T070205Z
UID:10005800-1716670800-1716670800@gobatroun.com
SUMMARY:DJ Joe Hannoun with saxophonist OWLYSAX at Omina
DESCRIPTION:Exciting Saturday vibes with DJ Joe Hannoun and  saxophonist OWLYSAX \nJoin us for a stellar experience! \nFor more info & reservations\, contact +961 81 166 642 \n  \n 
URL:https://gobatroun.com/event/dj-joe-hannoun-and-ghinwa-at-omina/
LOCATION:Omnia bistro bar\, 7M45+GQ Batroun\, Batroun\, Lebanon
CATEGORIES:Performing Arts
ATTACH;FMTTYPE=image/jpeg:https://gobatroun.com/wp-content/uploads/2024/01/May-25-event.jpg
GEO:34.256282323463;35.65947578638
X-APPLE-STRUCTURED-LOCATION;VALUE=URI;X-ADDRESS=Omnia bistro bar 7M45+GQ Batroun Batroun Lebanon;X-APPLE-RADIUS=500;X-TITLE=7M45+GQ Batroun:geo:35.65947578638,34.256282323463
END:VEVENT
BEGIN:VEVENT
DTSTART;TZID=Asia/Beirut:20240525T210000
DTEND;TZID=Asia/Beirut:20240525T210000
DTSTAMP:20260422T030952
CREATED:20240409T083102Z
LAST-MODIFIED:20240521T073220Z
UID:10006061-1716670800-1716670800@gobatroun.com
SUMMARY:Jack Makdissy
DESCRIPTION:Jack Makdissy Performing Live at Casa Bar \nRSVP & INFO: +961 81 328 117
URL:https://gobatroun.com/event/jack-makdissy/
LOCATION:Casa Bar
CATEGORIES:Performing Arts
ATTACH;FMTTYPE=image/jpeg:https://gobatroun.com/wp-content/uploads/2023/05/May-23-Week.jpg
END:VEVENT
BEGIN:VEVENT
DTSTART;TZID=Asia/Beirut:20240525T210000
DTEND;TZID=Asia/Beirut:20240525T210000
DTSTAMP:20260422T030952
CREATED:20240524T063556Z
LAST-MODIFIED:20240524T063556Z
UID:10006131-1716670800-1716670800@gobatroun.com
SUMMARY:MB at Kori
DESCRIPTION:MB live performance at Kori \nRSVP: +961 79 118 887
URL:https://gobatroun.com/event/mb-at-kori-2/
LOCATION:KŌRI
CATEGORIES:Performing Arts
ATTACH;FMTTYPE=image/jpeg:https://gobatroun.com/wp-content/uploads/2024/05/May-25.jpg
END:VEVENT
END:VCALENDAR