BEGIN:VCALENDAR
VERSION:2.0
PRODID:-//Go Batroun - ECPv6.14.2//NONSGML v1.0//EN
CALSCALE:GREGORIAN
METHOD:PUBLISH
X-WR-CALNAME:Go Batroun
X-ORIGINAL-URL:https://gobatroun.com
X-WR-CALDESC:Events for Go Batroun
REFRESH-INTERVAL;VALUE=DURATION:PT1H
X-Robots-Tag:noindex
X-PUBLISHED-TTL:PT1H
BEGIN:VTIMEZONE
TZID:Asia/Beirut
BEGIN:DAYLIGHT
TZOFFSETFROM:+0200
TZOFFSETTO:+0300
TZNAME:EEST
DTSTART:20240330T220000
END:DAYLIGHT
BEGIN:STANDARD
TZOFFSETFROM:+0300
TZOFFSETTO:+0200
TZNAME:EET
DTSTART:20241026T210000
END:STANDARD
END:VTIMEZONE
BEGIN:VEVENT
DTSTART;TZID=Asia/Beirut:20240524T190000
DTEND;TZID=Asia/Beirut:20240524T203000
DTSTAMP:20260421T234206
CREATED:20240516T075620Z
LAST-MODIFIED:20240520T053345Z
UID:10006117-1716577200-1716582600@gobatroun.com
SUMMARY:Tone & Stretch
DESCRIPTION:Exciting news \nNew class\, Alert! \n“TONE & STRETCH” \nExperience the perfect blend of fitness ‍♀️and yoga ‍♀️ ‍♂️ focusing on strength\, mobility\, cardio\, and stretching. \nMark your calendars and join us every Monday and Friday from 7:00 pm till 8:15 pm @wildermuaythai\n@courtsatcapo \nP.S: Can’t make it to class? Private sessions are also available \nDon’t miss out on this new experience \nSee you on the mats \nBook your spot/session: \n+961 03 930 119 \n+961 03 040 018 \n 
URL:https://gobatroun.com/event/tone-stretch/2024-05-24/
LOCATION:Capo\, 6MV6+8G Batroun\, Batroun\, Lebanon
CATEGORIES:Sports
ATTACH;FMTTYPE=image/jpeg:https://gobatroun.com/wp-content/uploads/2024/05/Fitness-Yoga-sessions.jpg
END:VEVENT
BEGIN:VEVENT
DTSTART;TZID=Asia/Beirut:20240524T193000
DTEND;TZID=Asia/Beirut:20240524T203000
DTSTAMP:20260421T234206
CREATED:20240520T062250Z
LAST-MODIFIED:20240520T062250Z
UID:10006123-1716579000-1716582600@gobatroun.com
SUMMARY:Theatre Play
DESCRIPTION:Let’s support our young actors! Join us this Friday to watch them perform scenes they’ve been working on in their acting class. It’s sure to be a wonderful showcase of their talent and hard work! \nEnjoy the participants performance with Laura Khabbaz initiative Theatre in Diaspora Village Indoor Main Hall \nFree Entrance- Limited Places \nFor Reservation +961 03 105 215 \n#DiasporaVillage #batroun #actor
URL:https://gobatroun.com/event/theatre-play/
LOCATION:Diaspora Village\, 7M44+5WG 1400\, Batroun\, Batroun\, Lebanon
CATEGORIES:Performing Arts
ATTACH;FMTTYPE=image/jpeg:https://gobatroun.com/wp-content/uploads/2024/05/May-24-event.jpg
ORGANIZER;CN="Diaspora Village":MAILTO:info@lebanesediasporavillage.com
GEO:34.255439713586;35.657307550695
X-APPLE-STRUCTURED-LOCATION;VALUE=URI;X-ADDRESS=Diaspora Village 7M44+5WG 1400 Batroun Batroun Lebanon;X-APPLE-RADIUS=500;X-TITLE=7M44+5WG 1400\, Batroun:geo:35.657307550695,34.255439713586
END:VEVENT
BEGIN:VEVENT
DTSTART;TZID=Asia/Beirut:20240524T220000
DTEND;TZID=Asia/Beirut:20240524T220000
DTSTAMP:20260421T234206
CREATED:20240201T133839Z
LAST-MODIFIED:20240521T073059Z
UID:10005809-1716588000-1716588000@gobatroun.com
SUMMARY:Dj Mastermix at Casa Bar
DESCRIPTION:Dj Master Mix Live Performance at Casa Bar \n 
URL:https://gobatroun.com/event/dj-mastermix-at-casa-bar-2/
LOCATION:Casa Bar
CATEGORIES:Performing Arts
ATTACH;FMTTYPE=image/jpeg:https://gobatroun.com/wp-content/uploads/2023/05/May-23-Week.jpg
END:VEVENT
END:VCALENDAR