BEGIN:VCALENDAR
VERSION:2.0
PRODID:-//Go Batroun - ECPv6.14.2//NONSGML v1.0//EN
CALSCALE:GREGORIAN
METHOD:PUBLISH
X-WR-CALNAME:Go Batroun
X-ORIGINAL-URL:https://gobatroun.com
X-WR-CALDESC:Events for Go Batroun
REFRESH-INTERVAL;VALUE=DURATION:PT1H
X-Robots-Tag:noindex
X-PUBLISHED-TTL:PT1H
BEGIN:VTIMEZONE
TZID:Asia/Beirut
BEGIN:DAYLIGHT
TZOFFSETFROM:+0200
TZOFFSETTO:+0300
TZNAME:EEST
DTSTART:20240330T220000
END:DAYLIGHT
BEGIN:STANDARD
TZOFFSETFROM:+0300
TZOFFSETTO:+0200
TZNAME:EET
DTSTART:20241026T210000
END:STANDARD
END:VTIMEZONE
BEGIN:VEVENT
DTSTART;TZID=Asia/Beirut:20240510T180000
DTEND;TZID=Asia/Beirut:20240522T180000
DTSTAMP:20260420T122413
CREATED:20240404T123655Z
LAST-MODIFIED:20240516T055021Z
UID:10006056-1715364000-1716400800@gobatroun.com
SUMMARY:Puertas del Mediterraneo Espana y Libano Reynaldo Sayegh أبواب البحر الأبيض المتوسط. إسبانيا ولبنان رينالدو صايغ معرض لوحات
DESCRIPTION:Puertas del Mediterraneo Espana y Libano Reynaldo Sayegh أبواب البحر الأبيض المتوسط. إسبانيا ولبنان رينالدو صايغ معرض لوحات \nBatroun Villa Paradiso MAY 10 to 15 18:00 \nTel: +961 01 630 755 \n  \n  \n 
URL:https://gobatroun.com/event/puertas-del-mediterraneo-espana-y-libano-reynaldo-sayegh-%d8%a3%d8%a8%d9%88%d8%a7%d8%a8-%d8%a7%d9%84%d8%a8%d8%ad%d8%b1-%d8%a7%d9%84%d8%a3%d8%a8%d9%8a%d8%b6-%d8%a7%d9%84%d9%85%d8%aa%d9%88%d8%b3%d8%b7/
LOCATION:Villa Paradiso Lebanon
CATEGORIES:Expos
ATTACH;FMTTYPE=image/webp:https://gobatroun.com/wp-content/uploads/2024/04/Villa-Paradiso-Batroun-Old-Town-15-May.webp
END:VEVENT
BEGIN:VEVENT
DTSTART;TZID=Asia/Beirut:20240520T190000
DTEND;TZID=Asia/Beirut:20240520T203000
DTSTAMP:20260420T122413
CREATED:20240516T075620Z
LAST-MODIFIED:20240520T053345Z
UID:10006116-1716231600-1716237000@gobatroun.com
SUMMARY:Tone & Stretch
DESCRIPTION:Exciting news \nNew class\, Alert! \n“TONE & STRETCH” \nExperience the perfect blend of fitness ‍♀️and yoga ‍♀️ ‍♂️ focusing on strength\, mobility\, cardio\, and stretching. \nMark your calendars and join us every Monday and Friday from 7:00 pm till 8:15 pm @wildermuaythai\n@courtsatcapo \nP.S: Can’t make it to class? Private sessions are also available \nDon’t miss out on this new experience \nSee you on the mats \nBook your spot/session: \n+961 03 930 119 \n+961 03 040 018 \n 
URL:https://gobatroun.com/event/tone-stretch/2024-05-20/
LOCATION:Capo\, 6MV6+8G Batroun\, Batroun\, Lebanon
CATEGORIES:Sports
ATTACH;FMTTYPE=image/jpeg:https://gobatroun.com/wp-content/uploads/2024/05/Fitness-Yoga-sessions.jpg
END:VEVENT
END:VCALENDAR