BEGIN:VCALENDAR
VERSION:2.0
PRODID:-//Go Batroun - ECPv6.14.2//NONSGML v1.0//EN
CALSCALE:GREGORIAN
METHOD:PUBLISH
X-ORIGINAL-URL:https://gobatroun.com
X-WR-CALDESC:Events for Go Batroun
REFRESH-INTERVAL;VALUE=DURATION:PT1H
X-Robots-Tag:noindex
X-PUBLISHED-TTL:PT1H
BEGIN:VTIMEZONE
TZID:Asia/Beirut
BEGIN:DAYLIGHT
TZOFFSETFROM:+0200
TZOFFSETTO:+0300
TZNAME:EEST
DTSTART:20240330T220000
END:DAYLIGHT
BEGIN:STANDARD
TZOFFSETFROM:+0300
TZOFFSETTO:+0200
TZNAME:EET
DTSTART:20241026T210000
END:STANDARD
END:VTIMEZONE
BEGIN:VEVENT
DTSTART;TZID=Asia/Beirut:20240427T083000
DTEND;TZID=Asia/Beirut:20240427T143000
DTSTAMP:20260420T090945
CREATED:20240424T055303Z
LAST-MODIFIED:20240424T055442Z
UID:10006089-1714206600-1714228200@gobatroun.com
SUMMARY:نشاط توعية حول تتبع ومعرفة آثار الحيوانات البرية والطيور الجارحة في المحمية ومحيطها
DESCRIPTION:هل انت مرشدا محليا ؟ ترغب في اكتساب خبرات حول مراقبة الحيوانات والطيور الجارحة. \nتدعوكم محمية غابة أرز تنورين الى نشاط توعية حول تتبع ومعرفة آثار الحيوانات البرية والطيور الجارحة في المحمية ومحيطها.\nالزمان: السبت ٢٧ نيسان ٢٠٢٤\nالمكان: محمية أرز تنورين\nللتسجيل: قبل يوم الخميس ٢٥ نيسان\nيذكر أن هذا النشاط مموّل من قبل برنامج المنح الصغيرة – مرفق البيئة العالمي / برنامج الامم المتحدة للتنمية تحت عنوان “الحفاظ على الطيور والثدييات آكلة اللحوم: للسيطرة على أعداد القوارض في ظل ارتفاع حرارة المناخ” منفذ من قبل جمعية البيئة تنور ونور بالتعاون مع محمية غابة أرز تنورين الطبيعية وجمعية حماية الطيور في لبنان \nPhone Number: +961 03 223 428 \nللتسجيل \nLink
URL:https://gobatroun.com/event/%d9%86%d8%b4%d8%a7%d8%b7-%d8%aa%d9%88%d8%b9%d9%8a%d8%a9-%d8%ad%d9%88%d9%84-%d8%aa%d8%aa%d8%a8%d8%b9-%d9%88%d9%85%d8%b9%d8%b1%d9%81%d8%a9-%d8%a2%d8%ab%d8%a7%d8%b1-%d8%a7%d9%84%d8%ad%d9%8a%d9%88%d8%a7/
LOCATION:Tannourine Cedars Reserve
CATEGORIES:Community
ATTACH;FMTTYPE=image/webp:https://gobatroun.com/wp-content/uploads/2024/04/April-27.webp
END:VEVENT
BEGIN:VEVENT
DTSTART;TZID=Asia/Beirut:20240427T120000
DTEND;TZID=Asia/Beirut:20240427T193000
DTSTAMP:20260420T090945
CREATED:20240417T055949Z
LAST-MODIFIED:20240423T112826Z
UID:10006072-1714219200-1714246200@gobatroun.com
SUMMARY:DayDream
DESCRIPTION:Live bbq station @thehooveslb \nMusic by @ralphkalache \nNoon till sunset \nSaturday April 20 \nFor more info +961 76 532 692
URL:https://gobatroun.com/event/daydream/
LOCATION:Parazar Bistro & Cocktail Bar
CATEGORIES:Performing Arts
ATTACH;FMTTYPE=image/webp:https://gobatroun.com/wp-content/uploads/2024/04/Day-Dream-Parazarr-April-27.webp
END:VEVENT
BEGIN:VEVENT
DTSTART;TZID=Asia/Beirut:20240427T160000
DTEND;TZID=Asia/Beirut:20240427T160000
DTSTAMP:20260420T090946
CREATED:20240423T053215Z
LAST-MODIFIED:20240423T053215Z
UID:10006079-1714233600-1714233600@gobatroun.com
SUMMARY:A Journey Into The World Of Spirits
DESCRIPTION:Unlock the mysteries of spirits with Pernod Ricard’s Brand Ambassador\, Mr. Youssef El Ahmar\, in an exclusive live talk on April 27th at 4 PM! Join us at HangLoose for an enlightening journey through the world of fine spirits. Cheers to knowledge and good company!
URL:https://gobatroun.com/event/a-journey-into-the-world-of-spirits/
LOCATION:HANGLOOSE\, 6MW6+PQ Batroun\, Batroun\, Lebanon
CATEGORIES:Expos
ATTACH;FMTTYPE=image/webp:https://gobatroun.com/wp-content/uploads/2024/04/A-journey-into-the-world-of-spirits.webp
ORGANIZER;CN="HANGLOOSE":MAILTO:contact@info.com
GEO:34.246771332534;35.661930198875
X-APPLE-STRUCTURED-LOCATION;VALUE=URI;X-ADDRESS=HANGLOOSE 6MW6+PQ Batroun Batroun Lebanon;X-APPLE-RADIUS=500;X-TITLE=6MW6+PQ Batroun:geo:35.661930198875,34.246771332534
END:VEVENT
BEGIN:VEVENT
DTSTART;TZID=Asia/Beirut:20240427T180000
DTEND;TZID=Asia/Beirut:20240427T180000
DTSTAMP:20260420T090946
CREATED:20240213T133933Z
LAST-MODIFIED:20240426T123857Z
UID:10005863-1714240800-1714240800@gobatroun.com
SUMMARY:Dj Raimund at Vine Wine Bar
DESCRIPTION:Saturdays were made for fun with DJ Raimund \nFor more information and reservations kindly contact +961 71 455 882
URL:https://gobatroun.com/event/dj-raimund-at-vine-wine-bar/
LOCATION:Vine\, Smar Jbeil\, 6M9R+95 Smar Jbeil\, Smar Jbeil\, Lebanon
CATEGORIES:Performing Arts
ATTACH;FMTTYPE=image/webp:https://gobatroun.com/wp-content/uploads/2024/02/Dj-Raimund-April-27-2024.webp
END:VEVENT
BEGIN:VEVENT
DTSTART;TZID=Asia/Beirut:20240427T210000
DTEND;TZID=Asia/Beirut:20240427T210000
DTSTAMP:20260420T090946
CREATED:20240208T121241Z
LAST-MODIFIED:20240423T112119Z
UID:10005854-1714251600-1714251600@gobatroun.com
SUMMARY:Bernard Najm and Nour Nimri at Parazar
DESCRIPTION:Live Performance by @nour_nimri & @bernard_najm \nSaturday 27 April \nFor info & Reservation: +961 76 532 692 \n  \n 
URL:https://gobatroun.com/event/bernard-najm-and-nour-nimri-at-parazar-2/
LOCATION:Parazar Bistro & Cocktail Bar
CATEGORIES:Performing Arts
ATTACH;FMTTYPE=image/webp:https://gobatroun.com/wp-content/uploads/2024/02/Nour-Nimri-and-Tony-Attieh-Parazar-27-Aprill.webp
END:VEVENT
END:VCALENDAR