BEGIN:VCALENDAR
VERSION:2.0
PRODID:-//Go Batroun - ECPv6.14.2//NONSGML v1.0//EN
CALSCALE:GREGORIAN
METHOD:PUBLISH
X-WR-CALNAME:Go Batroun
X-ORIGINAL-URL:https://gobatroun.com
X-WR-CALDESC:Events for Go Batroun
REFRESH-INTERVAL;VALUE=DURATION:PT1H
X-Robots-Tag:noindex
X-PUBLISHED-TTL:PT1H
BEGIN:VTIMEZONE
TZID:Asia/Beirut
BEGIN:DAYLIGHT
TZOFFSETFROM:+0200
TZOFFSETTO:+0300
TZNAME:EEST
DTSTART:20240330T220000
END:DAYLIGHT
BEGIN:STANDARD
TZOFFSETFROM:+0300
TZOFFSETTO:+0200
TZNAME:EET
DTSTART:20241026T210000
END:STANDARD
END:VTIMEZONE
BEGIN:VEVENT
DTSTART;VALUE=DATE:20240309
DTEND;VALUE=DATE:20240311
DTSTAMP:20260421T144005
CREATED:20240229T085452Z
LAST-MODIFIED:20240229T085512Z
UID:10005947-1709964000-1710050399@gobatroun.com
SUMMARY:Teacher's Day at الميدان
DESCRIPTION:Celebrate Teacher’s Day \nBook your School’s Event Before: March 7 \nRSVP: +961 71 762 989 \n 
URL:https://gobatroun.com/event/teachers-day-at-%d8%a7%d9%84%d9%85%d9%8a%d8%af%d8%a7%d9%86/
LOCATION:Al Midan
CATEGORIES:Community
ATTACH;FMTTYPE=image/webp:https://gobatroun.com/wp-content/uploads/2024/02/Celebrate-Teachers-Day-at-Al-Midan.webp
END:VEVENT
BEGIN:VEVENT
DTSTART;VALUE=DATE:20240309
DTEND;VALUE=DATE:20240311
DTSTAMP:20260421T144005
CREATED:20240307T080023Z
LAST-MODIFIED:20240307T080023Z
UID:10005966-1709964000-1710050399@gobatroun.com
SUMMARY:Weekend Special with Don Dan
DESCRIPTION:Entree \nEndive\, Roquefort and maple-candied pecan salad. Xeres vinegar dressing \nMain \nHomemade Gnocci with bacon red sauce\, Filtet mignon. \nDesert \nBitter orange and neroli cake with melted dark chocolate
URL:https://gobatroun.com/event/weekend-special-with-don-dan/
LOCATION:Nopal Eatery
CATEGORIES:Performing Arts
ATTACH;FMTTYPE=image/webp:https://gobatroun.com/wp-content/uploads/2024/03/Nopal_Eatery_Saturday_Night_600x600.webp
END:VEVENT
BEGIN:VEVENT
DTSTART;TZID=Asia/Beirut:20240309T160000
DTEND;TZID=Asia/Beirut:20240309T180000
DTSTAMP:20260421T144005
CREATED:20240305T095122Z
LAST-MODIFIED:20240305T100727Z
UID:10005961-1710000000-1710007200@gobatroun.com
SUMMARY:Echoes of Change: Batroun's Marine Environmental Wake-Up Call
DESCRIPTION:Cultivating Sea Conscience: \nDr. Ibrahim Chalhoub will be chatting with us from a fieldwork perspective about life underwater based on sustainable development goal number 14 \nThe session will shed light on the current state of fish biodiversity off the shore of Batroun\, its variables\, aggravating factors and possible solutions \nIbrahim Chalhoub\, Ph.D. is a professor & multidisciplinary researcher\, president of the Water People Organization \n  \n 
URL:https://gobatroun.com/event/echoes-of-change-batrouns-marine-environmental-wake-up-call/
LOCATION:HANGLOOSE\, 6MW6+PQ Batroun\, Batroun\, Lebanon
CATEGORIES:Conferences
ATTACH;FMTTYPE=image/jpeg:https://gobatroun.com/wp-content/uploads/2024/03/Batrouns-Marine-Environmental-Wake-Up-Call.jpeg
GEO:34.246771332534;35.661930198875
X-APPLE-STRUCTURED-LOCATION;VALUE=URI;X-ADDRESS=HANGLOOSE 6MW6+PQ Batroun Batroun Lebanon;X-APPLE-RADIUS=500;X-TITLE=6MW6+PQ Batroun:geo:35.661930198875,34.246771332534
END:VEVENT
BEGIN:VEVENT
DTSTART;TZID=Asia/Beirut:20240309T213000
DTEND;TZID=Asia/Beirut:20240309T213000
DTSTAMP:20260421T144005
CREATED:20240105T120936Z
LAST-MODIFIED:20240226T131751Z
UID:10005926-1710019800-1710019800@gobatroun.com
SUMMARY:Dj Stephy Diab at Yazz
DESCRIPTION:
URL:https://gobatroun.com/event/dj-stephy-diab-at-yazz/2024-03-09/
LOCATION:YAZZ\, 7M45+HF Batroun\, Batroun\, Lebanon
CATEGORIES:Performing Arts
ATTACH;FMTTYPE=image/png:https://gobatroun.com/wp-content/uploads/2024/01/Screenshot-2917.png
GEO:34.256452437297;35.65875069844
X-APPLE-STRUCTURED-LOCATION;VALUE=URI;X-ADDRESS=YAZZ 7M45+HF Batroun Batroun Lebanon;X-APPLE-RADIUS=500;X-TITLE=7M45+HF Batroun:geo:35.65875069844,34.256452437297
END:VEVENT
BEGIN:VEVENT
DTSTART;TZID=Asia/Beirut:20240309T220000
DTEND;TZID=Asia/Beirut:20240309T233000
DTSTAMP:20260421T144005
CREATED:20240201T133953Z
LAST-MODIFIED:20240226T130948Z
UID:10005919-1710021600-1710027000@gobatroun.com
SUMMARY:Michel Najem at Casa Bar
DESCRIPTION:Book your Saturdays night out to the heart of Batroun!\nJoin us every Saturday with the best Michel Najem!
URL:https://gobatroun.com/event/michel-najem-at-casa-bar-14/2024-03-09/
LOCATION:Casa Bar
CATEGORIES:Performing Arts
ATTACH;FMTTYPE=image/png:https://gobatroun.com/wp-content/uploads/2024/02/Screenshot-3065.png
END:VEVENT
BEGIN:VEVENT
DTSTART;TZID=Asia/Beirut:20240309T223000
DTEND;TZID=Asia/Beirut:20240309T223000
DTSTAMP:20260421T144005
CREATED:20240305T123118Z
LAST-MODIFIED:20240305T123118Z
UID:10005962-1710023400-1710023400@gobatroun.com
SUMMARY:Dj Rob\, Mc-H\, ED\, at Void
DESCRIPTION:Saturday night fever at VOID! Are you ready to dance? Join us
URL:https://gobatroun.com/event/dj-rob-mc-h-ed-at-void/
LOCATION:Void Nightclub
CATEGORIES:Performing Arts
ATTACH;FMTTYPE=image/png:https://gobatroun.com/wp-content/uploads/2024/03/ROB-ED-MC-H-at-Void-March-9.png
END:VEVENT
END:VCALENDAR