BEGIN:VCALENDAR
VERSION:2.0
PRODID:-//Go Batroun - ECPv6.14.2//NONSGML v1.0//EN
CALSCALE:GREGORIAN
METHOD:PUBLISH
X-WR-CALNAME:Go Batroun
X-ORIGINAL-URL:https://gobatroun.com
X-WR-CALDESC:Events for Go Batroun
REFRESH-INTERVAL;VALUE=DURATION:PT1H
X-Robots-Tag:noindex
X-PUBLISHED-TTL:PT1H
BEGIN:VTIMEZONE
TZID:Asia/Beirut
BEGIN:DAYLIGHT
TZOFFSETFROM:+0200
TZOFFSETTO:+0300
TZNAME:EEST
DTSTART:20240330T220000
END:DAYLIGHT
BEGIN:STANDARD
TZOFFSETFROM:+0300
TZOFFSETTO:+0200
TZNAME:EET
DTSTART:20241026T210000
END:STANDARD
END:VTIMEZONE
BEGIN:VEVENT
DTSTART;TZID=Asia/Beirut:20240308T080000
DTEND;TZID=Asia/Beirut:20240308T140000
DTSTAMP:20260421T234206
CREATED:20240305T125542Z
LAST-MODIFIED:20240305T125556Z
UID:10005963-1709884800-1709906400@gobatroun.com
SUMMARY:Teacher’s Day
DESCRIPTION:DIY gift for teachers \nEducational Games \nScience Experiments \nCooking \nPainting \n10$/day \nFor reservations: +961 70 224 987 or +961 70 146 349 \n 
URL:https://gobatroun.com/event/teachers-day/
CATEGORIES:Performing Arts
ATTACH;FMTTYPE=image/webp:https://gobatroun.com/wp-content/uploads/2024/03/Teachers-Day-at-Dreamville-March-8-11.webp
END:VEVENT
BEGIN:VEVENT
DTSTART;TZID=Asia/Beirut:20240308T210000
DTEND;TZID=Asia/Beirut:20240308T210000
DTSTAMP:20260421T234206
CREATED:20240222T114507Z
LAST-MODIFIED:20240305T132743Z
UID:10005909-1709931600-1709931600@gobatroun.com
SUMMARY:Tony Attieh at Parazar
DESCRIPTION:Live Performance by @tony.attieh \nFor info & Reservations \nFor info & Reservation: +961 76 532 692
URL:https://gobatroun.com/event/tony-attieh-ft-dear-ear-band-at-parazar/
LOCATION:Parazar Bistro & Cocktail Bar
CATEGORIES:Performing Arts
ATTACH;FMTTYPE=image/webp:https://gobatroun.com/wp-content/uploads/2024/02/Tony-Attieh-at-Parazar-March-8.webp
END:VEVENT
BEGIN:VEVENT
DTSTART;TZID=Asia/Beirut:20240308T210000
DTEND;TZID=Asia/Beirut:20240308T210000
DTSTAMP:20260421T234206
CREATED:20240304T135837Z
LAST-MODIFIED:20240304T135913Z
UID:10005960-1709931600-1709931600@gobatroun.com
SUMMARY:Jazz night\, Alessia and the band at HangLoose
DESCRIPTION:Jazz night excitement this Friday with Alessia and the band at HangLoose\nDon’t miss out on this experience! \nMarch 8 \n9 pm \n$10 band charge
URL:https://gobatroun.com/event/jazz-night-alessia-and-the-band-at-hangloose/
LOCATION:HANGLOOSE\, 6MW6+PQ Batroun\, Batroun\, Lebanon
CATEGORIES:Performing Arts
ATTACH;FMTTYPE=image/webp:https://gobatroun.com/wp-content/uploads/2024/03/Jazz-Night-Alessia-The-Band-8-3-2024.webp
ORGANIZER;CN="HANGLOOSE":MAILTO:contact@info.com
GEO:34.246771332534;35.661930198875
X-APPLE-STRUCTURED-LOCATION;VALUE=URI;X-ADDRESS=HANGLOOSE 6MW6+PQ Batroun Batroun Lebanon;X-APPLE-RADIUS=500;X-TITLE=6MW6+PQ Batroun:geo:35.661930198875,34.246771332534
END:VEVENT
BEGIN:VEVENT
DTSTART;TZID=Asia/Beirut:20240308T210000
DTEND;TZID=Asia/Beirut:20240308T210000
DTSTAMP:20260421T234206
CREATED:20240305T132137Z
LAST-MODIFIED:20240305T132137Z
UID:10005964-1709931600-1709931600@gobatroun.com
SUMMARY:Blbb\, Mc Dre and DJ Gio at B1
DESCRIPTION:Info & Reservation : +961 70 73 44 33 \n  \n 
URL:https://gobatroun.com/event/blbb-mc-dre-and-dj-gio-at-b1/
LOCATION:B1 Batroun
CATEGORIES:Performing Arts
ATTACH;FMTTYPE=image/webp:https://gobatroun.com/wp-content/uploads/2024/03/Mc-Dre-blbb-and-DJ-Gio-at-B1-March-8-.webp
END:VEVENT
BEGIN:VEVENT
DTSTART;TZID=Asia/Beirut:20240308T213000
DTEND;TZID=Asia/Beirut:20240308T213000
DTSTAMP:20260421T234206
CREATED:20240104T140014Z
LAST-MODIFIED:20240305T130626Z
UID:10005665-1709933400-1709933400@gobatroun.com
SUMMARY:Dj Petra at Yazz
DESCRIPTION:
URL:https://gobatroun.com/event/dj-petra-at-yazz-2/
LOCATION:YAZZ\, 7M45+HF Batroun\, Batroun\, Lebanon
CATEGORIES:Performing Arts
ATTACH;FMTTYPE=image/png:https://gobatroun.com/wp-content/uploads/2024/01/Screenshot-2903.png
GEO:34.256452437297;35.65875069844
X-APPLE-STRUCTURED-LOCATION;VALUE=URI;X-ADDRESS=YAZZ 7M45+HF Batroun Batroun Lebanon;X-APPLE-RADIUS=500;X-TITLE=7M45+HF Batroun:geo:35.65875069844,34.256452437297
END:VEVENT
END:VCALENDAR