BEGIN:VCALENDAR
VERSION:2.0
PRODID:-//Go Batroun - ECPv6.14.2//NONSGML v1.0//EN
CALSCALE:GREGORIAN
METHOD:PUBLISH
X-WR-CALNAME:Go Batroun
X-ORIGINAL-URL:https://gobatroun.com
X-WR-CALDESC:Events for Go Batroun
REFRESH-INTERVAL;VALUE=DURATION:PT1H
X-Robots-Tag:noindex
X-PUBLISHED-TTL:PT1H
BEGIN:VTIMEZONE
TZID:Asia/Beirut
BEGIN:DAYLIGHT
TZOFFSETFROM:+0200
TZOFFSETTO:+0300
TZNAME:EEST
DTSTART:20240330T220000
END:DAYLIGHT
BEGIN:STANDARD
TZOFFSETFROM:+0300
TZOFFSETTO:+0200
TZNAME:EET
DTSTART:20241026T210000
END:STANDARD
END:VTIMEZONE
BEGIN:VEVENT
DTSTART;TZID=Asia/Beirut:20240223T100000
DTEND;TZID=Asia/Beirut:20240223T110000
DTSTAMP:20260420T122413
CREATED:20240220T135431Z
LAST-MODIFIED:20240220T135431Z
UID:10005900-1708682400-1708686000@gobatroun.com
SUMMARY:جلسة توعويّة بيئيّة منفّذة من قبل جمعيّة "طابيثا للإغاثة والتنمية"
DESCRIPTION:تتشرف بلديّة البترون بدعوتكم لحضور 5 عن أهميّة استبدال أكياس البلاستيك بأكياس كتّان خلال التبضّع وعن المخاطر الناتجة عن استخدام البلاستيك. و ذلك نهار الجمعة ٢٣ شباط من الساعة ١٠:٠٠ حتّى الساعة ١١:٠٠ صباحاً في قاعة بلديّة البترون.\nملاحظة: يلي الجلسة توزيع أكياس كتّان على الحضور
URL:https://gobatroun.com/event/%d8%ac%d9%84%d8%b3%d8%a9-%d8%aa%d9%88%d8%b9%d9%88%d9%8a%d9%91%d8%a9-%d8%a8%d9%8a%d8%a6%d9%8a%d9%91%d8%a9-%d9%85%d9%86%d9%81%d9%91%d8%b0%d8%a9-%d9%85%d9%86-%d9%82%d8%a8%d9%84-%d8%ac%d9%85%d8%b9%d9%8a/
LOCATION:Batroun Municipality
CATEGORIES:Performing Arts
ATTACH;FMTTYPE=image/png:https://gobatroun.com/wp-content/uploads/2024/02/جلسة-توعويّة-بيئيّة-منفّذة-من-قبل-جمعيّة-طابيثا-للإغاثة-والتنمية.png
END:VEVENT
BEGIN:VEVENT
DTSTART;TZID=Asia/Beirut:20240223T120000
DTEND;TZID=Asia/Beirut:20240223T233000
DTSTAMP:20260420T122413
CREATED:20240123T063625Z
LAST-MODIFIED:20240123T083608Z
UID:10005761-1708689600-1708731000@gobatroun.com
SUMMARY:Open Wings & Fries at Midnight Munchies
DESCRIPTION:Embrace the Messiness! 🍻🍗 Open Wings & Frieser Every Wednesday and Friday! \nJoin us for an unforgettable feast!\nReserve your spot on 79115 394
URL:https://gobatroun.com/event/open-wings-fries-at-midnight-munchies/2024-02-23/
LOCATION:MIDNIGHT MUNCHIES
CATEGORIES:Performing Arts
ATTACH;FMTTYPE=image/png:https://gobatroun.com/wp-content/uploads/2024/01/Screenshot-3000.png
END:VEVENT
BEGIN:VEVENT
DTSTART;TZID=Asia/Beirut:20240223T210000
DTEND;TZID=Asia/Beirut:20240223T210000
DTSTAMP:20260420T122413
CREATED:20240222T115935Z
LAST-MODIFIED:20240222T115935Z
UID:10005911-1708722000-1708722000@gobatroun.com
SUMMARY:Dj Gio at Omnia
DESCRIPTION:
URL:https://gobatroun.com/event/dj-gio-at-omnia-2/
LOCATION:Omnia bistro bar\, 7M45+GQ Batroun\, Batroun\, Lebanon
CATEGORIES:Performing Arts
ATTACH;FMTTYPE=image/jpeg:https://gobatroun.com/wp-content/uploads/2024/02/Dj-Gio-at-Omnia.jpg
GEO:34.256282323463;35.65947578638
X-APPLE-STRUCTURED-LOCATION;VALUE=URI;X-ADDRESS=Omnia bistro bar 7M45+GQ Batroun Batroun Lebanon;X-APPLE-RADIUS=500;X-TITLE=7M45+GQ Batroun:geo:35.65947578638,34.256282323463
END:VEVENT
BEGIN:VEVENT
DTSTART;TZID=Asia/Beirut:20240223T213000
DTEND;TZID=Asia/Beirut:20240223T213000
DTSTAMP:20260420T122413
CREATED:20240220T134450Z
LAST-MODIFIED:20240918T074551Z
UID:10005896-1708723800-1708723800@gobatroun.com
SUMMARY:Esmeralda and the Band live at Hangloose
DESCRIPTION:Esmeralda and the band are hitting the stage at Hangloose this Friday\, September 20th. Join us for a night of live music and exceptional vibes!​ \nRSVP on +961 71 872 417
URL:https://gobatroun.com/event/esmeralda-and-the-band-at-hangloose/
LOCATION:HANGLOOSE\, 6MW6+PQ Batroun\, Batroun\, Lebanon
CATEGORIES:Performing Arts
ATTACH;FMTTYPE=image/jpeg:https://gobatroun.com/wp-content/uploads/2024/02/September-20th.jpg
ORGANIZER;CN="HANGLOOSE":MAILTO:contact@info.com
GEO:34.246771332534;35.661930198875
X-APPLE-STRUCTURED-LOCATION;VALUE=URI;X-ADDRESS=HANGLOOSE 6MW6+PQ Batroun Batroun Lebanon;X-APPLE-RADIUS=500;X-TITLE=6MW6+PQ Batroun:geo:35.661930198875,34.246771332534
END:VEVENT
BEGIN:VEVENT
DTSTART;TZID=Asia/Beirut:20240223T213000
DTEND;TZID=Asia/Beirut:20240223T213000
DTSTAMP:20260420T122413
CREATED:20240220T135108Z
LAST-MODIFIED:20240220T135108Z
UID:10005899-1708723800-1708723800@gobatroun.com
SUMMARY:Magaly at Figo's
DESCRIPTION:For the first time at Figo’s Bar Batroun A fusion of rhythm and allure – ORIENTAL night with the amazing singer @magaly_abouabdo \n.\nFriday 23 Feb at 9:30 pm\nRsvp 70216908 ☎️\nCheers to the mystic melodies!
URL:https://gobatroun.com/event/magaly-at-figos/
LOCATION:Figo’s
CATEGORIES:Performing Arts
ATTACH;FMTTYPE=image/png:https://gobatroun.com/wp-content/uploads/2024/02/Magaly-at-Figos.png
END:VEVENT
BEGIN:VEVENT
DTSTART;TZID=Asia/Beirut:20240223T220000
DTEND;TZID=Asia/Beirut:20240223T220000
DTSTAMP:20260420T122413
CREATED:20240222T111222Z
LAST-MODIFIED:20240222T111648Z
UID:10005903-1708725600-1708725600@gobatroun.com
SUMMARY:Dj Ehub at Merchak بالسوق
DESCRIPTION:
URL:https://gobatroun.com/event/dj-ehub-at-merchak-bel-souk/
LOCATION:Merchak بالسوق
CATEGORIES:Performing Arts
ATTACH;FMTTYPE=image/png:https://gobatroun.com/wp-content/uploads/2024/02/Screenshot-3176.png
END:VEVENT
BEGIN:VEVENT
DTSTART;TZID=Asia/Beirut:20240223T223000
DTEND;TZID=Asia/Beirut:20240223T223000
DTSTAMP:20260420T122413
CREATED:20240208T115331Z
LAST-MODIFIED:20240320T083127Z
UID:10005848-1708727400-1708727400@gobatroun.com
SUMMARY:Al Hadshity at Leyl
DESCRIPTION:Don’t miss out on the Saturday night vibes with Al Hadshity at Léyl!
URL:https://gobatroun.com/event/al-hadshity-at-leyl-10/
LOCATION:Léyl
CATEGORIES:Performing Arts
ATTACH;FMTTYPE=image/webp:https://gobatroun.com/wp-content/uploads/2024/02/Al-Hadshity-March-23.webp
END:VEVENT
END:VCALENDAR