BEGIN:VCALENDAR
VERSION:2.0
PRODID:-//Go Batroun - ECPv6.14.2//NONSGML v1.0//EN
CALSCALE:GREGORIAN
METHOD:PUBLISH
X-ORIGINAL-URL:https://gobatroun.com
X-WR-CALDESC:Events for Go Batroun
REFRESH-INTERVAL;VALUE=DURATION:PT1H
X-Robots-Tag:noindex
X-PUBLISHED-TTL:PT1H
BEGIN:VTIMEZONE
TZID:Asia/Beirut
BEGIN:DAYLIGHT
TZOFFSETFROM:+0200
TZOFFSETTO:+0300
TZNAME:EEST
DTSTART:20240330T220000
END:DAYLIGHT
BEGIN:STANDARD
TZOFFSETFROM:+0300
TZOFFSETTO:+0200
TZNAME:EET
DTSTART:20241026T210000
END:STANDARD
END:VTIMEZONE
BEGIN:VEVENT
DTSTART;TZID=Asia/Beirut:20240217T100000
DTEND;TZID=Asia/Beirut:20240217T110000
DTSTAMP:20260423T075451
CREATED:20240212T143316Z
LAST-MODIFIED:20240212T143409Z
UID:10005861-1708164000-1708167600@gobatroun.com
SUMMARY:Dance class for children
DESCRIPTION:
URL:https://gobatroun.com/event/dance-class-for-children/
LOCATION:lebanese russian house batroun
CATEGORIES:Performing Arts
ATTACH;FMTTYPE=image/png:https://gobatroun.com/wp-content/uploads/2024/02/Screenshot-3127.png
END:VEVENT
BEGIN:VEVENT
DTSTART;TZID=Asia/Beirut:20240217T210000
DTEND;TZID=Asia/Beirut:20240217T210000
DTSTAMP:20260423T075451
CREATED:20240215T133905Z
LAST-MODIFIED:20240215T133905Z
UID:10005873-1708203600-1708203600@gobatroun.com
SUMMARY:Mel at Kori
DESCRIPTION:
URL:https://gobatroun.com/event/mel-at-kori-2/
LOCATION:KŌRI
CATEGORIES:Performing Arts
ATTACH;FMTTYPE=image/webp:https://gobatroun.com/wp-content/uploads/2024/02/Mel-at-Kori.webp
END:VEVENT
BEGIN:VEVENT
DTSTART;TZID=Asia/Beirut:20240217T210000
DTEND;TZID=Asia/Beirut:20240217T210000
DTSTAMP:20260423T075451
CREATED:20240215T134515Z
LAST-MODIFIED:20240215T134515Z
UID:10005874-1708203600-1708203600@gobatroun.com
SUMMARY:Dj Ohmar and Dj Julz at Hangloose
DESCRIPTION:SATURDAYS WE DANCE\nall night long with Ohmar on the decks and DJ Julz setting the dance floor on fire
URL:https://gobatroun.com/event/dj-ohmar-and-dj-julz-at-hangloose/
LOCATION:HANGLOOSE\, 6MW6+PQ Batroun\, Batroun\, Lebanon
CATEGORIES:Performing Arts
ATTACH;FMTTYPE=image/webp:https://gobatroun.com/wp-content/uploads/2024/02/Dj-Ohmar-and-Dj-Julz-at-Hangloose.webp
ORGANIZER;CN="HANGLOOSE":MAILTO:contact@info.com
GEO:34.246771332534;35.661930198875
X-APPLE-STRUCTURED-LOCATION;VALUE=URI;X-ADDRESS=HANGLOOSE 6MW6+PQ Batroun Batroun Lebanon;X-APPLE-RADIUS=500;X-TITLE=6MW6+PQ Batroun:geo:35.661930198875,34.246771332534
END:VEVENT
BEGIN:VEVENT
DTSTART;TZID=Asia/Beirut:20240217T210000
DTEND;TZID=Asia/Beirut:20240217T210000
DTSTAMP:20260423T075451
CREATED:20240215T135135Z
LAST-MODIFIED:20240215T135135Z
UID:10005876-1708203600-1708203600@gobatroun.com
SUMMARY:Beats Night Ft Dj Elio Dib at Lamella
DESCRIPTION:
URL:https://gobatroun.com/event/beats-night-ft-dj-elio-dib-at-lamella/
LOCATION:Lamella
CATEGORIES:Performing Arts
ATTACH;FMTTYPE=image/webp:https://gobatroun.com/wp-content/uploads/2024/02/Beats-Night-Ft-Dj-Elio-Dib-at-Lamella.webp
END:VEVENT
BEGIN:VEVENT
DTSTART;TZID=Asia/Beirut:20240217T213000
DTEND;TZID=Asia/Beirut:20240217T213000
DTSTAMP:20260423T075451
CREATED:20231213T134223Z
LAST-MODIFIED:20231213T134223Z
UID:10005503-1708205400-1708205400@gobatroun.com
SUMMARY:Fady Mahfoud and the band at Jet Set Batroun
DESCRIPTION:Enjoy Lebanese vibes every Saturday with Fady Mahfoud and the band!
URL:https://gobatroun.com/event/fady-mahfoud-and-the-band-at-jet-set-batroun-3/2024-02-17/
LOCATION:Jet set batroun
CATEGORIES:Performing Arts
ATTACH;FMTTYPE=image/png:https://gobatroun.com/wp-content/uploads/2023/12/Screenshot-2712.png
END:VEVENT
BEGIN:VEVENT
DTSTART;TZID=Asia/Beirut:20240217T220000
DTEND;TZID=Asia/Beirut:20240217T220000
DTSTAMP:20260423T075451
CREATED:20240215T135911Z
LAST-MODIFIED:20240215T135911Z
UID:10005878-1708207200-1708207200@gobatroun.com
SUMMARY:Dj Naso at Lamella
DESCRIPTION:
URL:https://gobatroun.com/event/dj-naso-at-lamella/
LOCATION:Lamella
CATEGORIES:Performing Arts
ATTACH;FMTTYPE=image/webp:https://gobatroun.com/wp-content/uploads/2024/02/Dj-Naso-at-Lamella-1.webp
END:VEVENT
BEGIN:VEVENT
DTSTART;TZID=Asia/Beirut:20240217T220000
DTEND;TZID=Asia/Beirut:20240217T233000
DTSTAMP:20260423T075451
CREATED:20240201T133953Z
LAST-MODIFIED:20240226T130948Z
UID:10005916-1708207200-1708212600@gobatroun.com
SUMMARY:Michel Najem at Casa Bar
DESCRIPTION:Book your Saturdays night out to the heart of Batroun!\nJoin us every Saturday with the best Michel Najem!
URL:https://gobatroun.com/event/michel-najem-at-casa-bar-14/2024-02-17/
LOCATION:Casa Bar
CATEGORIES:Performing Arts
ATTACH;FMTTYPE=image/png:https://gobatroun.com/wp-content/uploads/2024/02/Screenshot-3065.png
END:VEVENT
BEGIN:VEVENT
DTSTART;TZID=Asia/Beirut:20240217T223000
DTEND;TZID=Asia/Beirut:20240217T223000
DTSTAMP:20260423T075451
CREATED:20240215T132504Z
LAST-MODIFIED:20240215T132504Z
UID:10005871-1708209000-1708209000@gobatroun.com
SUMMARY:Al Faour at Tramway
DESCRIPTION:Did you hear?\nAl Faour will be performing live this Saturday at Tramway!\nGather your friends and join us for special vibes all through the night. \nRSVP: 03 514 101
URL:https://gobatroun.com/event/al-faour-at-tramway/
LOCATION:Tramway Gastro Pub\, 7M45+CQ Batroun\, Batroun\, Lebanon
CATEGORIES:Performing Arts
ATTACH;FMTTYPE=image/webp:https://gobatroun.com/wp-content/uploads/2024/02/Screenshot-3145.webp
END:VEVENT
BEGIN:VEVENT
DTSTART;TZID=Asia/Beirut:20240217T230000
DTEND;TZID=Asia/Beirut:20240217T230000
DTSTAMP:20260423T075451
CREATED:20240213T134736Z
LAST-MODIFIED:20240213T134736Z
UID:10005864-1708210800-1708210800@gobatroun.com
SUMMARY:Dj Bibb\, Mc-H\, Rush1\, and Mc Dre at Void
DESCRIPTION:Let’s make memories at VOID this Saturday Join the rhythm
URL:https://gobatroun.com/event/dj-bibb-mc-h-rush1-and-mc-dre-at-void/
LOCATION:Void Nightclub
CATEGORIES:Performing Arts
ATTACH;FMTTYPE=image/webp:https://gobatroun.com/wp-content/uploads/2024/02/Screenshot-3131.webp
END:VEVENT
END:VCALENDAR