BEGIN:VCALENDAR
VERSION:2.0
PRODID:-//Go Batroun - ECPv6.14.2//NONSGML v1.0//EN
CALSCALE:GREGORIAN
METHOD:PUBLISH
X-WR-CALNAME:Go Batroun
X-ORIGINAL-URL:https://gobatroun.com
X-WR-CALDESC:Events for Go Batroun
REFRESH-INTERVAL;VALUE=DURATION:PT1H
X-Robots-Tag:noindex
X-PUBLISHED-TTL:PT1H
BEGIN:VTIMEZONE
TZID:Asia/Beirut
BEGIN:DAYLIGHT
TZOFFSETFROM:+0200
TZOFFSETTO:+0300
TZNAME:EEST
DTSTART:20240330T220000
END:DAYLIGHT
BEGIN:STANDARD
TZOFFSETFROM:+0300
TZOFFSETTO:+0200
TZNAME:EET
DTSTART:20241026T210000
END:STANDARD
END:VTIMEZONE
BEGIN:VEVENT
DTSTART;TZID=Asia/Beirut:20240214T120000
DTEND;TZID=Asia/Beirut:20240214T233000
DTSTAMP:20260423T065335
CREATED:20240123T063625Z
LAST-MODIFIED:20240123T083608Z
UID:10005758-1707912000-1707953400@gobatroun.com
SUMMARY:Open Wings & Fries at Midnight Munchies
DESCRIPTION:Embrace the Messiness! 🍻🍗 Open Wings & Frieser Every Wednesday and Friday! \nJoin us for an unforgettable feast!\nReserve your spot on 79115 394
URL:https://gobatroun.com/event/open-wings-fries-at-midnight-munchies/2024-02-14/
LOCATION:MIDNIGHT MUNCHIES
CATEGORIES:Performing Arts
ATTACH;FMTTYPE=image/png:https://gobatroun.com/wp-content/uploads/2024/01/Screenshot-3000.png
END:VEVENT
BEGIN:VEVENT
DTSTART;TZID=Asia/Beirut:20240214T213000
DTEND;TZID=Asia/Beirut:20240214T213000
DTSTAMP:20260423T065335
CREATED:20240206T063336Z
LAST-MODIFIED:20240206T063336Z
UID:10005821-1707946200-1707946200@gobatroun.com
SUMMARY:Louis Safi at Bistr’eau
DESCRIPTION:Experience the ultimate romance this Valentine’s Day at Bistr’eau\, with the enchanting melodies of Louis Safi’s magical saxophone and warm voice creating a truly unforgettable ambiance. \nJoin us on Wednesday February 14\, for an evening filled with love\, exquisite cuisine\, and the soulful sounds that will make your heart sway. \nReserve your table now! 🌹🎷\n+961 71 222 151
URL:https://gobatroun.com/event/louis-safi-at-bistreau/
LOCATION:Bistr’eau\, 7M45+R6 Batroun\, Batroun\, Lebanon
CATEGORIES:Performing Arts
ATTACH;FMTTYPE=image/webp:https://gobatroun.com/wp-content/uploads/2024/02/Screenshot-3077.webp
GEO:34.257087531138;35.658026709096
X-APPLE-STRUCTURED-LOCATION;VALUE=URI;X-ADDRESS=Bistr’eau 7M45+R6 Batroun Batroun Lebanon;X-APPLE-RADIUS=500;X-TITLE=7M45+R6 Batroun:geo:35.658026709096,34.257087531138
END:VEVENT
END:VCALENDAR