BEGIN:VCALENDAR
VERSION:2.0
PRODID:-//Go Batroun - ECPv6.14.2//NONSGML v1.0//EN
CALSCALE:GREGORIAN
METHOD:PUBLISH
X-ORIGINAL-URL:https://gobatroun.com
X-WR-CALDESC:Events for Go Batroun
REFRESH-INTERVAL;VALUE=DURATION:PT1H
X-Robots-Tag:noindex
X-PUBLISHED-TTL:PT1H
BEGIN:VTIMEZONE
TZID:Asia/Beirut
BEGIN:DAYLIGHT
TZOFFSETFROM:+0200
TZOFFSETTO:+0300
TZNAME:EEST
DTSTART:20240330T220000
END:DAYLIGHT
BEGIN:STANDARD
TZOFFSETFROM:+0300
TZOFFSETTO:+0200
TZNAME:EET
DTSTART:20241026T210000
END:STANDARD
END:VTIMEZONE
BEGIN:VEVENT
DTSTART;TZID=Asia/Beirut:20240213T210000
DTEND;TZID=Asia/Beirut:20240213T210000
DTSTAMP:20260421T180730
CREATED:20240201T132242Z
LAST-MODIFIED:20240201T132242Z
UID:10005804-1707858000-1707858000@gobatroun.com
SUMMARY:Tony Najem at Tramway Batroun
DESCRIPTION:Looking for the perfect Valentine’s Day celebration? ❤️ \nJoin us at Tramway Batroun on February 13th for a romantic celebration with Tony Najem serenading us with the most beautiful love songs! ✨ \nFor reservations: 03 514 101
URL:https://gobatroun.com/event/tony-najem-at-tramway-batroun-18/
LOCATION:Tramway Gastro Pub\, 7M45+CQ Batroun\, Batroun\, Lebanon
CATEGORIES:Performing Arts
ATTACH;FMTTYPE=image/png:https://gobatroun.com/wp-content/uploads/2024/02/Screenshot-3059.png
END:VEVENT
BEGIN:VEVENT
DTSTART;TZID=Asia/Beirut:20240213T210000
DTEND;TZID=Asia/Beirut:20240213T210000
DTSTAMP:20260421T180730
CREATED:20240201T133448Z
LAST-MODIFIED:20240201T133448Z
UID:10005808-1707858000-1707858000@gobatroun.com
SUMMARY:Tony Attieh and DEAR EAR band at Kori
DESCRIPTION:A romantic Valentine’s Eve complemented by kōri’s exquisite dining experience \nTuesday\, February 13th \nFor more details\n📱79 118 887
URL:https://gobatroun.com/event/tony-attieh-and-dear-ear-band-at-kori/
LOCATION:KŌRI
CATEGORIES:Performing Arts
ATTACH;FMTTYPE=image/png:https://gobatroun.com/wp-content/uploads/2024/02/Screenshot-3063.png
END:VEVENT
BEGIN:VEVENT
DTSTART;TZID=Asia/Beirut:20240213T210000
DTEND;TZID=Asia/Beirut:20240213T210000
DTSTAMP:20260421T180730
CREATED:20240206T074406Z
LAST-MODIFIED:20240206T074406Z
UID:10005839-1707858000-1707858000@gobatroun.com
SUMMARY:Fidel and DJ Naso at  Omnia
DESCRIPTION:Valentine’s Celebration at OMNIA! 🌹 \nTuesday\, 13.02: Immerse yourself in enchanting performances by Fidel\, accompanied by DJ Naso. \nIndulge in a delightful set menu and an open premium bar. \nFor more info & reservations\, dial 811-OMNIA or 81 166 642.
URL:https://gobatroun.com/event/fidel-and-dj-naso-at-omnia/
LOCATION:Omnia bistro bar\, 7M45+GQ Batroun\, Batroun\, Lebanon
CATEGORIES:Performing Arts
ATTACH;FMTTYPE=image/webp:https://gobatroun.com/wp-content/uploads/2024/02/Screenshot-3088.webp
GEO:34.256282323463;35.65947578638
X-APPLE-STRUCTURED-LOCATION;VALUE=URI;X-ADDRESS=Omnia bistro bar 7M45+GQ Batroun Batroun Lebanon;X-APPLE-RADIUS=500;X-TITLE=7M45+GQ Batroun:geo:35.65947578638,34.256282323463
END:VEVENT
BEGIN:VEVENT
DTSTART;TZID=Asia/Beirut:20240213T210000
DTEND;TZID=Asia/Beirut:20240213T210000
DTSTAMP:20260421T180730
CREATED:20240208T064358Z
LAST-MODIFIED:20240208T064358Z
UID:10005845-1707858000-1707858000@gobatroun.com
SUMMARY:A Night for Love Song at Greenhouse
DESCRIPTION:
URL:https://gobatroun.com/event/a-night-for-love-song-at-greenhouse/
LOCATION:Green House Batroun
CATEGORIES:Performing Arts
ATTACH;FMTTYPE=image/webp:https://gobatroun.com/wp-content/uploads/2024/02/WhatsApp-Image-2024-02-07-at-20.12.12_902c3a4d.webp
END:VEVENT
BEGIN:VEVENT
DTSTART;TZID=Asia/Beirut:20240213T210000
DTEND;TZID=Asia/Beirut:20240213T210000
DTSTAMP:20260421T180730
CREATED:20240208T114902Z
LAST-MODIFIED:20240208T114902Z
UID:10005847-1707858000-1707858000@gobatroun.com
SUMMARY:Chady Aidamouny at Merchak بالسوق
DESCRIPTION:Experience the perfect blend of romance and beats at Merchak Bel Souk with @chadyaidamouny.official featuring DJ Hub this Valentine’s Day\, February 13th. Reserve now!
URL:https://gobatroun.com/event/chady-aidamouny-at-merchak-%d8%a8%d8%a7%d9%84%d8%b3%d9%88%d9%82-24/
LOCATION:Merchak بالسوق
CATEGORIES:Performing Arts
ATTACH;FMTTYPE=image/webp:https://gobatroun.com/wp-content/uploads/2024/02/Screenshot-3112.webp
END:VEVENT
BEGIN:VEVENT
DTSTART;TZID=Asia/Beirut:20240213T210000
DTEND;TZID=Asia/Beirut:20240213T210000
DTSTAMP:20260421T180730
CREATED:20240212T115155Z
LAST-MODIFIED:20240212T120006Z
UID:10005859-1707858000-1707858000@gobatroun.com
SUMMARY:Jeanpierre Bayssary at GreenHouse
DESCRIPTION:This Tuesday celebrate Valentine’s with a night of Love Songs mashup with @jeanpierre.bayssary starting at 9:00 pm\, special men \, romantic mood\, Cheese Fondue Savoyarde. Chimney and a lovely selection of love songs\n_________________________________\nBooking 70125310\n__________________________
URL:https://gobatroun.com/event/jeanpierre-bayssary-at-greenhouse/
LOCATION:Green House Batroun
CATEGORIES:Performing Arts
ATTACH;FMTTYPE=image/webp:https://gobatroun.com/wp-content/uploads/2024/02/Screenshot-3125.webp
END:VEVENT
BEGIN:VEVENT
DTSTART;TZID=Asia/Beirut:20240213T213000
DTEND;TZID=Asia/Beirut:20240213T213000
DTSTAMP:20260421T180730
CREATED:20240201T134859Z
LAST-MODIFIED:20240201T134859Z
UID:10005813-1707859800-1707859800@gobatroun.com
SUMMARY:Chebli and the Band at Al Midan
DESCRIPTION:Valentine’s Eve with Chebli and the Band at Al Midan 🥰
URL:https://gobatroun.com/event/chebli-and-the-band-at-al-midan/
LOCATION:Al Midan
CATEGORIES:Performing Arts
ATTACH;FMTTYPE=image/png:https://gobatroun.com/wp-content/uploads/2024/02/Screenshot-3068.png
END:VEVENT
BEGIN:VEVENT
DTSTART;TZID=Asia/Beirut:20240213T213000
DTEND;TZID=Asia/Beirut:20240213T213000
DTSTAMP:20260421T180730
CREATED:20240206T063656Z
LAST-MODIFIED:20240206T063656Z
UID:10005822-1707859800-1707859800@gobatroun.com
SUMMARY:Christelle & Philippe at Bistr’eau
DESCRIPTION:Celebrate your love on Tuesday February 13\, in an evening of love and exquisite dining at Bistr’eau restaurant with the delightful sounds of Christelle & Philippe. \nReserve your romantic night now! 🌹\n+961 71 222 151
URL:https://gobatroun.com/event/christelle-philippe-at-bistreau/
LOCATION:Bistr’eau\, 7M45+R6 Batroun\, Batroun\, Lebanon
CATEGORIES:Performing Arts
ATTACH;FMTTYPE=image/webp:https://gobatroun.com/wp-content/uploads/2024/02/Screenshot-3078.webp
GEO:34.257087531138;35.658026709096
X-APPLE-STRUCTURED-LOCATION;VALUE=URI;X-ADDRESS=Bistr’eau 7M45+R6 Batroun Batroun Lebanon;X-APPLE-RADIUS=500;X-TITLE=7M45+R6 Batroun:geo:35.658026709096,34.257087531138
END:VEVENT
BEGIN:VEVENT
DTSTART;TZID=Asia/Beirut:20240213T220000
DTEND;TZID=Asia/Beirut:20240213T220000
DTSTAMP:20260421T180730
CREATED:20240212T114042Z
LAST-MODIFIED:20240212T115054Z
UID:10005858-1707861600-1707861600@gobatroun.com
SUMMARY:Michel Najem at Casa Bar
DESCRIPTION:Celebrating love at #casabar\nJoin us on Tuesday 13 to enjoy an unforgettable #valentinesnight
URL:https://gobatroun.com/event/michel-najem-at-casa-bar-15/
LOCATION:Casa Bar
CATEGORIES:Performing Arts
ATTACH;FMTTYPE=image/webp:https://gobatroun.com/wp-content/uploads/2024/02/Screenshot-3124.webp
END:VEVENT
END:VCALENDAR