BEGIN:VCALENDAR
VERSION:2.0
PRODID:-//Go Batroun - ECPv6.14.2//NONSGML v1.0//EN
CALSCALE:GREGORIAN
METHOD:PUBLISH
X-ORIGINAL-URL:https://gobatroun.com
X-WR-CALDESC:Events for Go Batroun
REFRESH-INTERVAL;VALUE=DURATION:PT1H
X-Robots-Tag:noindex
X-PUBLISHED-TTL:PT1H
BEGIN:VTIMEZONE
TZID:Asia/Beirut
BEGIN:DAYLIGHT
TZOFFSETFROM:+0200
TZOFFSETTO:+0300
TZNAME:EEST
DTSTART:20240330T220000
END:DAYLIGHT
BEGIN:STANDARD
TZOFFSETFROM:+0300
TZOFFSETTO:+0200
TZNAME:EET
DTSTART:20241026T210000
END:STANDARD
END:VTIMEZONE
BEGIN:VEVENT
DTSTART;TZID=Asia/Beirut:20240211T073000
DTEND;TZID=Asia/Beirut:20240211T170000
DTSTAMP:20260421T080845
CREATED:20240206T065117Z
LAST-MODIFIED:20240206T065117Z
UID:10005824-1707636600-1707670800@gobatroun.com
SUMMARY:Trip to Faraya with A to Z trips
DESCRIPTION:A to Z trips\nTours Operation Agency\nBatroun\n03.137123
URL:https://gobatroun.com/event/trip-to-faraya-with-a-to-z-trips/
LOCATION:A to Z Trips
CATEGORIES:Performing Arts
ATTACH;FMTTYPE=image/webp:https://gobatroun.com/wp-content/uploads/2024/02/Screenshot-3080.webp
END:VEVENT
END:VCALENDAR