BEGIN:VCALENDAR
VERSION:2.0
PRODID:-//Go Batroun - ECPv6.14.2//NONSGML v1.0//EN
CALSCALE:GREGORIAN
METHOD:PUBLISH
X-ORIGINAL-URL:https://gobatroun.com
X-WR-CALDESC:Events for Go Batroun
REFRESH-INTERVAL;VALUE=DURATION:PT1H
X-Robots-Tag:noindex
X-PUBLISHED-TTL:PT1H
BEGIN:VTIMEZONE
TZID:Asia/Beirut
BEGIN:DAYLIGHT
TZOFFSETFROM:+0200
TZOFFSETTO:+0300
TZNAME:EEST
DTSTART:20240330T220000
END:DAYLIGHT
BEGIN:STANDARD
TZOFFSETFROM:+0300
TZOFFSETTO:+0200
TZNAME:EET
DTSTART:20241026T210000
END:STANDARD
END:VTIMEZONE
BEGIN:VEVENT
DTSTART;TZID=Asia/Beirut:20240201T080000
DTEND;TZID=Asia/Beirut:20240201T170000
DTSTAMP:20260421T223007
CREATED:20240115T111109Z
LAST-MODIFIED:20240115T111109Z
UID:10005715-1706774400-1706806800@gobatroun.com
SUMMARY:Card Play Tournament at Batroun Village Club
DESCRIPTION:Secure your spot for the ‘400’ Card Play Tournament at Batroun Village Club on February 1 & 2. Register now at 70/104333. Enjoy an unforgettable card-playing experience for just $20/person\, including dinner. See you at the tables!
URL:https://gobatroun.com/event/card-play-tournament-at-batroun-village-club/
LOCATION:Batroun Village Club
CATEGORIES:Performing Arts
ATTACH;FMTTYPE=image/png:https://gobatroun.com/wp-content/uploads/2024/01/Screenshot-2958.png
END:VEVENT
END:VCALENDAR