BEGIN:VCALENDAR
VERSION:2.0
PRODID:-//Go Batroun - ECPv6.14.2//NONSGML v1.0//EN
CALSCALE:GREGORIAN
METHOD:PUBLISH
X-WR-CALNAME:Go Batroun
X-ORIGINAL-URL:https://gobatroun.com
X-WR-CALDESC:Events for Go Batroun
REFRESH-INTERVAL;VALUE=DURATION:PT1H
X-Robots-Tag:noindex
X-PUBLISHED-TTL:PT1H
BEGIN:VTIMEZONE
TZID:Asia/Beirut
BEGIN:DAYLIGHT
TZOFFSETFROM:+0200
TZOFFSETTO:+0300
TZNAME:EEST
DTSTART:20240330T220000
END:DAYLIGHT
BEGIN:STANDARD
TZOFFSETFROM:+0300
TZOFFSETTO:+0200
TZNAME:EET
DTSTART:20241026T210000
END:STANDARD
END:VTIMEZONE
BEGIN:VEVENT
DTSTART;TZID=Asia/Beirut:20240130T200000
DTEND;TZID=Asia/Beirut:20240130T200000
DTSTAMP:20260423T083553
CREATED:20240129T131809Z
LAST-MODIFIED:20240129T131809Z
UID:10005789-1706644800-1706644800@gobatroun.com
SUMMARY:Batroun Vs Blat at Batroun Court
DESCRIPTION:
URL:https://gobatroun.com/event/batroun-vs-blat-at-batroun-court/
LOCATION:Batroun Court
CATEGORIES:Performing Arts
ATTACH;FMTTYPE=image/png:https://gobatroun.com/wp-content/uploads/2024/01/Screenshot-3034.png
END:VEVENT
END:VCALENDAR