BEGIN:VCALENDAR
VERSION:2.0
PRODID:-//Go Batroun - ECPv6.14.2//NONSGML v1.0//EN
CALSCALE:GREGORIAN
METHOD:PUBLISH
X-WR-CALNAME:Go Batroun
X-ORIGINAL-URL:https://gobatroun.com
X-WR-CALDESC:Events for Go Batroun
REFRESH-INTERVAL;VALUE=DURATION:PT1H
X-Robots-Tag:noindex
X-PUBLISHED-TTL:PT1H
BEGIN:VTIMEZONE
TZID:Asia/Beirut
BEGIN:DAYLIGHT
TZOFFSETFROM:+0200
TZOFFSETTO:+0300
TZNAME:EEST
DTSTART:20240330T220000
END:DAYLIGHT
BEGIN:STANDARD
TZOFFSETFROM:+0300
TZOFFSETTO:+0200
TZNAME:EET
DTSTART:20241026T210000
END:STANDARD
END:VTIMEZONE
BEGIN:VEVENT
DTSTART;TZID=Asia/Beirut:20240127T100000
DTEND;TZID=Asia/Beirut:20240127T160000
DTSTAMP:20260421T234210
CREATED:20240123T082030Z
LAST-MODIFIED:20240123T082030Z
UID:10005752-1706349600-1706371200@gobatroun.com
SUMMARY:الشط لكل الناس
DESCRIPTION:
URL:https://gobatroun.com/event/%d8%a7%d9%84%d8%b4%d8%b7-%d9%84%d9%83%d9%84-%d8%a7%d9%84%d9%86%d8%a7%d8%b3/
LOCATION:Batroun\, 6MX6+79V Batroun\, Batroun\, 1400\, Lebanon
CATEGORIES:Performing Arts
ATTACH;FMTTYPE=image/jpeg:https://gobatroun.com/wp-content/uploads/2024/01/WhatsApp-Image-2024-01-23-at-07.05.48_a532ec4b.jpg
GEO:34.248237811542;35.660916328184
X-APPLE-STRUCTURED-LOCATION;VALUE=URI;X-ADDRESS=Batroun 6MX6+79V Batroun Batroun 1400 Lebanon;X-APPLE-RADIUS=500;X-TITLE=6MX6+79V Batroun:geo:35.660916328184,34.248237811542
END:VEVENT
BEGIN:VEVENT
DTSTART;TZID=Asia/Beirut:20240127T210000
DTEND;TZID=Asia/Beirut:20240127T210000
DTSTAMP:20260421T234210
CREATED:20240125T112140Z
LAST-MODIFIED:20240125T112140Z
UID:10005777-1706389200-1706389200@gobatroun.com
SUMMARY:Mariam Mezher at Barrio
DESCRIPTION:The Return of a Fan Favorite! Mariam Mezher graces the stage again this Saturday at Barrio for a live performance. See you 💚 \nBand charge $8 \nFor reservations\, please call this number 👇🏼\n+961 70 211 299
URL:https://gobatroun.com/event/mariam-mezher-at-barrio-3/
LOCATION:Barrio67
CATEGORIES:Performing Arts
ATTACH;FMTTYPE=image/jpeg:https://gobatroun.com/wp-content/uploads/2024/01/WhatsApp-Image-2024-01-25-at-11.04.04_8ca97d96.jpg
END:VEVENT
BEGIN:VEVENT
DTSTART;TZID=Asia/Beirut:20240127T210000
DTEND;TZID=Asia/Beirut:20240127T210000
DTSTAMP:20260421T234210
CREATED:20240125T112741Z
LAST-MODIFIED:20240125T112741Z
UID:10005778-1706389200-1706389200@gobatroun.com
SUMMARY:Michel Boutros at Kori
DESCRIPTION:@michoboutros at @kori.leb\nSaturday\, January 27th\nRSVP: 79 118 887
URL:https://gobatroun.com/event/michel-boutros-at-kori/
LOCATION:KŌRI
CATEGORIES:Performing Arts
ATTACH;FMTTYPE=image/png:https://gobatroun.com/wp-content/uploads/2024/01/Screenshot-3022.png
END:VEVENT
BEGIN:VEVENT
DTSTART;TZID=Asia/Beirut:20240127T210000
DTEND;TZID=Asia/Beirut:20240127T210000
DTSTAMP:20260421T234210
CREATED:20240125T113211Z
LAST-MODIFIED:20240125T113211Z
UID:10005779-1706389200-1706389200@gobatroun.com
SUMMARY:Dj Sass and Dj Sams at Hangloose
DESCRIPTION:This Saturday\, Doubling the beats\, twice the vibes! 🎶\nJoin us 🤙🏼
URL:https://gobatroun.com/event/dj-sass-and-dj-sams-at-hangloose/
LOCATION:HANGLOOSE\, 6MW6+PQ Batroun\, Batroun\, Lebanon
CATEGORIES:Performing Arts
ATTACH;FMTTYPE=image/png:https://gobatroun.com/wp-content/uploads/2024/01/Screenshot-3023.png
ORGANIZER;CN="HANGLOOSE":MAILTO:contact@info.com
GEO:34.246771332534;35.661930198875
X-APPLE-STRUCTURED-LOCATION;VALUE=URI;X-ADDRESS=HANGLOOSE 6MW6+PQ Batroun Batroun Lebanon;X-APPLE-RADIUS=500;X-TITLE=6MW6+PQ Batroun:geo:35.661930198875,34.246771332534
END:VEVENT
BEGIN:VEVENT
DTSTART;TZID=Asia/Beirut:20240127T210000
DTEND;TZID=Asia/Beirut:20240127T210000
DTSTAMP:20260421T234210
CREATED:20240125T113621Z
LAST-MODIFIED:20240125T113621Z
UID:10005780-1706389200-1706389200@gobatroun.com
SUMMARY:Nour Nimri and Bernard Najm at Parazar
DESCRIPTION:Live Performance by @nour_nimri & @bernard_najm\n*Saturday 27 Jan*\nFor info & Reservation ☎️ 76532692
URL:https://gobatroun.com/event/nour-nimri-and-bernard-najm-at-parazar-3/
LOCATION:Parazar Bistro & Cocktail Bar
CATEGORIES:Performing Arts
ATTACH;FMTTYPE=image/png:https://gobatroun.com/wp-content/uploads/2024/01/Screenshot-3024.png
END:VEVENT
BEGIN:VEVENT
DTSTART;TZID=Asia/Beirut:20240127T213000
DTEND;TZID=Asia/Beirut:20240127T213000
DTSTAMP:20260421T234210
CREATED:20231213T134223Z
LAST-MODIFIED:20231213T134223Z
UID:10005500-1706391000-1706391000@gobatroun.com
SUMMARY:Fady Mahfoud and the band at Jet Set Batroun
DESCRIPTION:Enjoy Lebanese vibes every Saturday with Fady Mahfoud and the band!
URL:https://gobatroun.com/event/fady-mahfoud-and-the-band-at-jet-set-batroun-3/2024-01-27/
LOCATION:Jet set batroun
CATEGORIES:Performing Arts
ATTACH;FMTTYPE=image/png:https://gobatroun.com/wp-content/uploads/2023/12/Screenshot-2712.png
END:VEVENT
BEGIN:VEVENT
DTSTART;TZID=Asia/Beirut:20240127T213000
DTEND;TZID=Asia/Beirut:20240127T213000
DTSTAMP:20260421T234210
CREATED:20240125T063505Z
LAST-MODIFIED:20240125T063505Z
UID:10005774-1706391000-1706391000@gobatroun.com
SUMMARY:DJ Gio\, Santa Georgia and Ghinwa at Omnia
DESCRIPTION:Exciting Saturday vibes with DJ Gio\, Santa Georgia and Ghinwa ! ✨ \nJoin us for a stellar experience! \nFor more info & reservations\, contact 81 166 642
URL:https://gobatroun.com/event/dj-gio-santa-georgia-and-ghinwa-at-omnia/
LOCATION:Omnia bistro bar\, 7M45+GQ Batroun\, Batroun\, Lebanon
CATEGORIES:Performing Arts
ATTACH;FMTTYPE=image/png:https://gobatroun.com/wp-content/uploads/2024/01/Screenshot-3017.png
GEO:34.256282323463;35.65947578638
X-APPLE-STRUCTURED-LOCATION;VALUE=URI;X-ADDRESS=Omnia bistro bar 7M45+GQ Batroun Batroun Lebanon;X-APPLE-RADIUS=500;X-TITLE=7M45+GQ Batroun:geo:35.65947578638,34.256282323463
END:VEVENT
BEGIN:VEVENT
DTSTART;TZID=Asia/Beirut:20240127T213000
DTEND;TZID=Asia/Beirut:20240127T213000
DTSTAMP:20260421T234210
CREATED:20240125T111719Z
LAST-MODIFIED:20240125T111719Z
UID:10005776-1706391000-1706391000@gobatroun.com
SUMMARY:Chadi Al Saghir and DJ Tiger at Tramway
DESCRIPTION:Chadi Al Saghir and DJ Tiger are hitting Tramway’s stage this Saturday for a night unlike any other! 🥂 \nGather your friends and meet us at your favorite spot in Batroun Old Souks. \nRSVP: 03 514 101
URL:https://gobatroun.com/event/chadi-al-saghir-and-dj-tiger-at-tramway/
LOCATION:Tramway Gastro Pub\, 7M45+CQ Batroun\, Batroun\, Lebanon
CATEGORIES:Performing Arts
ATTACH;FMTTYPE=image/png:https://gobatroun.com/wp-content/uploads/2024/01/Screenshot-3019.png
END:VEVENT
BEGIN:VEVENT
DTSTART;TZID=Asia/Beirut:20240127T213000
DTEND;TZID=Asia/Beirut:20240127T213000
DTSTAMP:20260421T234210
CREATED:20240125T114136Z
LAST-MODIFIED:20240125T114136Z
UID:10005781-1706391000-1706391000@gobatroun.com
SUMMARY:Sergi at Lamella
DESCRIPTION:
URL:https://gobatroun.com/event/sergi-at-lamella/
LOCATION:Lamella
CATEGORIES:Performing Arts
ATTACH;FMTTYPE=image/png:https://gobatroun.com/wp-content/uploads/2024/01/Screenshot-3025.png
END:VEVENT
BEGIN:VEVENT
DTSTART;TZID=Asia/Beirut:20240127T220000
DTEND;TZID=Asia/Beirut:20240127T220000
DTSTAMP:20260421T234210
CREATED:20231212T081354Z
LAST-MODIFIED:20231212T081354Z
UID:10005407-1706392800-1706392800@gobatroun.com
SUMMARY:Borhan shaar at TAIGA BATROUN CLUB
DESCRIPTION:TaiGa Batroun\nEvery Saturday Night\n#Borhan on Stage #DjRalph\n#TaiGa #Batroun #Lebanon\n#Reserve On 00961 3499408
URL:https://gobatroun.com/event/borhan-shaar-at-taiga-batroun-club-19/2024-01-27/
LOCATION:La Taiga Resort Batroun\, 6MC3+CP Kfar Aabida\, Batroun\, Lebanon
CATEGORIES:Performing Arts
ATTACH;FMTTYPE=image/png:https://gobatroun.com/wp-content/uploads/2023/07/Screenshot-904.png
GEO:34.221113189181;35.654292376004
X-APPLE-STRUCTURED-LOCATION;VALUE=URI;X-ADDRESS=La Taiga Resort Batroun 6MC3+CP Kfar Aabida Batroun Lebanon;X-APPLE-RADIUS=500;X-TITLE=6MC3+CP Kfar Aabida:geo:35.654292376004,34.221113189181
END:VEVENT
BEGIN:VEVENT
DTSTART;TZID=Asia/Beirut:20240127T220000
DTEND;TZID=Asia/Beirut:20240127T220000
DTSTAMP:20260421T234210
CREATED:20240123T101934Z
LAST-MODIFIED:20240123T101956Z
UID:10005764-1706392800-1706392800@gobatroun.com
SUMMARY:Dj Zayn\, Kayy and Mc-H at Void
DESCRIPTION:Join the rhythm with @_djzayn\, @dj.kayy\, and @harout_hd this Saturday at VOID!
URL:https://gobatroun.com/event/dj-zayn-kayy-and-mc-h-at-void/
LOCATION:Void Nightclub
CATEGORIES:Performing Arts
ATTACH;FMTTYPE=image/png:https://gobatroun.com/wp-content/uploads/2024/01/Screenshot-3007-1.png
END:VEVENT
BEGIN:VEVENT
DTSTART;TZID=Asia/Beirut:20240127T220000
DTEND;TZID=Asia/Beirut:20240127T220000
DTSTAMP:20260421T234210
CREATED:20240123T102856Z
LAST-MODIFIED:20240123T102856Z
UID:10005766-1706392800-1706392800@gobatroun.com
SUMMARY:Jean Pierre Kassis at Seven Night Club
DESCRIPTION:
URL:https://gobatroun.com/event/jean-pierre-kassis-at-seven-night-club/
LOCATION:Seven Night Club
CATEGORIES:Performing Arts
ATTACH;FMTTYPE=image/png:https://gobatroun.com/wp-content/uploads/2024/01/Screenshot-3009.png
END:VEVENT
BEGIN:VEVENT
DTSTART;TZID=Asia/Beirut:20240127T220000
DTEND;TZID=Asia/Beirut:20240127T220000
DTSTAMP:20260421T234210
CREATED:20240123T105244Z
LAST-MODIFIED:20240123T105244Z
UID:10005768-1706392800-1706392800@gobatroun.com
SUMMARY:Michel Najem at Casa Bar
DESCRIPTION:Book your Saturdays night out to the heart of Batroun!\nJoin us every Saturday with the best Michel Najem!
URL:https://gobatroun.com/event/michel-najem-at-casa-bar-11/
LOCATION:Casa Bar
CATEGORIES:Performing Arts
ATTACH;FMTTYPE=image/png:https://gobatroun.com/wp-content/uploads/2024/01/Screenshot-3011.png
END:VEVENT
BEGIN:VEVENT
DTSTART;TZID=Asia/Beirut:20240127T220000
DTEND;TZID=Asia/Beirut:20240127T220000
DTSTAMP:20260421T234210
CREATED:20240125T115811Z
LAST-MODIFIED:20240125T115811Z
UID:10005785-1706392800-1706392800@gobatroun.com
SUMMARY:Dj Ralph at B1 Batroun
DESCRIPTION:
URL:https://gobatroun.com/event/dj-ralph-at-b1-batroun-9/
LOCATION:B1 Batroun
CATEGORIES:Performing Arts
ATTACH;FMTTYPE=image/png:https://gobatroun.com/wp-content/uploads/2024/01/Screenshot-3028.png
END:VEVENT
END:VCALENDAR