BEGIN:VCALENDAR
VERSION:2.0
PRODID:-//Go Batroun - ECPv6.14.2//NONSGML v1.0//EN
CALSCALE:GREGORIAN
METHOD:PUBLISH
X-WR-CALNAME:Go Batroun
X-ORIGINAL-URL:https://gobatroun.com
X-WR-CALDESC:Events for Go Batroun
REFRESH-INTERVAL;VALUE=DURATION:PT1H
X-Robots-Tag:noindex
X-PUBLISHED-TTL:PT1H
BEGIN:VTIMEZONE
TZID:Asia/Beirut
BEGIN:DAYLIGHT
TZOFFSETFROM:+0200
TZOFFSETTO:+0300
TZNAME:EEST
DTSTART:20240330T220000
END:DAYLIGHT
BEGIN:STANDARD
TZOFFSETFROM:+0300
TZOFFSETTO:+0200
TZNAME:EET
DTSTART:20241026T210000
END:STANDARD
END:VTIMEZONE
BEGIN:VEVENT
DTSTART;TZID=Asia/Beirut:20240126T120000
DTEND;TZID=Asia/Beirut:20240126T233000
DTSTAMP:20260421T234213
CREATED:20240123T063625Z
LAST-MODIFIED:20240123T083608Z
UID:10005753-1706270400-1706311800@gobatroun.com
SUMMARY:Open Wings & Fries at Midnight Munchies
DESCRIPTION:Embrace the Messiness! 🍻🍗 Open Wings & Frieser Every Wednesday and Friday! \nJoin us for an unforgettable feast!\nReserve your spot on 79115 394
URL:https://gobatroun.com/event/open-wings-fries-at-midnight-munchies/2024-01-26/
LOCATION:MIDNIGHT MUNCHIES
CATEGORIES:Performing Arts
ATTACH;FMTTYPE=image/png:https://gobatroun.com/wp-content/uploads/2024/01/Screenshot-3000.png
END:VEVENT
BEGIN:VEVENT
DTSTART;TZID=Asia/Beirut:20240126T210000
DTEND;TZID=Asia/Beirut:20240126T210000
DTSTAMP:20260421T234213
CREATED:20240122T113544Z
LAST-MODIFIED:20240122T113544Z
UID:10005749-1706302800-1706302800@gobatroun.com
SUMMARY:Bluesician and Friends at Hangloose
DESCRIPTION:Get ready for a night filled with blues and chills with @elias_bluesician & friends this Friday night at 9 PM
URL:https://gobatroun.com/event/bluesician-and-friends-at-hangloose/
LOCATION:HANGLOOSE\, 6MW6+PQ Batroun\, Batroun\, Lebanon
CATEGORIES:Performing Arts
ATTACH;FMTTYPE=image/png:https://gobatroun.com/wp-content/uploads/2024/01/Screenshot-2997.png
ORGANIZER;CN="HANGLOOSE":MAILTO:contact@info.com
GEO:34.246771332534;35.661930198875
X-APPLE-STRUCTURED-LOCATION;VALUE=URI;X-ADDRESS=HANGLOOSE 6MW6+PQ Batroun Batroun Lebanon;X-APPLE-RADIUS=500;X-TITLE=6MW6+PQ Batroun:geo:35.661930198875,34.246771332534
END:VEVENT
BEGIN:VEVENT
DTSTART;TZID=Asia/Beirut:20240126T210000
DTEND;TZID=Asia/Beirut:20240126T210000
DTSTAMP:20260421T234213
CREATED:20240123T100120Z
LAST-MODIFIED:20240123T100120Z
UID:10005762-1706302800-1706302800@gobatroun.com
SUMMARY:Ingrid Naccour at Kori
DESCRIPTION:@ingridnaccour at @kori.leb\nSounds by @marc_ghattas\nFriday\, January 26th\nRSVP:79 118 887
URL:https://gobatroun.com/event/ingrid-naccour-at-kori/
LOCATION:KŌRI
CATEGORIES:Performing Arts
ATTACH;FMTTYPE=image/png:https://gobatroun.com/wp-content/uploads/2024/01/Screenshot-3006.png
END:VEVENT
BEGIN:VEVENT
DTSTART;TZID=Asia/Beirut:20240126T210000
DTEND;TZID=Asia/Beirut:20240126T210000
DTSTAMP:20260421T234213
CREATED:20240123T102645Z
LAST-MODIFIED:20240123T102645Z
UID:10005765-1706302800-1706302800@gobatroun.com
SUMMARY:Georges Zayout and Rabih Mahdy at Seven Night Club
DESCRIPTION:
URL:https://gobatroun.com/event/georges-zayout-and-rabih-mahdy-at-seven-night-club/
LOCATION:Seven Night Club
CATEGORIES:Performing Arts
ATTACH;FMTTYPE=image/png:https://gobatroun.com/wp-content/uploads/2024/01/Screenshot-3008.png
END:VEVENT
BEGIN:VEVENT
DTSTART;TZID=Asia/Beirut:20240126T210000
DTEND;TZID=Asia/Beirut:20240126T210000
DTSTAMP:20260421T234213
CREATED:20240123T110037Z
LAST-MODIFIED:20240123T110037Z
UID:10005769-1706302800-1706302800@gobatroun.com
SUMMARY:Tony Attieh and Dear Ear Band at Parazar
DESCRIPTION:
URL:https://gobatroun.com/event/tony-attieh-and-dear-ear-band-at-parazar-3/
LOCATION:Parazar Bistro & Cocktail Bar
CATEGORIES:Performing Arts
ATTACH;FMTTYPE=image/png:https://gobatroun.com/wp-content/uploads/2024/01/Screenshot-3012.png
END:VEVENT
BEGIN:VEVENT
DTSTART;TZID=Asia/Beirut:20240126T213000
DTEND;TZID=Asia/Beirut:20240126T213000
DTSTAMP:20260421T234213
CREATED:20240125T063338Z
LAST-MODIFIED:20240125T063338Z
UID:10005773-1706304600-1706304600@gobatroun.com
SUMMARY:DJ Joe Hannoun and Ghinwa at Omnia
DESCRIPTION:Exciting Friday vibes with DJ Joe Hannoun and Ghinwa ! ✨ \nJoin us for a stellar experience! \nFor more info & reservations\, contact 81 166 642
URL:https://gobatroun.com/event/dj-joe-hannoun-and-ghinwa-at-omnia/
LOCATION:Omnia bistro bar\, 7M45+GQ Batroun\, Batroun\, Lebanon
CATEGORIES:Performing Arts
ATTACH;FMTTYPE=image/png:https://gobatroun.com/wp-content/uploads/2024/01/Screenshot-3016.png
GEO:34.256282323463;35.65947578638
X-APPLE-STRUCTURED-LOCATION;VALUE=URI;X-ADDRESS=Omnia bistro bar 7M45+GQ Batroun Batroun Lebanon;X-APPLE-RADIUS=500;X-TITLE=7M45+GQ Batroun:geo:35.65947578638,34.256282323463
END:VEVENT
BEGIN:VEVENT
DTSTART;TZID=Asia/Beirut:20240126T213000
DTEND;TZID=Asia/Beirut:20240126T213000
DTSTAMP:20260421T234213
CREATED:20240125T114245Z
LAST-MODIFIED:20240125T114245Z
UID:10005782-1706304600-1706304600@gobatroun.com
SUMMARY:Danton at Lamella
DESCRIPTION:
URL:https://gobatroun.com/event/danton-at-lamella-7/
LOCATION:Lamella
CATEGORIES:Performing Arts
ATTACH;FMTTYPE=image/png:https://gobatroun.com/wp-content/uploads/2024/01/Screenshot-3026.png
END:VEVENT
BEGIN:VEVENT
DTSTART;TZID=Asia/Beirut:20240126T220000
DTEND;TZID=Asia/Beirut:20240126T220000
DTSTAMP:20260421T234213
CREATED:20240123T100332Z
LAST-MODIFIED:20240123T100332Z
UID:10005763-1706306400-1706306400@gobatroun.com
SUMMARY:Tony Najem at Tramway
DESCRIPTION:
URL:https://gobatroun.com/event/tony-najem-at-tramway-5/
LOCATION:Tramway Gastro Pub\, 7M45+CQ Batroun\, Batroun\, Lebanon
CATEGORIES:Performing Arts
ATTACH;FMTTYPE=image/png:https://gobatroun.com/wp-content/uploads/2023/10/Screenshot-2273.png
END:VEVENT
BEGIN:VEVENT
DTSTART;TZID=Asia/Beirut:20240126T220000
DTEND;TZID=Asia/Beirut:20240126T220000
DTSTAMP:20260421T234213
CREATED:20240123T110730Z
LAST-MODIFIED:20240123T110730Z
UID:10005770-1706306400-1706306400@gobatroun.com
SUMMARY:Rashid al Najjar at Al Midan
DESCRIPTION:
URL:https://gobatroun.com/event/rashid-al-najjar-at-al-midan-2/
LOCATION:Al Midan
CATEGORIES:Performing Arts
ATTACH;FMTTYPE=image/png:https://gobatroun.com/wp-content/uploads/2024/01/Screenshot-3013.png
END:VEVENT
BEGIN:VEVENT
DTSTART;TZID=Asia/Beirut:20240126T220000
DTEND;TZID=Asia/Beirut:20240126T220000
DTSTAMP:20260421T234213
CREATED:20240125T114629Z
LAST-MODIFIED:20240125T114629Z
UID:10005783-1706306400-1706306400@gobatroun.com
SUMMARY:Dj Spooky at Jet Set
DESCRIPTION:
URL:https://gobatroun.com/event/dj-spooky-at-jet-set-2/
LOCATION:Jet set batroun
CATEGORIES:Performing Arts
ATTACH;FMTTYPE=image/png:https://gobatroun.com/wp-content/uploads/2024/01/Screenshot-3027.png
END:VEVENT
BEGIN:VEVENT
DTSTART;TZID=Asia/Beirut:20240126T220000
DTEND;TZID=Asia/Beirut:20240126T220000
DTSTAMP:20260421T234213
CREATED:20240125T115455Z
LAST-MODIFIED:20240125T115455Z
UID:10005784-1706306400-1706306400@gobatroun.com
SUMMARY:Dj T-Mak and Dj Gio at B1 Batroun
DESCRIPTION:
URL:https://gobatroun.com/event/dj-t-mak-and-dj-gio-at-b1-batroun/
LOCATION:B1 Batroun
CATEGORIES:Performing Arts
ATTACH;FMTTYPE=image/png:https://gobatroun.com/wp-content/uploads/2024/01/Screenshot-3028.png
END:VEVENT
END:VCALENDAR