BEGIN:VCALENDAR
VERSION:2.0
PRODID:-//Go Batroun - ECPv6.14.2//NONSGML v1.0//EN
CALSCALE:GREGORIAN
METHOD:PUBLISH
X-WR-CALNAME:Go Batroun
X-ORIGINAL-URL:https://gobatroun.com
X-WR-CALDESC:Events for Go Batroun
REFRESH-INTERVAL;VALUE=DURATION:PT1H
X-Robots-Tag:noindex
X-PUBLISHED-TTL:PT1H
BEGIN:VTIMEZONE
TZID:Asia/Beirut
BEGIN:DAYLIGHT
TZOFFSETFROM:+0200
TZOFFSETTO:+0300
TZNAME:EEST
DTSTART:20240330T220000
END:DAYLIGHT
BEGIN:STANDARD
TZOFFSETFROM:+0300
TZOFFSETTO:+0200
TZNAME:EET
DTSTART:20241026T210000
END:STANDARD
END:VTIMEZONE
BEGIN:VEVENT
DTSTART;TZID=Asia/Beirut:20240107T090000
DTEND;TZID=Asia/Beirut:20240107T143000
DTSTAMP:20260423T083550
CREATED:20240103T074659Z
LAST-MODIFIED:20240103T074659Z
UID:10005657-1704618000-1704637800@gobatroun.com
SUMMARY:Barria Biodiversity Workshop
DESCRIPTION:
URL:https://gobatroun.com/event/barria-biodiversity-workshop/
LOCATION:Mrah El Ziat
CATEGORIES:Performing Arts
ATTACH;FMTTYPE=image/jpeg:https://gobatroun.com/wp-content/uploads/2024/01/WhatsApp-Image-2023-12-30-at-17.51.41_e61276fb.jpg
END:VEVENT
BEGIN:VEVENT
DTSTART;TZID=Asia/Beirut:20240107T090000
DTEND;TZID=Asia/Beirut:20240107T170000
DTSTAMP:20260423T083550
CREATED:20231215T115059Z
LAST-MODIFIED:20231215T115059Z
UID:10005529-1704618000-1704646800@gobatroun.com
SUMMARY:Streetball Tournament
DESCRIPTION:Back at it again with another one of our iconic streetball tournaments on the 7th of January!\n🏀🏀🏀🏀🏀🏀🏀🏀 🏀🏀🏀🏀🏀🏀🏀\nGather your best teammates and meet us at CJS Batroun with high expectations!☄️\nWe’ll be waiting for you with many prizes (cash\, vouchers\, trophies) and many more surprises🤩 ⛹️\nSign your teams up ASAP and show us what you got.\nHoping to see you there!
URL:https://gobatroun.com/event/streetball-tournament/
LOCATION:Club Jeunesse Sportif Batroun\, 7M68+QCX\, Batroun\, Batroun\, Lebanon
CATEGORIES:Sports
ATTACH;FMTTYPE=image/png:https://gobatroun.com/wp-content/uploads/2023/12/Screenshot-2745.png
GEO:34.261999867948;35.66615409094
X-APPLE-STRUCTURED-LOCATION;VALUE=URI;X-ADDRESS=Club Jeunesse Sportif Batroun 7M68+QCX Batroun Batroun Lebanon;X-APPLE-RADIUS=500;X-TITLE=7M68+QCX\, Batroun:geo:35.66615409094,34.261999867948
END:VEVENT
BEGIN:VEVENT
DTSTART;TZID=Asia/Beirut:20240107T130000
DTEND;TZID=Asia/Beirut:20240107T170000
DTSTAMP:20260423T083550
CREATED:20240103T074047Z
LAST-MODIFIED:20240103T074047Z
UID:10005656-1704632400-1704646800@gobatroun.com
SUMMARY:Epiphany Lunch at Batroun Village Club
DESCRIPTION:Join us for a festive Epiphany celebration this Sunday at Batroun Village Club! Indulge in the mouthwatering open buffet featuring delicious treats\, including the traditional galette des rois with plenty of surprises. Kids will enjoy special entertainment\, making it a delightful event for the whole family!
URL:https://gobatroun.com/event/epiphany-lunch-at-batroun-village-club/
LOCATION:Batroun Village Club
CATEGORIES:Performing Arts
ATTACH;FMTTYPE=image/png:https://gobatroun.com/wp-content/uploads/2024/01/Screenshot-2878.png
END:VEVENT
BEGIN:VEVENT
DTSTART;TZID=Asia/Beirut:20240107T213000
DTEND;TZID=Asia/Beirut:20240107T213000
DTSTAMP:20260423T083550
CREATED:20240103T064007Z
LAST-MODIFIED:20240103T064007Z
UID:10005646-1704663000-1704663000@gobatroun.com
SUMMARY:House Music at Cheers
DESCRIPTION:
URL:https://gobatroun.com/event/house-music-at-cheers/
LOCATION:Cheers
CATEGORIES:Performing Arts
ATTACH;FMTTYPE=image/png:https://gobatroun.com/wp-content/uploads/2024/01/Screenshot-2869.png
END:VEVENT
END:VCALENDAR