BEGIN:VCALENDAR
VERSION:2.0
PRODID:-//Go Batroun - ECPv6.14.2//NONSGML v1.0//EN
CALSCALE:GREGORIAN
METHOD:PUBLISH
X-WR-CALNAME:Go Batroun
X-ORIGINAL-URL:https://gobatroun.com
X-WR-CALDESC:Events for Go Batroun
REFRESH-INTERVAL;VALUE=DURATION:PT1H
X-Robots-Tag:noindex
X-PUBLISHED-TTL:PT1H
BEGIN:VTIMEZONE
TZID:Asia/Beirut
BEGIN:DAYLIGHT
TZOFFSETFROM:+0200
TZOFFSETTO:+0300
TZNAME:EEST
DTSTART:20230325T220000
END:DAYLIGHT
BEGIN:STANDARD
TZOFFSETFROM:+0300
TZOFFSETTO:+0200
TZNAME:EET
DTSTART:20231028T210000
END:STANDARD
END:VTIMEZONE
BEGIN:VEVENT
DTSTART;TZID=Asia/Beirut:20231226T080000
DTEND;TZID=Asia/Beirut:20231226T170000
DTSTAMP:20260424T120359
CREATED:20231206T113701Z
LAST-MODIFIED:20231206T113701Z
UID:10005367-1703577600-1703610000@gobatroun.com
SUMMARY:Dream Ville's annual Christmas camp
DESCRIPTION:Dream Ville’s annual Christmas camp is here again 🎄 ☃️\nJoin us for 8 exceptional days :\nDec 26\,27\,28\,29\nAnd Jan 2\,3\,4\,5\nFrom 8 am till 2 pm\nToo much surprises are waiting for you !!\nFor reservations: 70/224987 or 70/146349
URL:https://gobatroun.com/event/dream-villes-annual-christmas-camp/
LOCATION:Dream Ville
CATEGORIES:Performing Arts|Sports
ATTACH;FMTTYPE=image/png:https://gobatroun.com/wp-content/uploads/2023/12/Screenshot-2656.png
END:VEVENT
BEGIN:VEVENT
DTSTART;TZID=Asia/Beirut:20231226T180000
DTEND;TZID=Asia/Beirut:20231226T230000
DTSTAMP:20260424T120359
CREATED:20231128T130326Z
LAST-MODIFIED:20231129T103741Z
UID:10005279-1703613600-1703631600@gobatroun.com
SUMMARY:Christmas Parade
DESCRIPTION:Batroun Capital De Noel!! 🎄 🎅🏼 \nFree Entrance and all the events are free of charge.
URL:https://gobatroun.com/event/christmas-parade-4/
LOCATION:Batroun\, 6MX6+79V Batroun\, Batroun\, 1400\, Lebanon
CATEGORIES:Festivals,Performing Arts
ATTACH;FMTTYPE=image/png:https://gobatroun.com/wp-content/uploads/2023/10/Screenshot-2572.png
GEO:34.248237811542;35.660916328184
X-APPLE-STRUCTURED-LOCATION;VALUE=URI;X-ADDRESS=Batroun 6MX6+79V Batroun Batroun 1400 Lebanon;X-APPLE-RADIUS=500;X-TITLE=6MX6+79V Batroun:geo:35.660916328184,34.248237811542
END:VEVENT
BEGIN:VEVENT
DTSTART;TZID=Asia/Beirut:20231226T213000
DTEND;TZID=Asia/Beirut:20231226T213000
DTSTAMP:20260424T120359
CREATED:20231221T130653Z
LAST-MODIFIED:20231226T140347Z
UID:10005610-1703626200-1703626200@gobatroun.com
SUMMARY:Marc Ghattas at Kori
DESCRIPTION:@marc_ghattas at @kori.leb\nTuesday\, December 26th\nRSVP: 79 118 887
URL:https://gobatroun.com/event/marc-at-kori/
LOCATION:KŌRI
CATEGORIES:Performing Arts
ATTACH;FMTTYPE=image/png:https://gobatroun.com/wp-content/uploads/2023/12/Screenshot-2836.png
END:VEVENT
BEGIN:VEVENT
DTSTART;TZID=Asia/Beirut:20231226T220000
DTEND;TZID=Asia/Beirut:20231226T220000
DTSTAMP:20260424T120359
CREATED:20231213T075933Z
LAST-MODIFIED:20231213T081036Z
UID:10005468-1703628000-1703628000@gobatroun.com
SUMMARY:DJ Jony at Merchak بالسوق
DESCRIPTION:Ring in the New Year with Chady Aidamouny and the electrifying beats of DJ Ehub! 🎉✨ Secure your spot now for a night of unforgettable celebrations.
URL:https://gobatroun.com/event/dj-jony-at-merchak-%d8%a8%d8%a7%d9%84%d8%b3%d9%88%d9%82/2023-12-26/
LOCATION:Merchak بالسوق
CATEGORIES:Performing Arts
ATTACH;FMTTYPE=image/png:https://gobatroun.com/wp-content/uploads/2023/12/Screenshot-2705-1.png
END:VEVENT
BEGIN:VEVENT
DTSTART;TZID=Asia/Beirut:20231226T220000
DTEND;TZID=Asia/Beirut:20231226T220000
DTSTAMP:20260424T120359
CREATED:20231213T084613Z
LAST-MODIFIED:20231226T134921Z
UID:10005480-1703628000-1703628000@gobatroun.com
SUMMARY:Mario Karam  at Leyl
DESCRIPTION:Mario Karam takes the spotlight at LÉYL on Tuesday 26th! Join us
URL:https://gobatroun.com/event/mario-karam-at-leyl/
LOCATION:Léyl
CATEGORIES:Performing Arts
ATTACH;FMTTYPE=image/png:https://gobatroun.com/wp-content/uploads/2023/12/Screenshot-2829.png
END:VEVENT
BEGIN:VEVENT
DTSTART;TZID=Asia/Beirut:20231226T220000
DTEND;TZID=Asia/Beirut:20231226T220000
DTSTAMP:20260424T120359
CREATED:20231220T094652Z
LAST-MODIFIED:20231220T094652Z
UID:10005584-1703628000-1703628000@gobatroun.com
SUMMARY:Dj Spooky at Jet Set Batroun
DESCRIPTION:
URL:https://gobatroun.com/event/dj-spooky-at-jet-set-batroun-2/2023-12-26/
LOCATION:Jet set batroun
CATEGORIES:Performing Arts
ATTACH;FMTTYPE=image/png:https://gobatroun.com/wp-content/uploads/2023/12/Screenshot-2801.png
END:VEVENT
END:VCALENDAR