BEGIN:VCALENDAR
VERSION:2.0
PRODID:-//Go Batroun - ECPv6.14.2//NONSGML v1.0//EN
CALSCALE:GREGORIAN
METHOD:PUBLISH
X-WR-CALNAME:Go Batroun
X-ORIGINAL-URL:https://gobatroun.com
X-WR-CALDESC:Events for Go Batroun
REFRESH-INTERVAL;VALUE=DURATION:PT1H
X-Robots-Tag:noindex
X-PUBLISHED-TTL:PT1H
BEGIN:VTIMEZONE
TZID:Asia/Beirut
BEGIN:DAYLIGHT
TZOFFSETFROM:+0200
TZOFFSETTO:+0300
TZNAME:EEST
DTSTART:20230325T220000
END:DAYLIGHT
BEGIN:STANDARD
TZOFFSETFROM:+0300
TZOFFSETTO:+0200
TZNAME:EET
DTSTART:20231028T210000
END:STANDARD
END:VTIMEZONE
BEGIN:VEVENT
DTSTART;TZID=Asia/Beirut:20231221T130000
DTEND;TZID=Asia/Beirut:20231221T170000
DTSTAMP:20260423T104241
CREATED:20231220T062919Z
LAST-MODIFIED:20231220T062919Z
UID:10005560-1703163600-1703178000@gobatroun.com
SUMMARY:SUP Santa gathering full of Christmas
DESCRIPTION:Shoutout to All SUP Lovers and Paddlers.\nJoin us this Thursday for a SUP Santa gathering full of Christmas vibes and photos\, so you need to be in a Santa Outfit.\nYou can Join us with your own board or you can borrow one from @routeslb station at colonel reef\nThis event is organized with the support of\n@colonelreefbatroun @routeslb \nWe will pedal for approximately 1 hour. Surrounded by Christmas songs and vibes throughout the event. \nWe will end the tour in Bahsa and take amazing Santa group photos\nEvent Details : \n* DATE: Thursday 21st of December \n* MEETING POINT: \nColonel Reef at 12:00PM. ( For SUP lovers And Paddlers) \n*People Gathering Point: Bahsa beach at 1:00 pm \nPS: Punctuality is highly important! \nBE PREPARED: \nBring your Santa Clause Outfit\, light jacket\, Towel\, Warm clothing to change. \nYou can book by calling\nRoutes Team 76-338762 ————————————————————————————- \nEvent Participation Fees : \n* Free of Charge.\n.\nSee you all!
URL:https://gobatroun.com/event/sup-santa-gathering-full-of-christmas/
LOCATION:Bahsa beach
CATEGORIES:Performing Arts
ATTACH;FMTTYPE=image/png:https://gobatroun.com/wp-content/uploads/2023/12/Screenshot-2784.png
END:VEVENT
BEGIN:VEVENT
DTSTART;TZID=Asia/Beirut:20231221T150000
DTEND;TZID=Asia/Beirut:20231221T170000
DTSTAMP:20260423T104241
CREATED:20231215T120917Z
LAST-MODIFIED:20231215T120917Z
UID:10005530-1703170800-1703178000@gobatroun.com
SUMMARY:Caritas Christmas Event
DESCRIPTION:Christmas Event With Caritas batroun Sector!!
URL:https://gobatroun.com/event/caritas-christmas-event/
LOCATION:Caritas batroun Sector
CATEGORIES:Performing Arts
ATTACH;FMTTYPE=image/png:https://gobatroun.com/wp-content/uploads/2023/12/Screenshot-2746.png
END:VEVENT
BEGIN:VEVENT
DTSTART;TZID=Asia/Beirut:20231221T190000
DTEND;TZID=Asia/Beirut:20231221T230000
DTSTAMP:20260423T104241
CREATED:20231128T130144Z
LAST-MODIFIED:20231219T135813Z
UID:10005276-1703185200-1703199600@gobatroun.com
SUMMARY:كرمال يبقى الحب... with Nader Khoury
DESCRIPTION:كرمال يبقى الحب…\nWe can’t wait for @khoury.nader Recital on Thursday December 21st at Cathedral St. Stephan Batroun\nTime: 7:30pm\nFree Entrance\nNo reservation needed
URL:https://gobatroun.com/event/%d9%83%d8%b1%d9%85%d8%a7%d9%84-%d9%8a%d8%a8%d9%82%d9%89-%d8%a7%d9%84%d8%ad%d8%a8-with-nader-khoury/
LOCATION:Batroun\, 6MX6+79V Batroun\, Batroun\, 1400\, Lebanon
CATEGORIES:Festivals,Performing Arts
ATTACH;FMTTYPE=image/jpeg:https://gobatroun.com/wp-content/uploads/2023/11/WhatsApp-Image-2023-12-13-at-16.45.56_22152e70.jpg
GEO:34.248237811542;35.660916328184
X-APPLE-STRUCTURED-LOCATION;VALUE=URI;X-ADDRESS=Batroun 6MX6+79V Batroun Batroun 1400 Lebanon;X-APPLE-RADIUS=500;X-TITLE=6MX6+79V Batroun:geo:35.660916328184,34.248237811542
END:VEVENT
BEGIN:VEVENT
DTSTART;TZID=Asia/Beirut:20231221T210000
DTEND;TZID=Asia/Beirut:20231221T210000
DTSTAMP:20260423T104241
CREATED:20231213T081515Z
LAST-MODIFIED:20231213T081515Z
UID:10005115-1703192400-1703192400@gobatroun.com
SUMMARY:Anamel at Barrio
DESCRIPTION:
URL:https://gobatroun.com/event/dj-bob-and-selim-at-barrio-2/
LOCATION:Barrio67
CATEGORIES:Performing Arts
ATTACH;FMTTYPE=image/png:https://gobatroun.com/wp-content/uploads/2023/11/Screenshot-2707.png
END:VEVENT
BEGIN:VEVENT
DTSTART;TZID=Asia/Beirut:20231221T213000
DTEND;TZID=Asia/Beirut:20231221T213000
DTSTAMP:20260423T104241
CREATED:20231220T090441Z
LAST-MODIFIED:20231220T090441Z
UID:10005571-1703194200-1703194200@gobatroun.com
SUMMARY:DJ Pauly Hash at Cheers
DESCRIPTION:
URL:https://gobatroun.com/event/dj-pauly-hash-at-cheers-2/2023-12-21/
LOCATION:Cheers
CATEGORIES:Performing Arts
ATTACH;FMTTYPE=image/png:https://gobatroun.com/wp-content/uploads/2023/12/Screenshot-2795.png
END:VEVENT
BEGIN:VEVENT
DTSTART;TZID=Asia/Beirut:20231221T213000
DTEND;TZID=Asia/Beirut:20231221T213000
DTSTAMP:20260423T104241
CREATED:20231220T101424Z
LAST-MODIFIED:20231220T101424Z
UID:10005595-1703194200-1703194200@gobatroun.com
SUMMARY:Oleg at Lamella
DESCRIPTION:
URL:https://gobatroun.com/event/oleg-at-lamella/2023-12-21/
LOCATION:Lamella
CATEGORIES:Performing Arts
ATTACH;FMTTYPE=image/png:https://gobatroun.com/wp-content/uploads/2023/12/Screenshot-2805.png
END:VEVENT
BEGIN:VEVENT
DTSTART;TZID=Asia/Beirut:20231221T220000
DTEND;TZID=Asia/Beirut:20231221T220000
DTSTAMP:20260423T104241
CREATED:20231213T075325Z
LAST-MODIFIED:20231213T075726Z
UID:10005451-1703196000-1703196000@gobatroun.com
SUMMARY:Dj Ehub at Merchak بالسوق
DESCRIPTION:
URL:https://gobatroun.com/event/dj-ehub-at-merchak-%d8%a8%d8%a7%d9%84%d8%b3%d9%88%d9%82-6/2023-12-21/
LOCATION:Merchak بالسوق
CATEGORIES:Performing Arts
ATTACH;FMTTYPE=image/png:https://gobatroun.com/wp-content/uploads/2023/12/Screenshot-2705-1.png
END:VEVENT
BEGIN:VEVENT
DTSTART;TZID=Asia/Beirut:20231221T220000
DTEND;TZID=Asia/Beirut:20231221T220000
DTSTAMP:20260423T104241
CREATED:20231214T110206Z
LAST-MODIFIED:20231214T110326Z
UID:10005518-1703196000-1703196000@gobatroun.com
SUMMARY:Dj Nonz at B1 Batroun
DESCRIPTION:
URL:https://gobatroun.com/event/dj-nonz-at-b1-batroun-3/2023-12-21/
LOCATION:B1 Batroun
CATEGORIES:Performing Arts
ATTACH;FMTTYPE=image/png:https://gobatroun.com/wp-content/uploads/2023/12/Screenshot-2732.png
END:VEVENT
BEGIN:VEVENT
DTSTART;TZID=Asia/Beirut:20231221T220000
DTEND;TZID=Asia/Beirut:20231221T220000
DTSTAMP:20260423T104241
CREATED:20231218T083039Z
LAST-MODIFIED:20231218T083039Z
UID:10005536-1703196000-1703196000@gobatroun.com
SUMMARY:Nour Nimri and Bernard Najm at Parazar
DESCRIPTION:Celebrating Christmas With @nour_nimri & @bernard_najm ✨🎄 \nFor info & Reservations\n☎️ 76 532 692
URL:https://gobatroun.com/event/nour-nimri-and-bernard-najm-at-parazar-2/
LOCATION:Parazar Bistro & Cocktail Bar
CATEGORIES:Performing Arts
ATTACH;FMTTYPE=image/png:https://gobatroun.com/wp-content/uploads/2023/12/Screenshot-2758.png
END:VEVENT
BEGIN:VEVENT
DTSTART;TZID=Asia/Beirut:20231221T220000
DTEND;TZID=Asia/Beirut:20231221T220000
DTSTAMP:20260423T104241
CREATED:20231220T094404Z
LAST-MODIFIED:20231220T094404Z
UID:10005580-1703196000-1703196000@gobatroun.com
SUMMARY:Dj Spooky at Jet Set Batroun
DESCRIPTION:
URL:https://gobatroun.com/event/dj-spooky-at-jet-set-batroun/
LOCATION:Jet set batroun
CATEGORIES:Performing Arts
ATTACH;FMTTYPE=image/png:https://gobatroun.com/wp-content/uploads/2023/12/Screenshot-2799.png
END:VEVENT
END:VCALENDAR