BEGIN:VCALENDAR
VERSION:2.0
PRODID:-//Go Batroun - ECPv6.14.2//NONSGML v1.0//EN
CALSCALE:GREGORIAN
METHOD:PUBLISH
X-WR-CALNAME:Go Batroun
X-ORIGINAL-URL:https://gobatroun.com
X-WR-CALDESC:Events for Go Batroun
REFRESH-INTERVAL;VALUE=DURATION:PT1H
X-Robots-Tag:noindex
X-PUBLISHED-TTL:PT1H
BEGIN:VTIMEZONE
TZID:Asia/Beirut
BEGIN:DAYLIGHT
TZOFFSETFROM:+0200
TZOFFSETTO:+0300
TZNAME:EEST
DTSTART:20230325T220000
END:DAYLIGHT
BEGIN:STANDARD
TZOFFSETFROM:+0300
TZOFFSETTO:+0200
TZNAME:EET
DTSTART:20231028T210000
END:STANDARD
END:VTIMEZONE
BEGIN:VEVENT
DTSTART;TZID=Asia/Beirut:20231215T080000
DTEND;TZID=Asia/Beirut:20231215T170000
DTSTAMP:20260420T140838
CREATED:20231207T063129Z
LAST-MODIFIED:20231207T063129Z
UID:10005375-1702627200-1702659600@gobatroun.com
SUMMARY:Kfaraabida Christmas Village
DESCRIPTION:
URL:https://gobatroun.com/event/kfaraabida-christmas-village/
LOCATION:Mar Sarkis and Bakhos Church
CATEGORIES:Festivals,Performing Arts
ATTACH;FMTTYPE=image/jpeg:https://gobatroun.com/wp-content/uploads/2023/12/WhatsApp-Image-2023-12-06-at-16.53.21_ab25c091.jpg
END:VEVENT
BEGIN:VEVENT
DTSTART;TZID=Asia/Beirut:20231215T150000
DTEND;TZID=Asia/Beirut:20231215T220000
DTSTAMP:20260420T140838
CREATED:20231120T081108Z
LAST-MODIFIED:20231215T133837Z
UID:10005228-1702652400-1702677600@gobatroun.com
SUMMARY:Christmas at the Dar
DESCRIPTION:We are excited to announce our annual ‘Christmas at the Dar’ for 2023 at Dar al Mona\, Batroun 🌟 \nShop from a distinctive selection of local creators and designers\, offering a variety of great gift ideas 🎁 \nAlso enjoy surprise live entertainment throughout the period of the event! \n🗓️ December 15 to 30\n⏱️ 03:00 to 10:00 pm \nWishing you a wonderful festive season! \n*For more information on how to participate\, please DM or contact us on 76 72 80 85
URL:https://gobatroun.com/event/christmas-at-the-dar-2/
LOCATION:Dar Al Mona\, 7M35+PM Batroun\, Batroun\, Lebanon
CATEGORIES:Festivals,Performing Arts
ATTACH;FMTTYPE=image/png:https://gobatroun.com/wp-content/uploads/2023/11/Screenshot-2522.png
GEO:34.254368398216;35.659186434674
X-APPLE-STRUCTURED-LOCATION;VALUE=URI;X-ADDRESS=Dar Al Mona 7M35+PM Batroun Batroun Lebanon;X-APPLE-RADIUS=500;X-TITLE=7M35+PM Batroun:geo:35.659186434674,34.254368398216
END:VEVENT
BEGIN:VEVENT
DTSTART;TZID=Asia/Beirut:20231215T160000
DTEND;TZID=Asia/Beirut:20231215T230000
DTSTAMP:20260420T140838
CREATED:20231212T124905Z
LAST-MODIFIED:20231212T124905Z
UID:10005434-1702656000-1702681200@gobatroun.com
SUMMARY:مهرجان كفرحلده الميلادي
DESCRIPTION:
URL:https://gobatroun.com/event/%d9%85%d9%87%d8%b1%d8%ac%d8%a7%d9%86-%d9%83%d9%81%d8%b1%d8%ad%d9%84%d8%af%d9%87-%d8%a7%d9%84%d9%85%d9%8a%d9%84%d8%a7%d8%af%d9%8a/2023-12-15/
LOCATION:kfarhelda
CATEGORIES:Festivals,Performing Arts
ATTACH;FMTTYPE=image/jpeg:https://gobatroun.com/wp-content/uploads/2023/12/WhatsApp-Image-2023-12-12-at-12.34.14_2203d085.jpg
END:VEVENT
BEGIN:VEVENT
DTSTART;TZID=Asia/Beirut:20231215T170000
DTEND;TZID=Asia/Beirut:20231215T230000
DTSTAMP:20260420T140838
CREATED:20231128T125431Z
LAST-MODIFIED:20231214T065103Z
UID:10005272-1702659600-1702681200@gobatroun.com
SUMMARY:Enchanted Christmas with Ghinwa
DESCRIPTION:Are you ready for @ghinwasworld Christmas show? 🎅🎵\nSee you this Friday \, December 15\, at San Stephano Resort\nDoor opens at 4:30pm\nA Surprise awaits you! 🎁\nFree entrance\nNo reservation needed
URL:https://gobatroun.com/event/enchanted-christmas-with-ghinwa/
LOCATION:Batroun\, 6MX6+79V Batroun\, Batroun\, 1400\, Lebanon
CATEGORIES:Festivals,Performing Arts
ATTACH;FMTTYPE=image/png:https://gobatroun.com/wp-content/uploads/2023/11/Screenshot-2717.png
GEO:34.248237811542;35.660916328184
X-APPLE-STRUCTURED-LOCATION;VALUE=URI;X-ADDRESS=Batroun 6MX6+79V Batroun Batroun 1400 Lebanon;X-APPLE-RADIUS=500;X-TITLE=6MX6+79V Batroun:geo:35.660916328184,34.248237811542
END:VEVENT
BEGIN:VEVENT
DTSTART;TZID=Asia/Beirut:20231215T190000
DTEND;TZID=Asia/Beirut:20231215T190000
DTSTAMP:20260420T140838
CREATED:20231130T134833Z
LAST-MODIFIED:20231130T134833Z
UID:10005319-1702666800-1702666800@gobatroun.com
SUMMARY:Let us share the joy of the upcoming New Year
DESCRIPTION:Dear friends\, we invite you to a festive evening at Batruniet restaurant on December 15 at 7 pm.\nLet us share the joy of the upcoming New Year.\nThe cost is $30 per person. (Lebanese menu: cold and hot snacks\, hot\, soft drink. Alcohol is not included 🙂\nBeat Atik is playing for you.\nBook an appointment by phone: +961 70 314 463
URL:https://gobatroun.com/event/let-us-share-the-joy-of-the-upcoming-new-year/
LOCATION:Batrouniyat
CATEGORIES:Performing Arts
ATTACH;FMTTYPE=image/png:https://gobatroun.com/wp-content/uploads/2023/11/Screenshot-2599.png
END:VEVENT
BEGIN:VEVENT
DTSTART;TZID=Asia/Beirut:20231215T210000
DTEND;TZID=Asia/Beirut:20231215T210000
DTSTAMP:20260420T140838
CREATED:20231212T085130Z
LAST-MODIFIED:20231212T105700Z
UID:10005418-1702674000-1702674000@gobatroun.com
SUMMARY:Micha and the band at Hangloose
DESCRIPTION:Join us this friday with Micha & the band at Hangloose! 🎶🎸\nDon’t miss the magic !
URL:https://gobatroun.com/event/micha-and-the-band-at-hangloose/
LOCATION:HANGLOOSE\, 6MW6+PQ Batroun\, Batroun\, Lebanon
CATEGORIES:Performing Arts
ATTACH;FMTTYPE=image/png:https://gobatroun.com/wp-content/uploads/2023/12/Screenshot-2697.png
ORGANIZER;CN="HANGLOOSE":MAILTO:contact@info.com
GEO:34.246771332534;35.661930198875
X-APPLE-STRUCTURED-LOCATION;VALUE=URI;X-ADDRESS=HANGLOOSE 6MW6+PQ Batroun Batroun Lebanon;X-APPLE-RADIUS=500;X-TITLE=6MW6+PQ Batroun:geo:35.661930198875,34.246771332534
END:VEVENT
BEGIN:VEVENT
DTSTART;TZID=Asia/Beirut:20231215T210000
DTEND;TZID=Asia/Beirut:20231215T210000
DTSTAMP:20260420T140838
CREATED:20231213T081912Z
LAST-MODIFIED:20231213T081912Z
UID:10005470-1702674000-1702674000@gobatroun.com
SUMMARY:Moules and Frites at Barrio
DESCRIPTION:
URL:https://gobatroun.com/event/moules-and-frites-at-barrio/2023-12-15/
LOCATION:Barrio67
CATEGORIES:Performing Arts
ATTACH;FMTTYPE=image/png:https://gobatroun.com/wp-content/uploads/2023/11/Screenshot-2707.png
END:VEVENT
BEGIN:VEVENT
DTSTART;TZID=Asia/Beirut:20231215T210000
DTEND;TZID=Asia/Beirut:20231215T210000
DTSTAMP:20260420T140838
CREATED:20231213T134143Z
LAST-MODIFIED:20231213T134143Z
UID:10005493-1702674000-1702674000@gobatroun.com
SUMMARY:Rodolphe and the Band at Jet Set Batroun
DESCRIPTION:
URL:https://gobatroun.com/event/rodolphe-and-the-band-at-jet-set-batroun-3/
LOCATION:Jet set batroun
CATEGORIES:Performing Arts
ATTACH;FMTTYPE=image/png:https://gobatroun.com/wp-content/uploads/2023/12/Screenshot-2711.png
END:VEVENT
BEGIN:VEVENT
DTSTART;TZID=Asia/Beirut:20231215T210000
DTEND;TZID=Asia/Beirut:20231215T210000
DTSTAMP:20260420T140838
CREATED:20231214T103450Z
LAST-MODIFIED:20231214T103626Z
UID:10005514-1702674000-1702674000@gobatroun.com
SUMMARY:Tony Attieh and Dear Ear Band at Parazar
DESCRIPTION:Live performance by @tony.attieh ft @dearearband this Friday 15 December at 9:00 pm 🎤🥂 \nFor reservations\n☎️ 76 532 692
URL:https://gobatroun.com/event/tony-attieh-and-dear-ear-band-at-parazar/
LOCATION:Parazar Bistro & Cocktail Bar
CATEGORIES:Performing Arts
ATTACH;FMTTYPE=image/png:https://gobatroun.com/wp-content/uploads/2023/12/Screenshot-2728.png
END:VEVENT
BEGIN:VEVENT
DTSTART;TZID=Asia/Beirut:20231215T213000
DTEND;TZID=Asia/Beirut:20231215T213000
DTSTAMP:20260420T140838
CREATED:20231212T080416Z
LAST-MODIFIED:20231212T080416Z
UID:10005388-1702675800-1702675800@gobatroun.com
SUMMARY:The Rays featuring Joe on Saxophone at Cheers
DESCRIPTION:
URL:https://gobatroun.com/event/the-rays-featuring-joe-on-saxophone-at-cheers/
LOCATION:Cheers
CATEGORIES:Performing Arts
ATTACH;FMTTYPE=image/png:https://gobatroun.com/wp-content/uploads/2023/12/Screenshot-2684.png
END:VEVENT
BEGIN:VEVENT
DTSTART;TZID=Asia/Beirut:20231215T213000
DTEND;TZID=Asia/Beirut:20231215T213000
DTSTAMP:20260420T140838
CREATED:20231212T131344Z
LAST-MODIFIED:20231212T131344Z
UID:10005437-1702675800-1702675800@gobatroun.com
SUMMARY:Rashid Al-Najjar at Al Midan
DESCRIPTION:Our Friday appointment with Rashid Al-Najjar
URL:https://gobatroun.com/event/rashid-al-najjar-at-al-midan/
LOCATION:Al Midan
CATEGORIES:Performing Arts
ATTACH;FMTTYPE=image/png:https://gobatroun.com/wp-content/uploads/2023/12/Screenshot-2699.png
END:VEVENT
BEGIN:VEVENT
DTSTART;TZID=Asia/Beirut:20231215T220000
DTEND;TZID=Asia/Beirut:20231215T220000
DTSTAMP:20260420T140838
CREATED:20231214T101857Z
LAST-MODIFIED:20231214T101857Z
UID:10005512-1702677600-1702677600@gobatroun.com
SUMMARY:Micho Aoun and The Band at Casa Bar
DESCRIPTION:
URL:https://gobatroun.com/event/micho-aoun-and-the-band-at-casa-bar/
LOCATION:Casa Bar
CATEGORIES:Performing Arts
ATTACH;FMTTYPE=image/jpeg:https://gobatroun.com/wp-content/uploads/2023/12/WhatsApp-Image-2023-12-14-at-12.03.46_eb6d96bd.jpg
END:VEVENT
BEGIN:VEVENT
DTSTART;TZID=Asia/Beirut:20231215T223000
DTEND;TZID=Asia/Beirut:20231215T223000
DTSTAMP:20260420T140838
CREATED:20231212T073941Z
LAST-MODIFIED:20231212T073941Z
UID:10005385-1702679400-1702679400@gobatroun.com
SUMMARY:Tony Najem and DJ Chub at Tramway
DESCRIPTION:Join us this Friday for the weekly Tramway Vibe featuring the star Tony Najem and DJ Chub. \nDon’t miss out on the holiday party of the year at your favorite place in Batroun! 🎄✨ \nCall 03 514 101 to reserve your spot now.
URL:https://gobatroun.com/event/tony-najem-and-dj-chub-at-tramway/
LOCATION:Tramway Gastro Pub\, 7M45+CQ Batroun\, Batroun\, Lebanon
CATEGORIES:Performing Arts
ATTACH;FMTTYPE=image/png:https://gobatroun.com/wp-content/uploads/2023/12/Screenshot-2682.png
END:VEVENT
BEGIN:VEVENT
DTSTART;TZID=Asia/Beirut:20231215T223000
DTEND;TZID=Asia/Beirut:20231215T223000
DTSTAMP:20260420T140838
CREATED:20231212T081212Z
LAST-MODIFIED:20231212T081212Z
UID:10005391-1702679400-1702679400@gobatroun.com
SUMMARY:Rabih Gemayel at TAIGA BATROUN CLUB
DESCRIPTION:
URL:https://gobatroun.com/event/rabih-gemayel-at-taiga-batroun-club-2/
LOCATION:TAIGA BATROUN CLUB\, 7M46+23 Batroun\, Batroun\, Lebanon
CATEGORIES:Performing Arts
ATTACH;FMTTYPE=image/png:https://gobatroun.com/wp-content/uploads/2023/12/Screenshot-2685.png
GEO:34.255082353874;35.660243950604
X-APPLE-STRUCTURED-LOCATION;VALUE=URI;X-ADDRESS=TAIGA BATROUN CLUB 7M46+23 Batroun Batroun Lebanon;X-APPLE-RADIUS=500;X-TITLE=7M46+23 Batroun:geo:35.660243950604,34.255082353874
END:VEVENT
BEGIN:VEVENT
DTSTART;TZID=Asia/Beirut:20231215T223000
DTEND;TZID=Asia/Beirut:20231215T223000
DTSTAMP:20260420T140838
CREATED:20231212T082319Z
LAST-MODIFIED:20231212T082319Z
UID:10005411-1702679400-1702679400@gobatroun.com
SUMMARY:Dj ED\, Dj Andre\, Dj Elio\, and Dj GIO at Void
DESCRIPTION:This Friday\, let the beats take the lead with our phenomenal DJs at VOID! 🎶🔥 Ready to dance the night away?
URL:https://gobatroun.com/event/dj-ed-dj-andre-dj-elio-and-dj-gio-at-void/
LOCATION:Void Nightclub
CATEGORIES:Performing Arts
ATTACH;FMTTYPE=image/png:https://gobatroun.com/wp-content/uploads/2023/12/Screenshot-2687.png
END:VEVENT
BEGIN:VEVENT
DTSTART;TZID=Asia/Beirut:20231215T223000
DTEND;TZID=Asia/Beirut:20231215T223000
DTSTAMP:20260420T140838
CREATED:20231212T082931Z
LAST-MODIFIED:20231212T082931Z
UID:10005413-1702679400-1702679400@gobatroun.com
SUMMARY:Al Hadshity at Léyl
DESCRIPTION:Al Hadshity turns Fridays into a vibe you can’t miss. Join us every week! 🎤✨
URL:https://gobatroun.com/event/al-hadshity-at-leyl-5/
LOCATION:Léyl
CATEGORIES:Performing Arts
ATTACH;FMTTYPE=image/png:https://gobatroun.com/wp-content/uploads/2023/12/Screenshot-2688.png
END:VEVENT
BEGIN:VEVENT
DTSTART;TZID=Asia/Beirut:20231215T223000
DTEND;TZID=Asia/Beirut:20231215T223000
DTSTAMP:20260420T140838
CREATED:20231212T083806Z
LAST-MODIFIED:20231212T083806Z
UID:10005415-1702679400-1702679400@gobatroun.com
SUMMARY:Ali Yaghi at Seven Night Club
DESCRIPTION:
URL:https://gobatroun.com/event/ali-yaghi-at-seven-night-club/
LOCATION:Seven Night Club
CATEGORIES:Performing Arts
ATTACH;FMTTYPE=image/png:https://gobatroun.com/wp-content/uploads/2023/12/Screenshot-2690-1.png
END:VEVENT
BEGIN:VEVENT
DTSTART;TZID=Asia/Beirut:20231215T223000
DTEND;TZID=Asia/Beirut:20231215T223000
DTSTAMP:20260420T140838
CREATED:20231212T084219Z
LAST-MODIFIED:20231212T084219Z
UID:10005416-1702679400-1702679400@gobatroun.com
SUMMARY:Kareem Aridi at KŌRI
DESCRIPTION:@aridi____ Live at @kori.leb\nFriday\, December 15th\nRSVP: 79 118 887
URL:https://gobatroun.com/event/kareem-aridi-at-kori/
LOCATION:KŌRI
CATEGORIES:Performing Arts
ATTACH;FMTTYPE=image/png:https://gobatroun.com/wp-content/uploads/2023/12/Screenshot-2692.png
END:VEVENT
BEGIN:VEVENT
DTSTART;TZID=Asia/Beirut:20231215T223000
DTEND;TZID=Asia/Beirut:20231215T223000
DTSTAMP:20260420T140838
CREATED:20231212T090334Z
LAST-MODIFIED:20231212T090334Z
UID:10005431-1702679400-1702679400@gobatroun.com
SUMMARY:Roy Khadra at B1 Batroun
DESCRIPTION:
URL:https://gobatroun.com/event/roy-khadra-at-b1-batroun/
LOCATION:B1 Batroun
CATEGORIES:Performing Arts
ATTACH;FMTTYPE=image/png:https://gobatroun.com/wp-content/uploads/2023/12/Screenshot-2696-1.png
END:VEVENT
END:VCALENDAR