BEGIN:VCALENDAR
VERSION:2.0
PRODID:-//Go Batroun - ECPv6.14.2//NONSGML v1.0//EN
CALSCALE:GREGORIAN
METHOD:PUBLISH
X-WR-CALNAME:Go Batroun
X-ORIGINAL-URL:https://gobatroun.com
X-WR-CALDESC:Events for Go Batroun
REFRESH-INTERVAL;VALUE=DURATION:PT1H
X-Robots-Tag:noindex
X-PUBLISHED-TTL:PT1H
BEGIN:VTIMEZONE
TZID:Asia/Beirut
BEGIN:DAYLIGHT
TZOFFSETFROM:+0200
TZOFFSETTO:+0300
TZNAME:EEST
DTSTART:20230325T220000
END:DAYLIGHT
BEGIN:STANDARD
TZOFFSETFROM:+0300
TZOFFSETTO:+0200
TZNAME:EET
DTSTART:20231028T210000
END:STANDARD
END:VTIMEZONE
BEGIN:VEVENT
DTSTART;VALUE=DATE:20231203
DTEND;VALUE=DATE:20231205
DTSTAMP:20260421T162504
CREATED:20231113T075844Z
LAST-MODIFIED:20231113T080023Z
UID:10005151-1701583200-1701669599@gobatroun.com
SUMMARY:Food for Education
DESCRIPTION:This Christmas\, let’s come together to share the true spirit of the season: Love\, kindness\, and compassion.\nOn Sunday December 3rd\, Batroun restaurant and its community are joining hands to make a difference in the lives of those in need. Help us spread smiles by dining at the mentioned restaurants in the post\, as your visit will contribute to donations for the children in need. \nFor more Details click here
URL:https://gobatroun.com/event/food-for-education/
LOCATION:Batroun\, 6MX6+79V Batroun\, Batroun\, 1400\, Lebanon
CATEGORIES:Community
ATTACH;FMTTYPE=image/png:https://gobatroun.com/wp-content/uploads/2023/11/diaspora.png
ORGANIZER;CN="Diaspora Village":MAILTO:info@lebanesediasporavillage.com
GEO:34.248237811542;35.660916328184
X-APPLE-STRUCTURED-LOCATION;VALUE=URI;X-ADDRESS=Batroun 6MX6+79V Batroun Batroun 1400 Lebanon;X-APPLE-RADIUS=500;X-TITLE=6MX6+79V Batroun:geo:35.660916328184,34.248237811542
END:VEVENT
BEGIN:VEVENT
DTSTART;TZID=Asia/Beirut:20231203T080000
DTEND;TZID=Asia/Beirut:20231203T170000
DTSTAMP:20260421T162504
CREATED:20231120T062842Z
LAST-MODIFIED:20231120T062842Z
UID:10005218-1701590400-1701622800@gobatroun.com
SUMMARY:Open Buffet Sundays at Batroun Village Club
DESCRIPTION:December brings joy to Batroun Village Club with the start of Open Buffet Sundays! Enjoy beautiful songs by Layal\, Helena & Joya\, exciting Kids Factory entertainment\, and the cherished tradition of ‘Kame7 al Eid’ in celebration of St. Barbara’s Feast. [Don’t forget to encourage your kids to dress up for the occasion!] \n$35 for Adults\, $16 for kids\, & special offer for Batroun Village Club members\nFor more information and reservations\, please call 71/00 33 50 – 70/104 333
URL:https://gobatroun.com/event/open-buffet-sundays-at-batroun-village-club/
LOCATION:Batroun Village Club
CATEGORIES:Performing Arts
ATTACH;FMTTYPE=image/png:https://gobatroun.com/wp-content/uploads/2023/11/Screenshot-2515.png
END:VEVENT
BEGIN:VEVENT
DTSTART;TZID=Asia/Beirut:20231203T080000
DTEND;TZID=Asia/Beirut:20231203T170000
DTSTAMP:20260421T162504
CREATED:20231128T094000Z
LAST-MODIFIED:20231128T094000Z
UID:10005264-1701590400-1701622800@gobatroun.com
SUMMARY:Saint Barbara Event With Kids Factory
DESCRIPTION:
URL:https://gobatroun.com/event/saint-barbara-event-with-kids-factory/
LOCATION:Batroun Village Club
CATEGORIES:Festivals,Performing Arts
ATTACH;FMTTYPE=image/jpeg:https://gobatroun.com/wp-content/uploads/2023/11/WhatsApp-Image-2023-11-28-at-11.36.57_d7f9739b.jpg
END:VEVENT
BEGIN:VEVENT
DTSTART;TZID=Asia/Beirut:20231203T133000
DTEND;TZID=Asia/Beirut:20231203T160000
DTSTAMP:20260421T162504
CREATED:20231128T100509Z
LAST-MODIFIED:20231128T100509Z
UID:10005268-1701610200-1701619200@gobatroun.com
SUMMARY:St Barbara Event at Loubnane by Ramy Ayach
DESCRIPTION:
URL:https://gobatroun.com/event/st-barbara-event-at-loubnane-by-ramy-ayach/
LOCATION:Loubnane by Ramy Ayach
CATEGORIES:Performing Arts
ATTACH;FMTTYPE=image/jpeg:https://gobatroun.com/wp-content/uploads/2023/11/WhatsApp-Image-2023-11-28-at-11.57.39_69f0a750.jpg
END:VEVENT
BEGIN:VEVENT
DTSTART;TZID=Asia/Beirut:20231203T150000
DTEND;TZID=Asia/Beirut:20231203T170000
DTSTAMP:20260421T162504
CREATED:20231130T121944Z
LAST-MODIFIED:20231130T121944Z
UID:10005315-1701615600-1701622800@gobatroun.com
SUMMARY:Hashli Berbara at Dream Ville
DESCRIPTION:Hashli Berbara 🎭\nJoin us for an exciting event this Sunday at Dream Ville
URL:https://gobatroun.com/event/hashli-berbara-at-dream-ville/
LOCATION:Dream Ville
CATEGORIES:Performing Arts
ATTACH;FMTTYPE=image/png:https://gobatroun.com/wp-content/uploads/2023/11/Screenshot-2594.png
END:VEVENT
BEGIN:VEVENT
DTSTART;TZID=Asia/Beirut:20231203T160000
DTEND;TZID=Asia/Beirut:20231203T170000
DTSTAMP:20260421T162504
CREATED:20231128T094211Z
LAST-MODIFIED:20231128T094211Z
UID:10005265-1701619200-1701622800@gobatroun.com
SUMMARY:Dine with us to support children in need
DESCRIPTION:Sunday- Dine with us to support children in need- we will be donating to @lebanesediasporavillage Food for Education \n📞 For reservations\, please call 71 664 330
URL:https://gobatroun.com/event/dine-with-us-to-support-children-in-need/
LOCATION:Al Hara
CATEGORIES:Performing Arts
ATTACH;FMTTYPE=image/png:https://gobatroun.com/wp-content/uploads/2023/11/Screenshot-2567.png
END:VEVENT
BEGIN:VEVENT
DTSTART;TZID=Asia/Beirut:20231203T173000
DTEND;TZID=Asia/Beirut:20231203T173000
DTSTAMP:20260421T162504
CREATED:20231124T085651Z
LAST-MODIFIED:20231124T085651Z
UID:10005239-1701624600-1701624600@gobatroun.com
SUMMARY:افتتاح مغارة الميلاد
DESCRIPTION:
URL:https://gobatroun.com/event/%d8%a7%d9%81%d8%aa%d8%aa%d8%a7%d8%ad-%d9%85%d8%ba%d8%a7%d8%b1%d8%a9-%d8%a7%d9%84%d9%85%d9%8a%d9%84%d8%a7%d8%af/
LOCATION:Batroun\, 6MX6+79V Batroun\, Batroun\, 1400\, Lebanon
CATEGORIES:Festivals,Performing Arts
ATTACH;FMTTYPE=image/jpeg:https://gobatroun.com/wp-content/uploads/2023/11/WhatsApp-Image-2023-11-23-at-13.44.28_ed100eaf.jpg
GEO:34.248237811542;35.660916328184
X-APPLE-STRUCTURED-LOCATION;VALUE=URI;X-ADDRESS=Batroun 6MX6+79V Batroun Batroun 1400 Lebanon;X-APPLE-RADIUS=500;X-TITLE=6MX6+79V Batroun:geo:35.660916328184,34.248237811542
END:VEVENT
BEGIN:VEVENT
DTSTART;TZID=Asia/Beirut:20231203T213000
DTEND;TZID=Asia/Beirut:20231203T213000
DTSTAMP:20260421T162504
CREATED:20231128T093307Z
LAST-MODIFIED:20231128T093307Z
UID:10005259-1701639000-1701639000@gobatroun.com
SUMMARY:Joe Ghassan at Lamella
DESCRIPTION:
URL:https://gobatroun.com/event/joe-ghassan-at-lamella-2/
LOCATION:Lamella
CATEGORIES:Performing Arts
ATTACH;FMTTYPE=image/png:https://gobatroun.com/wp-content/uploads/2023/11/Screenshot-2565.png
END:VEVENT
BEGIN:VEVENT
DTSTART;TZID=Asia/Beirut:20231203T220000
DTEND;TZID=Asia/Beirut:20231203T220000
DTSTAMP:20260421T162504
CREATED:20231130T132038Z
LAST-MODIFIED:20231130T132038Z
UID:10005317-1701640800-1701640800@gobatroun.com
SUMMARY:Hassan El Sayed at Casa Bar
DESCRIPTION:
URL:https://gobatroun.com/event/hassan-el-sayed-at-casa-bar-3/
LOCATION:Casa Bar
CATEGORIES:Performing Arts
ATTACH;FMTTYPE=image/png:https://gobatroun.com/wp-content/uploads/2023/11/Screenshot-2597.png
END:VEVENT
END:VCALENDAR