BEGIN:VCALENDAR
VERSION:2.0
PRODID:-//Go Batroun - ECPv6.14.2//NONSGML v1.0//EN
CALSCALE:GREGORIAN
METHOD:PUBLISH
X-ORIGINAL-URL:https://gobatroun.com
X-WR-CALDESC:Events for Go Batroun
REFRESH-INTERVAL;VALUE=DURATION:PT1H
X-Robots-Tag:noindex
X-PUBLISHED-TTL:PT1H
BEGIN:VTIMEZONE
TZID:Asia/Beirut
BEGIN:DAYLIGHT
TZOFFSETFROM:+0200
TZOFFSETTO:+0300
TZNAME:EEST
DTSTART:20230325T220000
END:DAYLIGHT
BEGIN:STANDARD
TZOFFSETFROM:+0300
TZOFFSETTO:+0200
TZNAME:EET
DTSTART:20231028T210000
END:STANDARD
END:VTIMEZONE
BEGIN:VEVENT
DTSTART;TZID=Asia/Beirut:20231202T103000
DTEND;TZID=Asia/Beirut:20231202T170000
DTSTAMP:20260421T063129
CREATED:20231128T092507Z
LAST-MODIFIED:20231128T092507Z
UID:10005256-1701513000-1701536400@gobatroun.com
SUMMARY:Chadi Al Saghir at Tramway
DESCRIPTION:Get ready to kick off the first weekend of the jolly month in style! Join us for an unforgettable oriental night\, featuring the talented singer @chadialsaghir.official and the amazing beats of @dj_chub_official \nWho’s ready to immerse themselves in the magic of oriental music? ✨ \nRSVP: 03 514 101
URL:https://gobatroun.com/event/chadi-al-saghir-at-tramway/
LOCATION:Tramway Gastro Pub\, 7M45+CQ Batroun\, Batroun\, Lebanon
CATEGORIES:Performing Arts
ATTACH;FMTTYPE=image/png:https://gobatroun.com/wp-content/uploads/2023/11/Screenshot-2560.png
END:VEVENT
BEGIN:VEVENT
DTSTART;TZID=Asia/Beirut:20231202T120000
DTEND;TZID=Asia/Beirut:20231202T150000
DTSTAMP:20260421T063129
CREATED:20231129T093031Z
LAST-MODIFIED:20231129T093031Z
UID:10005296-1701518400-1701529200@gobatroun.com
SUMMARY:Fresh Pasta Workshop
DESCRIPTION:Fresh Pasta Workshop!! 🍝 \nDate: Saturday\, December 2\nTime: 12:00 PM – 3:00 PM\nLocation: Rabita Al Batroun\nFees: $20 per person\nLimited slots available!
URL:https://gobatroun.com/event/fresh-pasta-workshop/
LOCATION:Batroun\, 6MX6+79V Batroun\, Batroun\, 1400\, Lebanon
CATEGORIES:Performing Arts
ATTACH;FMTTYPE=image/png:https://gobatroun.com/wp-content/uploads/2023/11/Screenshot-2575.png
GEO:34.248237811542;35.660916328184
X-APPLE-STRUCTURED-LOCATION;VALUE=URI;X-ADDRESS=Batroun 6MX6+79V Batroun Batroun 1400 Lebanon;X-APPLE-RADIUS=500;X-TITLE=6MX6+79V Batroun:geo:35.660916328184,34.248237811542
END:VEVENT
BEGIN:VEVENT
DTSTART;TZID=Asia/Beirut:20231202T160000
DTEND;TZID=Asia/Beirut:20231202T230000
DTSTAMP:20260421T063129
CREATED:20231026T122117Z
LAST-MODIFIED:20231129T103235Z
UID:10005084-1701532800-1701558000@gobatroun.com
SUMMARY:Big Opening and Christmas Parade
DESCRIPTION:Batroun Capital De Noel!! 🎄 🎅🏼 \nFree Entrance and all the events are free of charge.
URL:https://gobatroun.com/event/batroun-capital-de-noel-2023/
LOCATION:Saint Stephan Cathedral
CATEGORIES:Festivals,Performing Arts
ATTACH;FMTTYPE=image/png:https://gobatroun.com/wp-content/uploads/2023/10/Screenshot-2569.png
END:VEVENT
BEGIN:VEVENT
DTSTART;TZID=Asia/Beirut:20231202T200000
DTEND;TZID=Asia/Beirut:20231202T200000
DTSTAMP:20260421T063129
CREATED:20231115T132437Z
LAST-MODIFIED:20231128T131620Z
UID:10005288-1701547200-1701547200@gobatroun.com
SUMMARY:Michel Najem at Casa Bar
DESCRIPTION:
URL:https://gobatroun.com/event/michel-najem-at-casa-bar-13/2023-12-02/
LOCATION:Casa Bar
CATEGORIES:Performing Arts
ATTACH;FMTTYPE=image/png:https://gobatroun.com/wp-content/uploads/2023/10/Screenshot-2264.png
END:VEVENT
BEGIN:VEVENT
DTSTART;TZID=Asia/Beirut:20231202T203000
DTEND;TZID=Asia/Beirut:20231202T203000
DTSTAMP:20260421T063129
CREATED:20231130T130211Z
LAST-MODIFIED:20231130T130211Z
UID:10005316-1701549000-1701549000@gobatroun.com
SUMMARY:Danton Attieh at Vine Wine Bar
DESCRIPTION:Join us this Saturday December 2 for a beautiful night with @dantonattieh at @vine.lb starting 8:30pm\, and try @fyrd_lb ‘s amazing new food menu!\nFor bookings 71 455 882
URL:https://gobatroun.com/event/danton-attieh-at-vine-wine-bar/
LOCATION:Vine\, Smar Jbeil\, 6M9R+95 Smar Jbeil\, Smar Jbeil\, Lebanon
CATEGORIES:Performing Arts
ATTACH;FMTTYPE=image/png:https://gobatroun.com/wp-content/uploads/2023/11/Screenshot-2596.png
END:VEVENT
BEGIN:VEVENT
DTSTART;TZID=Asia/Beirut:20231202T210000
DTEND;TZID=Asia/Beirut:20231202T210000
DTSTAMP:20260421T063129
CREATED:20231129T103116Z
LAST-MODIFIED:20231129T103116Z
UID:10005310-1701550800-1701550800@gobatroun.com
SUMMARY:Joy Janet and the band at Barrio
DESCRIPTION:Joy Janet and the band make their Barrio debut this Saturday 🎤 \nSave the date and see you all! \nBand charge $8 \nFor reservations\, please call this number +961 70 211 299
URL:https://gobatroun.com/event/joy-janet-and-the-band-at-barrio/
LOCATION:Barrio67
CATEGORIES:Performing Arts
ATTACH;FMTTYPE=image/png:https://gobatroun.com/wp-content/uploads/2023/11/Screenshot-2584.png
END:VEVENT
BEGIN:VEVENT
DTSTART;TZID=Asia/Beirut:20231202T213000
DTEND;TZID=Asia/Beirut:20231202T213000
DTSTAMP:20260421T063129
CREATED:20231127T132453Z
LAST-MODIFIED:20231127T132453Z
UID:10005252-1701552600-1701552600@gobatroun.com
SUMMARY:Micha and the Band at Cheers
DESCRIPTION:
URL:https://gobatroun.com/event/micha-and-the-band-at-cheers-11/
LOCATION:Cheers
CATEGORIES:Performing Arts
ATTACH;FMTTYPE=image/png:https://gobatroun.com/wp-content/uploads/2023/11/Screenshot-2556.png
END:VEVENT
BEGIN:VEVENT
DTSTART;TZID=Asia/Beirut:20231202T213000
DTEND;TZID=Asia/Beirut:20231202T213000
DTSTAMP:20260421T063129
CREATED:20231128T093326Z
LAST-MODIFIED:20231128T093326Z
UID:10005261-1701552600-1701552600@gobatroun.com
SUMMARY:Sana at Lamella
DESCRIPTION:
URL:https://gobatroun.com/event/sana-at-lamella-2/
LOCATION:Lamella
CATEGORIES:Performing Arts
ATTACH;FMTTYPE=image/png:https://gobatroun.com/wp-content/uploads/2023/11/Screenshot-2564.png
END:VEVENT
BEGIN:VEVENT
DTSTART;TZID=Asia/Beirut:20231202T213000
DTEND;TZID=Asia/Beirut:20231202T213000
DTSTAMP:20260421T063129
CREATED:20231130T132612Z
LAST-MODIFIED:20231130T132612Z
UID:10005318-1701552600-1701552600@gobatroun.com
SUMMARY:Dj Sãm & Dj Ohmar at HANGLOOSE
DESCRIPTION:This Saturday night\, join us for some house beats with Dj Sãm & Dj Ohmar on the decks
URL:https://gobatroun.com/event/dj-sam-dj-ohmar-at-hangloose/
LOCATION:HANGLOOSE\, 6MW6+PQ Batroun\, Batroun\, Lebanon
CATEGORIES:Performing Arts
ATTACH;FMTTYPE=image/png:https://gobatroun.com/wp-content/uploads/2023/11/Screenshot-2598.png
ORGANIZER;CN="HANGLOOSE":MAILTO:contact@info.com
GEO:34.246771332534;35.661930198875
X-APPLE-STRUCTURED-LOCATION;VALUE=URI;X-ADDRESS=HANGLOOSE 6MW6+PQ Batroun Batroun Lebanon;X-APPLE-RADIUS=500;X-TITLE=6MW6+PQ Batroun:geo:35.661930198875,34.246771332534
END:VEVENT
BEGIN:VEVENT
DTSTART;TZID=Asia/Beirut:20231202T220000
DTEND;TZID=Asia/Beirut:20231202T220000
DTSTAMP:20260421T063129
CREATED:20230926T130341Z
LAST-MODIFIED:20230926T130341Z
UID:10004956-1701554400-1701554400@gobatroun.com
SUMMARY:Fady Mahfoud and the Band at Jet Set Batroun
DESCRIPTION:
URL:https://gobatroun.com/event/fady-mahfoud-and-the-band-at-jet-set-batroun/2023-12-02/
LOCATION:Jet set batroun
CATEGORIES:Performing Arts
ATTACH;FMTTYPE=image/png:https://gobatroun.com/wp-content/uploads/2023/09/Screenshot-2219.png
END:VEVENT
BEGIN:VEVENT
DTSTART;TZID=Asia/Beirut:20231202T220000
DTEND;TZID=Asia/Beirut:20231202T220000
DTSTAMP:20260421T063129
CREATED:20231127T132825Z
LAST-MODIFIED:20231127T132825Z
UID:10005253-1701554400-1701554400@gobatroun.com
SUMMARY:Pavo at Xlounge Batroun
DESCRIPTION:Get ready for a sensational night with the mesmerizing voice of Pavo next Saturday! 🌟 \nJoin us for a night filled with pure musical bliss and unforgettable vibes that will keep you dancing. 💃🕺 \n🚨 Don’t miss it! Join us and reserve now to secure your spot for a night to remember! 🌟 \n@PavosBannout\n➖➖➖➖➖➖➖➖➖➖\n📞 For Reservations – 03 499 833
URL:https://gobatroun.com/event/pavo-at-xlounge-batroun-6/
LOCATION:Xlounge Batroun
CATEGORIES:Performing Arts
ATTACH;FMTTYPE=image/png:https://gobatroun.com/wp-content/uploads/2023/11/Screenshot-2557.png
END:VEVENT
BEGIN:VEVENT
DTSTART;TZID=Asia/Beirut:20231202T220000
DTEND;TZID=Asia/Beirut:20231202T220000
DTSTAMP:20260421T063129
CREATED:20231128T092610Z
LAST-MODIFIED:20231128T092610Z
UID:10005255-1701554400-1701554400@gobatroun.com
SUMMARY:Dj ADO at AlHara
DESCRIPTION:Even though it is Monday\, we know you are already thinking about your weekend plans\, so we are excited to announce our schedule: \nSaturday- Party with Dj ADO \n📞 For reservations\, please call 71 664 330
URL:https://gobatroun.com/event/dj-ado-at-alhara-4/
LOCATION:Al Hara
CATEGORIES:Performing Arts
ATTACH;FMTTYPE=image/png:https://gobatroun.com/wp-content/uploads/2023/11/Screenshot-2467.png
END:VEVENT
BEGIN:VEVENT
DTSTART;TZID=Asia/Beirut:20231202T223000
DTEND;TZID=Asia/Beirut:20231202T223000
DTSTAMP:20260421T063129
CREATED:20231128T093616Z
LAST-MODIFIED:20231128T093616Z
UID:10005263-1701556200-1701556200@gobatroun.com
SUMMARY:Dj Ralph at B1 Batroun
DESCRIPTION:
URL:https://gobatroun.com/event/dj-ralph-at-b1-batroun-2/
LOCATION:B1 Batroun
CATEGORIES:Performing Arts
ATTACH;FMTTYPE=image/png:https://gobatroun.com/wp-content/uploads/2023/11/Screenshot-2566.png
END:VEVENT
BEGIN:VEVENT
DTSTART;TZID=Asia/Beirut:20231202T230000
DTEND;TZID=Asia/Beirut:20231202T230000
DTSTAMP:20260421T063129
CREATED:20231128T092837Z
LAST-MODIFIED:20231128T092837Z
UID:10005257-1701558000-1701558000@gobatroun.com
SUMMARY:Dj Bibb\, Mc-H and Dj Rush1 at Void
DESCRIPTION:Join us for an electrifying Saturday night at VOID with @dj.bibb\, @harout_hd & @dj.rush1 🌌🎶✨️
URL:https://gobatroun.com/event/dj-bibb-mc-h-and-dj-rush1-at-void/
LOCATION:Void Nightclub
CATEGORIES:Performing Arts
ATTACH;FMTTYPE=image/png:https://gobatroun.com/wp-content/uploads/2023/11/Screenshot-2561.png
END:VEVENT
BEGIN:VEVENT
DTSTART;TZID=Asia/Beirut:20231202T230000
DTEND;TZID=Asia/Beirut:20231202T230000
DTSTAMP:20260421T063129
CREATED:20231129T102807Z
LAST-MODIFIED:20231129T102807Z
UID:10005309-1701558000-1701558000@gobatroun.com
SUMMARY:DJ Carlos at Leyl
DESCRIPTION:DJ Carlos spinning the beats this Saturday at Leyl! Join us
URL:https://gobatroun.com/event/dj-carlos-at-leyl-2/
LOCATION:Léyl
CATEGORIES:Performing Arts
ATTACH;FMTTYPE=image/png:https://gobatroun.com/wp-content/uploads/2023/11/Screenshot-2583.png
END:VEVENT
BEGIN:VEVENT
DTSTART;TZID=Asia/Beirut:20231202T233000
DTEND;TZID=Asia/Beirut:20231202T233000
DTSTAMP:20260421T063129
CREATED:20231129T104046Z
LAST-MODIFIED:20231129T104046Z
UID:10005311-1701559800-1701559800@gobatroun.com
SUMMARY:Joseph Slaiman and Youhanna Saad at Seven Night Club
DESCRIPTION:
URL:https://gobatroun.com/event/joseph-slaiman-and-youhanna-saad-at-seven-night-club-2/
LOCATION:Seven Night Club
CATEGORIES:Performing Arts
ATTACH;FMTTYPE=image/png:https://gobatroun.com/wp-content/uploads/2023/11/Screenshot-2585.png
END:VEVENT
END:VCALENDAR