BEGIN:VCALENDAR
VERSION:2.0
PRODID:-//Go Batroun - ECPv6.14.2//NONSGML v1.0//EN
CALSCALE:GREGORIAN
METHOD:PUBLISH
X-ORIGINAL-URL:https://gobatroun.com
X-WR-CALDESC:Events for Go Batroun
REFRESH-INTERVAL;VALUE=DURATION:PT1H
X-Robots-Tag:noindex
X-PUBLISHED-TTL:PT1H
BEGIN:VTIMEZONE
TZID:Asia/Beirut
BEGIN:DAYLIGHT
TZOFFSETFROM:+0200
TZOFFSETTO:+0300
TZNAME:EEST
DTSTART:20230325T220000
END:DAYLIGHT
BEGIN:STANDARD
TZOFFSETFROM:+0300
TZOFFSETTO:+0200
TZNAME:EET
DTSTART:20231028T210000
END:STANDARD
END:VTIMEZONE
BEGIN:VEVENT
DTSTART;TZID=Asia/Beirut:20231122T090000
DTEND;TZID=Asia/Beirut:20231122T130000
DTSTAMP:20260421T180722
CREATED:20231120T072020Z
LAST-MODIFIED:20231120T072020Z
UID:10005222-1700643600-1700658000@gobatroun.com
SUMMARY:Independence Day event at Dream Ville
DESCRIPTION:Independence Day event 🇱🇧\n📍 Dream Ville – Batroun\nWednesday 22 Nov 2023\n9 am – 1 pm \nRobotics with @mindscapelb 🤖\nCupcake decoration 🧁\nCraft ✂️\nGames 🎯\nAnd lots of FUN !!!
URL:https://gobatroun.com/event/independence-day-event-at-dream-ville/
LOCATION:Dream Ville
CATEGORIES:Performing Arts
ATTACH;FMTTYPE=image/png:https://gobatroun.com/wp-content/uploads/2023/11/Screenshot-2519.png
END:VEVENT
BEGIN:VEVENT
DTSTART;TZID=Asia/Beirut:20231122T153000
DTEND;TZID=Asia/Beirut:20231122T183000
DTSTAMP:20260421T180722
CREATED:20231114T093346Z
LAST-MODIFIED:20231114T093346Z
UID:10005153-1700667000-1700677800@gobatroun.com
SUMMARY:Experience the power of QiGong at HANGLOOSE
DESCRIPTION:Join us for a journey into inner tranquility and vitality! ✨\nExperience the power of QiGong with @barrak.tony a harmonious blend of body\, mind\, and breath\, as well as the transformative energy of Access Bars with Mouna Moussi\, @yourbeautyenergy which will reset your buttons\, unlock your body!\nleave you feeling balanced\, euphoric\, and free! 🧘‍♂️ \nNovember 22nd from 3:30 PM to 6:00 PM\n*** limited places *** please book via DM\nCost: FREE! We are humbly contributing to the community
URL:https://gobatroun.com/event/experience-the-power-of-qigong-at-hangloose/
LOCATION:HANGLOOSE\, 6MW6+PQ Batroun\, Batroun\, Lebanon
CATEGORIES:Performing Arts
ATTACH;FMTTYPE=image/png:https://gobatroun.com/wp-content/uploads/2023/11/Screenshot-2491.png
ORGANIZER;CN="HANGLOOSE":MAILTO:contact@info.com
GEO:34.246771332534;35.661930198875
X-APPLE-STRUCTURED-LOCATION;VALUE=URI;X-ADDRESS=HANGLOOSE 6MW6+PQ Batroun Batroun Lebanon;X-APPLE-RADIUS=500;X-TITLE=6MW6+PQ Batroun:geo:35.661930198875,34.246771332534
END:VEVENT
BEGIN:VEVENT
DTSTART;TZID=Asia/Beirut:20231122T220000
DTEND;TZID=Asia/Beirut:20231122T220000
DTSTAMP:20260421T180722
CREATED:20231120T072705Z
LAST-MODIFIED:20231120T072705Z
UID:10005224-1700690400-1700690400@gobatroun.com
SUMMARY:Stephan Roukos at Cheers
DESCRIPTION:
URL:https://gobatroun.com/event/stephan-roukos-at-cheers-50/
LOCATION:Cheers
CATEGORIES:Performing Arts
ATTACH;FMTTYPE=image/png:https://gobatroun.com/wp-content/uploads/2023/08/Screenshot-2016.png
END:VEVENT
END:VCALENDAR