BEGIN:VCALENDAR
VERSION:2.0
PRODID:-//Go Batroun - ECPv6.14.2//NONSGML v1.0//EN
CALSCALE:GREGORIAN
METHOD:PUBLISH
X-ORIGINAL-URL:https://gobatroun.com
X-WR-CALDESC:Events for Go Batroun
REFRESH-INTERVAL;VALUE=DURATION:PT1H
X-Robots-Tag:noindex
X-PUBLISHED-TTL:PT1H
BEGIN:VTIMEZONE
TZID:Asia/Beirut
BEGIN:DAYLIGHT
TZOFFSETFROM:+0200
TZOFFSETTO:+0300
TZNAME:EEST
DTSTART:20230325T220000
END:DAYLIGHT
BEGIN:STANDARD
TZOFFSETFROM:+0300
TZOFFSETTO:+0200
TZNAME:EET
DTSTART:20231028T210000
END:STANDARD
END:VTIMEZONE
BEGIN:VEVENT
DTSTART;TZID=Asia/Beirut:20231121T093000
DTEND;TZID=Asia/Beirut:20231121T170000
DTSTAMP:20260421T080833
CREATED:20231120T062609Z
LAST-MODIFIED:20231120T133618Z
UID:10005217-1700559000-1700586000@gobatroun.com
SUMMARY:Rida at Batrouniyat
DESCRIPTION:Reserve your spots now!
URL:https://gobatroun.com/event/risa-at-batrouniyat/
LOCATION:Batrouniyat
CATEGORIES:Performing Arts
ATTACH;FMTTYPE=image/png:https://gobatroun.com/wp-content/uploads/2023/11/Screenshot-2514.png
ORGANIZER;CN="Batrouniyat":MAILTO:info@batrouniyat.org
END:VEVENT
BEGIN:VEVENT
DTSTART;TZID=Asia/Beirut:20231121T210000
DTEND;TZID=Asia/Beirut:20231121T210000
DTSTAMP:20260421T080833
CREATED:20231120T132233Z
LAST-MODIFIED:20231120T132233Z
UID:10005229-1700600400-1700600400@gobatroun.com
SUMMARY:Dj Chub at Tramway
DESCRIPTION:Mark your calendar and join us this Tuesday to celebrate Lebanese Independence Day – a day of unity\, pride\, and joy! 🤍 \nReserve your tables by calling 03 514 101
URL:https://gobatroun.com/event/dj-chub-at-tramway-2/
LOCATION:Tramway Gastro Pub\, 7M45+CQ Batroun\, Batroun\, Lebanon
CATEGORIES:Performing Arts
ATTACH;FMTTYPE=image/png:https://gobatroun.com/wp-content/uploads/2023/11/Screenshot-2523.png
END:VEVENT
BEGIN:VEVENT
DTSTART;TZID=Asia/Beirut:20231121T220000
DTEND;TZID=Asia/Beirut:20231121T220000
DTSTAMP:20260421T080833
CREATED:20231120T070924Z
LAST-MODIFIED:20231120T070924Z
UID:10005220-1700604000-1700604000@gobatroun.com
SUMMARY:Hadi Daou at Léyl
DESCRIPTION:Celebrate the spirit of Lebanon’s Independence with Hadi Daou on November 21st
URL:https://gobatroun.com/event/hadi-daou-at-leyl-7/
LOCATION:Léyl
CATEGORIES:Performing Arts
ATTACH;FMTTYPE=image/png:https://gobatroun.com/wp-content/uploads/2023/11/Screenshot-2517.png
END:VEVENT
BEGIN:VEVENT
DTSTART;TZID=Asia/Beirut:20231121T220000
DTEND;TZID=Asia/Beirut:20231121T220000
DTSTAMP:20260421T080833
CREATED:20231120T071759Z
LAST-MODIFIED:20231120T071759Z
UID:10005221-1700604000-1700604000@gobatroun.com
SUMMARY:Hassan El Sayed at Casa Bar
DESCRIPTION:
URL:https://gobatroun.com/event/hassan-el-sayed-at-casa-bar/
LOCATION:Casa Bar
CATEGORIES:Performing Arts
ATTACH;FMTTYPE=image/jpeg:https://gobatroun.com/wp-content/uploads/2023/11/WhatsApp-Image-2023-11-20-at-09.15.51_bd794ccd.jpg
END:VEVENT
BEGIN:VEVENT
DTSTART;TZID=Asia/Beirut:20231121T220000
DTEND;TZID=Asia/Beirut:20231121T220000
DTSTAMP:20260421T080833
CREATED:20231120T072403Z
LAST-MODIFIED:20231120T072403Z
UID:10005223-1700604000-1700604000@gobatroun.com
SUMMARY:DJ Ralph at B1 Batroun
DESCRIPTION:Join the Independence Day celebration with\nDJ Ralph this Tuesday🇱🇧\n📍Batroun
URL:https://gobatroun.com/event/dj-ralph-at-b1-batroun/
LOCATION:B1 Batroun
CATEGORIES:Performing Arts
ATTACH;FMTTYPE=image/png:https://gobatroun.com/wp-content/uploads/2023/11/Screenshot-2520.png
END:VEVENT
END:VCALENDAR