BEGIN:VCALENDAR
VERSION:2.0
PRODID:-//Go Batroun - ECPv6.14.2//NONSGML v1.0//EN
CALSCALE:GREGORIAN
METHOD:PUBLISH
X-ORIGINAL-URL:https://gobatroun.com
X-WR-CALDESC:Events for Go Batroun
REFRESH-INTERVAL;VALUE=DURATION:PT1H
X-Robots-Tag:noindex
X-PUBLISHED-TTL:PT1H
BEGIN:VTIMEZONE
TZID:Asia/Beirut
BEGIN:DAYLIGHT
TZOFFSETFROM:+0200
TZOFFSETTO:+0300
TZNAME:EEST
DTSTART:20230325T220000
END:DAYLIGHT
BEGIN:STANDARD
TZOFFSETFROM:+0300
TZOFFSETTO:+0200
TZNAME:EET
DTSTART:20231028T210000
END:STANDARD
END:VTIMEZONE
BEGIN:VEVENT
DTSTART;TZID=Asia/Beirut:20231117T213000
DTEND;TZID=Asia/Beirut:20231117T213000
DTSTAMP:20260424T165420
CREATED:20231114T115205Z
LAST-MODIFIED:20231114T115205Z
UID:10005172-1700256600-1700256600@gobatroun.com
SUMMARY:Dj Nonz and Dj Mance at Figo
DESCRIPTION:
URL:https://gobatroun.com/event/dj-nonz-and-dj-mance-at-figo/
LOCATION:Figo’s
CATEGORIES:Performing Arts
ATTACH;FMTTYPE=image/png:https://gobatroun.com/wp-content/uploads/2023/11/Screenshot-2500.png
END:VEVENT
BEGIN:VEVENT
DTSTART;TZID=Asia/Beirut:20231117T220000
DTEND;TZID=Asia/Beirut:20231117T220000
DTSTAMP:20260424T165420
CREATED:20231114T092042Z
LAST-MODIFIED:20231114T092042Z
UID:10005152-1700258400-1700258400@gobatroun.com
SUMMARY:DJ Hala at HANGLOOSE
DESCRIPTION:Step into the weekend groove with DJ Hala this Friday night 🕺🏻🤙🏼
URL:https://gobatroun.com/event/dj-hala-at-hangloose/
LOCATION:HANGLOOSE\, 6MW6+PQ Batroun\, Batroun\, Lebanon
CATEGORIES:Performing Arts
ATTACH;FMTTYPE=image/png:https://gobatroun.com/wp-content/uploads/2023/11/Screenshot-2489.png
ORGANIZER;CN="HANGLOOSE":MAILTO:contact@info.com
GEO:34.246771332534;35.661930198875
X-APPLE-STRUCTURED-LOCATION;VALUE=URI;X-ADDRESS=HANGLOOSE 6MW6+PQ Batroun Batroun Lebanon;X-APPLE-RADIUS=500;X-TITLE=6MW6+PQ Batroun:geo:35.661930198875,34.246771332534
END:VEVENT
BEGIN:VEVENT
DTSTART;TZID=Asia/Beirut:20231117T220000
DTEND;TZID=Asia/Beirut:20231117T220000
DTSTAMP:20260424T165420
CREATED:20231114T101704Z
LAST-MODIFIED:20231114T101704Z
UID:10005165-1700258400-1700258400@gobatroun.com
SUMMARY:Rodolphe and The Band at Jet Set Batroun
DESCRIPTION:
URL:https://gobatroun.com/event/rodolphe-and-the-band-at-jet-set-batroun/
LOCATION:Jet set batroun
CATEGORIES:Performing Arts
ATTACH;FMTTYPE=image/png:https://gobatroun.com/wp-content/uploads/2023/11/Screenshot-2493.png
END:VEVENT
BEGIN:VEVENT
DTSTART;TZID=Asia/Beirut:20231117T220000
DTEND;TZID=Asia/Beirut:20231117T220000
DTSTAMP:20260424T165420
CREATED:20231114T103708Z
LAST-MODIFIED:20231114T103708Z
UID:10005170-1700258400-1700258400@gobatroun.com
SUMMARY:Rami Abdo at Seven Night Club
DESCRIPTION:
URL:https://gobatroun.com/event/rami-abdo-at-seven-night-club-2/
LOCATION:Seven Night Club
CATEGORIES:Performing Arts
ATTACH;FMTTYPE=image/png:https://gobatroun.com/wp-content/uploads/2023/11/Screenshot-2498.png
END:VEVENT
BEGIN:VEVENT
DTSTART;TZID=Asia/Beirut:20231117T220000
DTEND;TZID=Asia/Beirut:20231117T220000
DTSTAMP:20260424T165420
CREATED:20231115T132113Z
LAST-MODIFIED:20231115T132113Z
UID:10005175-1700258400-1700258400@gobatroun.com
SUMMARY:Micho and The Band at Casa Bar
DESCRIPTION:
URL:https://gobatroun.com/event/micho-and-the-band-at-casa-bar-3/
LOCATION:Casa Bar
CATEGORIES:Performing Arts
ATTACH;FMTTYPE=image/jpeg:https://gobatroun.com/wp-content/uploads/2023/11/WhatsApp-Image-2023-11-15-at-15.14.47_83de1773.jpg
END:VEVENT
BEGIN:VEVENT
DTSTART;TZID=Asia/Beirut:20231117T220000
DTEND;TZID=Asia/Beirut:20231117T220000
DTSTAMP:20260424T165420
CREATED:20231115T134544Z
LAST-MODIFIED:20231115T134544Z
UID:10005211-1700258400-1700258400@gobatroun.com
SUMMARY:Bazar Night with Dj Ado at Cheers
DESCRIPTION:
URL:https://gobatroun.com/event/bazar-night-with-dj-ado-at-cheers-6/
LOCATION:Cheers
CATEGORIES:Performing Arts
ATTACH;FMTTYPE=image/png:https://gobatroun.com/wp-content/uploads/2023/10/Screenshot-2276.png
END:VEVENT
BEGIN:VEVENT
DTSTART;TZID=Asia/Beirut:20231117T223000
DTEND;TZID=Asia/Beirut:20231117T223000
DTSTAMP:20260424T165420
CREATED:20231114T101849Z
LAST-MODIFIED:20231114T101849Z
UID:10005166-1700260200-1700260200@gobatroun.com
SUMMARY:Tony Najem at Tramway Batroun
DESCRIPTION:Weekend rituals with singer Tony Najem ✨ \nJoin us this Friday for the ultimate Oriental vibes. \nRSVP: 03 514 101
URL:https://gobatroun.com/event/tony-najem-at-tramway-batroun-14/
LOCATION:Tramway Gastro Pub\, 7M45+CQ Batroun\, Batroun\, Lebanon
CATEGORIES:Performing Arts
ATTACH;FMTTYPE=image/png:https://gobatroun.com/wp-content/uploads/2023/10/Screenshot-2273.png
END:VEVENT
BEGIN:VEVENT
DTSTART;TZID=Asia/Beirut:20231117T223000
DTEND;TZID=Asia/Beirut:20231117T223000
DTSTAMP:20260424T165420
CREATED:20231115T132730Z
LAST-MODIFIED:20231115T132730Z
UID:10005192-1700260200-1700260200@gobatroun.com
SUMMARY:Jawad Saad at TAIGA BATROUN CLUB
DESCRIPTION:TaiGa Batroun Every Weekend!\nThis Friday Night 🍸\n#Jawad on Stage #DjRalph\n#TaiGa #Batroun #Lebanon\n#Reserve On 00961 3499408
URL:https://gobatroun.com/event/jawad-saad-at-taiga-batroun-club-30/
LOCATION:TAIGA BATROUN CLUB\, 7M46+23 Batroun\, Batroun\, Lebanon
CATEGORIES:Performing Arts
ATTACH;FMTTYPE=image/png:https://gobatroun.com/wp-content/uploads/2023/07/Screenshot-903.png
GEO:34.255082353874;35.660243950604
X-APPLE-STRUCTURED-LOCATION;VALUE=URI;X-ADDRESS=TAIGA BATROUN CLUB 7M46+23 Batroun Batroun Lebanon;X-APPLE-RADIUS=500;X-TITLE=7M46+23 Batroun:geo:35.660243950604,34.255082353874
END:VEVENT
END:VCALENDAR