BEGIN:VCALENDAR
VERSION:2.0
PRODID:-//Go Batroun - ECPv6.14.2//NONSGML v1.0//EN
CALSCALE:GREGORIAN
METHOD:PUBLISH
X-ORIGINAL-URL:https://gobatroun.com
X-WR-CALDESC:Events for Go Batroun
REFRESH-INTERVAL;VALUE=DURATION:PT1H
X-Robots-Tag:noindex
X-PUBLISHED-TTL:PT1H
BEGIN:VTIMEZONE
TZID:Asia/Beirut
BEGIN:DAYLIGHT
TZOFFSETFROM:+0200
TZOFFSETTO:+0300
TZNAME:EEST
DTSTART:20230325T220000
END:DAYLIGHT
BEGIN:STANDARD
TZOFFSETFROM:+0300
TZOFFSETTO:+0200
TZNAME:EET
DTSTART:20231028T210000
END:STANDARD
END:VTIMEZONE
BEGIN:VEVENT
DTSTART;TZID=Asia/Beirut:20231027T170000
DTEND;TZID=Asia/Beirut:20231027T170000
DTSTAMP:20260420T223846
CREATED:20230925T114140Z
LAST-MODIFIED:20230925T114140Z
UID:10004926-1698426000-1698426000@gobatroun.com
SUMMARY:Kung-fu lesson
DESCRIPTION:Kung-fu lesson with @sifu_club
URL:https://gobatroun.com/event/kung-fu-lesson/2023-10-27/
LOCATION:Kfarabida Festival
CATEGORIES:Sports
ATTACH;FMTTYPE=image/png:https://gobatroun.com/wp-content/uploads/2023/09/Screenshot-2208.png
END:VEVENT
BEGIN:VEVENT
DTSTART;TZID=Asia/Beirut:20231027T200000
DTEND;TZID=Asia/Beirut:20231027T233000
DTSTAMP:20260420T223846
CREATED:20231011T092413Z
LAST-MODIFIED:20231027T065439Z
UID:10005042-1698436800-1698449400@gobatroun.com
SUMMARY:حفل إطلاق ودعم فريق نادي البترون لكرة الطائرة
DESCRIPTION:
URL:https://gobatroun.com/event/%d8%ad%d9%81%d9%84-%d8%a5%d8%b7%d9%84%d8%a7%d9%82-%d9%88%d8%af%d8%b9%d9%85-%d9%81%d8%b1%d9%8a%d9%82-%d9%86%d8%a7%d8%af%d9%8a-%d8%a7%d9%84%d8%a8%d8%aa%d8%b1%d9%88%d9%86-%d9%84%d9%83%d8%b1%d8%a9/
LOCATION:San Stephano Resort
CATEGORIES:Performing Arts
ATTACH;FMTTYPE=image/jpeg:https://gobatroun.com/wp-content/uploads/2023/10/20231026_191604.jpg
END:VEVENT
BEGIN:VEVENT
DTSTART;TZID=Asia/Beirut:20231027T210000
DTEND;TZID=Asia/Beirut:20231027T210000
DTSTAMP:20260420T223846
CREATED:20231025T120938Z
LAST-MODIFIED:20231025T120938Z
UID:10005079-1698440400-1698440400@gobatroun.com
SUMMARY:DJ Raimund at Hangloose
DESCRIPTION:Let’s disco the night away 🕺🏻🪩\nGet ready to groove into the weekend with DJ Raimund this Friday night at Hangloose!
URL:https://gobatroun.com/event/dj-raimund-at-hangloose/
LOCATION:HANGLOOSE\, 6MW6+PQ Batroun\, Batroun\, Lebanon
CATEGORIES:Performing Arts
ATTACH;FMTTYPE=image/png:https://gobatroun.com/wp-content/uploads/2023/10/Screenshot-2385.png
ORGANIZER;CN="HANGLOOSE":MAILTO:contact@info.com
GEO:34.246771332534;35.661930198875
X-APPLE-STRUCTURED-LOCATION;VALUE=URI;X-ADDRESS=HANGLOOSE 6MW6+PQ Batroun Batroun Lebanon;X-APPLE-RADIUS=500;X-TITLE=6MW6+PQ Batroun:geo:35.661930198875,34.246771332534
END:VEVENT
BEGIN:VEVENT
DTSTART;TZID=Asia/Beirut:20231027T213000
DTEND;TZID=Asia/Beirut:20231027T213000
DTSTAMP:20260420T223846
CREATED:20231025T052708Z
LAST-MODIFIED:20231025T052708Z
UID:10005072-1698442200-1698442200@gobatroun.com
SUMMARY:Ziad Hanna at AlHara
DESCRIPTION:Bringing back favorite singers this weekend 🎶 🥁 💃🏽 \n🗓️ Friday @ziad8269 \n📍Location @alharabatroun\n📞 For reservations\, please call 71 664 330
URL:https://gobatroun.com/event/ziad-hanna-at-alhara-3/
LOCATION:Al Hara
CATEGORIES:Performing Arts
ATTACH;FMTTYPE=image/png:https://gobatroun.com/wp-content/uploads/2023/10/Screenshot-2330.png
END:VEVENT
BEGIN:VEVENT
DTSTART;TZID=Asia/Beirut:20231027T213000
DTEND;TZID=Asia/Beirut:20231027T213000
DTSTAMP:20260420T223846
CREATED:20231027T081101Z
LAST-MODIFIED:20231027T081101Z
UID:10005089-1698442200-1698442200@gobatroun.com
SUMMARY:Spooky Night at Jet Set Batroun
DESCRIPTION:
URL:https://gobatroun.com/event/spooky-night-at-jet-set-batroun/
LOCATION:Jet set batroun
CATEGORIES:Performing Arts
ATTACH;FMTTYPE=image/png:https://gobatroun.com/wp-content/uploads/2023/10/Screenshot-2407.png
END:VEVENT
BEGIN:VEVENT
DTSTART;TZID=Asia/Beirut:20231027T220000
DTEND;TZID=Asia/Beirut:20231027T220000
DTSTAMP:20260420T223846
CREATED:20231025T054235Z
LAST-MODIFIED:20231025T054235Z
UID:10005076-1698444000-1698444000@gobatroun.com
SUMMARY:Micho and the Band at Casa Bar
DESCRIPTION:
URL:https://gobatroun.com/event/micho-and-the-band-at-casa-bar/
LOCATION:Casa Bar
CATEGORIES:Performing Arts
ATTACH;FMTTYPE=image/png:https://gobatroun.com/wp-content/uploads/2023/10/Screenshot-2381.png
END:VEVENT
BEGIN:VEVENT
DTSTART;TZID=Asia/Beirut:20231027T223000
DTEND;TZID=Asia/Beirut:20231027T223000
DTSTAMP:20260420T223846
CREATED:20231002T121559Z
LAST-MODIFIED:20231002T121559Z
UID:10004997-1698445800-1698445800@gobatroun.com
SUMMARY:Jawad Saad at TAIGA BATROUN CLUB
DESCRIPTION:TaiGa Batroun Every Weekend!\nThis Friday Night 🍸\n#Jawad on Stage #DjRalph\n#TaiGa #Batroun #Lebanon\n#Reserve On 00961 3499408
URL:https://gobatroun.com/event/jawad-saad-at-taiga-batroun-club-29/2023-10-27/
LOCATION:TAIGA BATROUN CLUB\, 7M46+23 Batroun\, Batroun\, Lebanon
CATEGORIES:Performing Arts
ATTACH;FMTTYPE=image/png:https://gobatroun.com/wp-content/uploads/2023/07/Screenshot-903.png
GEO:34.255082353874;35.660243950604
X-APPLE-STRUCTURED-LOCATION;VALUE=URI;X-ADDRESS=TAIGA BATROUN CLUB 7M46+23 Batroun Batroun Lebanon;X-APPLE-RADIUS=500;X-TITLE=7M46+23 Batroun:geo:35.660243950604,34.255082353874
END:VEVENT
BEGIN:VEVENT
DTSTART;TZID=Asia/Beirut:20231027T223000
DTEND;TZID=Asia/Beirut:20231027T223000
DTSTAMP:20260420T223846
CREATED:20231025T121339Z
LAST-MODIFIED:20231025T121403Z
UID:10005080-1698445800-1698445800@gobatroun.com
SUMMARY:Chadi Saleh\, Lara Boulos at Seven Night Club
DESCRIPTION:
URL:https://gobatroun.com/event/chadi-saleh-lara-boulos-at-vesen-night-club/
LOCATION:Seven Night Club
CATEGORIES:Performing Arts
ATTACH;FMTTYPE=image/png:https://gobatroun.com/wp-content/uploads/2023/10/Screenshot-2386.png
END:VEVENT
END:VCALENDAR