BEGIN:VCALENDAR
VERSION:2.0
PRODID:-//Go Batroun - ECPv6.14.2//NONSGML v1.0//EN
CALSCALE:GREGORIAN
METHOD:PUBLISH
X-ORIGINAL-URL:https://gobatroun.com
X-WR-CALDESC:Events for Go Batroun
REFRESH-INTERVAL;VALUE=DURATION:PT1H
X-Robots-Tag:noindex
X-PUBLISHED-TTL:PT1H
BEGIN:VTIMEZONE
TZID:Asia/Beirut
BEGIN:DAYLIGHT
TZOFFSETFROM:+0200
TZOFFSETTO:+0300
TZNAME:EEST
DTSTART:20230325T220000
END:DAYLIGHT
BEGIN:STANDARD
TZOFFSETFROM:+0300
TZOFFSETTO:+0200
TZNAME:EET
DTSTART:20231028T210000
END:STANDARD
END:VTIMEZONE
BEGIN:VEVENT
DTSTART;TZID=Asia/Beirut:20231020T170000
DTEND;TZID=Asia/Beirut:20231020T170000
DTSTAMP:20260421T180733
CREATED:20230925T114140Z
LAST-MODIFIED:20230925T114140Z
UID:10004924-1697821200-1697821200@gobatroun.com
SUMMARY:Kung-fu lesson
DESCRIPTION:Kung-fu lesson with @sifu_club
URL:https://gobatroun.com/event/kung-fu-lesson/2023-10-20/
LOCATION:Kfarabida Festival
CATEGORIES:Sports
ATTACH;FMTTYPE=image/png:https://gobatroun.com/wp-content/uploads/2023/09/Screenshot-2208.png
END:VEVENT
BEGIN:VEVENT
DTSTART;TZID=Asia/Beirut:20231020T200000
DTEND;TZID=Asia/Beirut:20231020T200000
DTSTAMP:20260421T180733
CREATED:20231020T093949Z
LAST-MODIFIED:20231020T093949Z
UID:10005065-1697832000-1697832000@gobatroun.com
SUMMARY:Dj Roy at Casa Bar
DESCRIPTION:Don’t miss out on this special night with DJ Roy.🎶💃 \nRSVP👉🏻71 108 749 OR 81 328 117
URL:https://gobatroun.com/event/dj-roy-at-casa-bar-5/
LOCATION:Casa Bar
CATEGORIES:Performing Arts
ATTACH;FMTTYPE=image/png:https://gobatroun.com/wp-content/uploads/2023/09/Screenshot-2222.png
END:VEVENT
BEGIN:VEVENT
DTSTART;TZID=Asia/Beirut:20231020T213000
DTEND;TZID=Asia/Beirut:20231020T213000
DTSTAMP:20260421T180733
CREATED:20231017T120439Z
LAST-MODIFIED:20231017T120439Z
UID:10005052-1697837400-1697837400@gobatroun.com
SUMMARY:Clara and the band at Jet Set
DESCRIPTION:Join us for Lebanese vibes with Clara and the band at Jet Set this Friday! 🎵💃
URL:https://gobatroun.com/event/clara-and-the-band-at-jet-set/
LOCATION:Jet set batroun
CATEGORIES:Performing Arts
ATTACH;FMTTYPE=image/png:https://gobatroun.com/wp-content/uploads/2023/10/Screenshot-2357.png
END:VEVENT
BEGIN:VEVENT
DTSTART;TZID=Asia/Beirut:20231020T213000
DTEND;TZID=Asia/Beirut:20231020T213000
DTSTAMP:20260421T180733
CREATED:20231020T093208Z
LAST-MODIFIED:20231020T093208Z
UID:10005064-1697837400-1697837400@gobatroun.com
SUMMARY:Ziad Hanna at AlHara
DESCRIPTION:Bringing back favorite singers this weekend 🎶 🥁 💃🏽 \n🗓️ Friday @ziad8269 \n📍Location @alharabatroun\n📞 For reservations\, please call 71 664 330
URL:https://gobatroun.com/event/ziad-hanna-at-alhara-2/
LOCATION:Al Hara
CATEGORIES:Performing Arts
ATTACH;FMTTYPE=image/png:https://gobatroun.com/wp-content/uploads/2023/10/Screenshot-2330.png
END:VEVENT
BEGIN:VEVENT
DTSTART;TZID=Asia/Beirut:20231020T220000
DTEND;TZID=Asia/Beirut:20231020T220000
DTSTAMP:20260421T180733
CREATED:20231017T121314Z
LAST-MODIFIED:20231017T121314Z
UID:10005053-1697839200-1697839200@gobatroun.com
SUMMARY:Fawzi basha\, and Eleanore Khalil at Seven Night Club
DESCRIPTION:
URL:https://gobatroun.com/event/fawzi-basha-and-eleanore-khalil-at-seven-night-club/
LOCATION:Seven Night Club
CATEGORIES:Performing Arts
ATTACH;FMTTYPE=image/png:https://gobatroun.com/wp-content/uploads/2023/10/Screenshot-2359.png
END:VEVENT
BEGIN:VEVENT
DTSTART;TZID=Asia/Beirut:20231020T220000
DTEND;TZID=Asia/Beirut:20231020T220000
DTSTAMP:20260421T180733
CREATED:20231017T124607Z
LAST-MODIFIED:20231017T124607Z
UID:10005060-1697839200-1697839200@gobatroun.com
SUMMARY:the Ray's Ft. Nidal at Cheers
DESCRIPTION:
URL:https://gobatroun.com/event/the-rays-ft-nidal-at-cheers-2/
LOCATION:Cheers
CATEGORIES:Performing Arts
ATTACH;FMTTYPE=image/png:https://gobatroun.com/wp-content/uploads/2023/10/Screenshot-2362.png
END:VEVENT
BEGIN:VEVENT
DTSTART;TZID=Asia/Beirut:20231020T223000
DTEND;TZID=Asia/Beirut:20231020T223000
DTSTAMP:20260421T180733
CREATED:20231002T121559Z
LAST-MODIFIED:20231002T121559Z
UID:10004996-1697841000-1697841000@gobatroun.com
SUMMARY:Jawad Saad at TAIGA BATROUN CLUB
DESCRIPTION:TaiGa Batroun Every Weekend!\nThis Friday Night 🍸\n#Jawad on Stage #DjRalph\n#TaiGa #Batroun #Lebanon\n#Reserve On 00961 3499408
URL:https://gobatroun.com/event/jawad-saad-at-taiga-batroun-club-29/2023-10-20/
LOCATION:TAIGA BATROUN CLUB\, 7M46+23 Batroun\, Batroun\, Lebanon
CATEGORIES:Performing Arts
ATTACH;FMTTYPE=image/png:https://gobatroun.com/wp-content/uploads/2023/07/Screenshot-903.png
GEO:34.255082353874;35.660243950604
X-APPLE-STRUCTURED-LOCATION;VALUE=URI;X-ADDRESS=TAIGA BATROUN CLUB 7M46+23 Batroun Batroun Lebanon;X-APPLE-RADIUS=500;X-TITLE=7M46+23 Batroun:geo:35.660243950604,34.255082353874
END:VEVENT
END:VCALENDAR