BEGIN:VCALENDAR
VERSION:2.0
PRODID:-//Go Batroun - ECPv6.14.2//NONSGML v1.0//EN
CALSCALE:GREGORIAN
METHOD:PUBLISH
X-ORIGINAL-URL:https://gobatroun.com
X-WR-CALDESC:Events for Go Batroun
REFRESH-INTERVAL;VALUE=DURATION:PT1H
X-Robots-Tag:noindex
X-PUBLISHED-TTL:PT1H
BEGIN:VTIMEZONE
TZID:Asia/Beirut
BEGIN:DAYLIGHT
TZOFFSETFROM:+0200
TZOFFSETTO:+0300
TZNAME:EEST
DTSTART:20230325T220000
END:DAYLIGHT
BEGIN:STANDARD
TZOFFSETFROM:+0300
TZOFFSETTO:+0200
TZNAME:EET
DTSTART:20231028T210000
END:STANDARD
END:VTIMEZONE
BEGIN:VEVENT
DTSTART;TZID=Asia/Beirut:20230929T203000
DTEND;TZID=Asia/Beirut:20230929T203000
DTSTAMP:20260420T223835
CREATED:20230928T082956Z
LAST-MODIFIED:20230928T082956Z
UID:10004986-1696019400-1696019400@gobatroun.com
SUMMARY:Dj Joe Hannoun at Laho
DESCRIPTION:
URL:https://gobatroun.com/event/dj-joe-hannoun-at-laho-2/
LOCATION:Laho Rooftop\, 7M25+8G Batroun\, Batroun\, Lebanon
CATEGORIES:Performing Arts
ATTACH;FMTTYPE=image/png:https://gobatroun.com/wp-content/uploads/2023/09/Screenshot-2243.png
GEO:34.250857358408;35.658874045674
X-APPLE-STRUCTURED-LOCATION;VALUE=URI;X-ADDRESS=Laho Rooftop 7M25+8G Batroun Batroun Lebanon;X-APPLE-RADIUS=500;X-TITLE=7M25+8G Batroun:geo:35.658874045674,34.250857358408
END:VEVENT
BEGIN:VEVENT
DTSTART;TZID=Asia/Beirut:20230929T210000
DTEND;TZID=Asia/Beirut:20230929T210000
DTSTAMP:20260420T223835
CREATED:20230926T132427Z
LAST-MODIFIED:20230926T132427Z
UID:10004976-1696021200-1696021200@gobatroun.com
SUMMARY:Samer Al Asmar at Seven Night Club
DESCRIPTION:
URL:https://gobatroun.com/event/samer-al-asmar-at-seven-night-club-3/
LOCATION:Seven Night Club
CATEGORIES:Performing Arts
ATTACH;FMTTYPE=image/png:https://gobatroun.com/wp-content/uploads/2023/09/Screenshot-2226.png
END:VEVENT
BEGIN:VEVENT
DTSTART;TZID=Asia/Beirut:20230929T210000
DTEND;TZID=Asia/Beirut:20230929T210000
DTSTAMP:20260420T223835
CREATED:20230928T074007Z
LAST-MODIFIED:20230928T074007Z
UID:10004980-1696021200-1696021200@gobatroun.com
SUMMARY:Dj Bibb\, Mc-H\, Ram and Yam at BluBay
DESCRIPTION:
URL:https://gobatroun.com/event/dj-bibb-mc-h-ram-and-yam-at-blubay-2/
LOCATION:Blu Bay Batroun\, 6MW6+QJ Batroun\, Batroun\, Lebanon
CATEGORIES:Performing Arts
ATTACH;FMTTYPE=image/png:https://gobatroun.com/wp-content/uploads/2023/09/Screenshot-2236.png
END:VEVENT
BEGIN:VEVENT
DTSTART;TZID=Asia/Beirut:20230929T210000
DTEND;TZID=Asia/Beirut:20230929T210000
DTSTAMP:20260420T223835
CREATED:20230928T074439Z
LAST-MODIFIED:20230928T074439Z
UID:10004981-1696021200-1696021200@gobatroun.com
SUMMARY:Jād and Gaby at Pierre and Friends
DESCRIPTION:Summer’s official welcome party is this Friday!\nJād and Gaby are ready to set the vibe 🌞🌴 \n🌊 Reservations +961 3 352930\n🌊 Cheers!
URL:https://gobatroun.com/event/jad-and-gaby-at-pierre-and-friends/
LOCATION:Pierre and Friends\, 6J6X+XQ Madfoun\, Batroun\, Lebanon
CATEGORIES:Performing Arts
ATTACH;FMTTYPE=image/png:https://gobatroun.com/wp-content/uploads/2023/09/Screenshot-2237.png
GEO:34.212423239859;35.649460262694
X-APPLE-STRUCTURED-LOCATION;VALUE=URI;X-ADDRESS=Pierre and Friends 6J6X+XQ Madfoun Batroun Lebanon;X-APPLE-RADIUS=500;X-TITLE=6J6X+XQ Madfoun:geo:35.649460262694,34.212423239859
END:VEVENT
BEGIN:VEVENT
DTSTART;TZID=Asia/Beirut:20230929T210000
DTEND;TZID=Asia/Beirut:20230929T210000
DTSTAMP:20260420T223835
CREATED:20230928T081823Z
LAST-MODIFIED:20230928T081841Z
UID:10004985-1696021200-1696021200@gobatroun.com
SUMMARY:Tony Najem at casa bar
DESCRIPTION:Join us this friday to drink\, sing\, and 💃 for an unforgettable Mixed Night with Tony Najem🎤 \n📲 81 328 117 or 71 108 749
URL:https://gobatroun.com/event/tony-najem-at-casa-bar/
LOCATION:Casa Bar
CATEGORIES:Performing Arts
ATTACH;FMTTYPE=image/png:https://gobatroun.com/wp-content/uploads/2023/09/Screenshot-2241.png
END:VEVENT
BEGIN:VEVENT
DTSTART;TZID=Asia/Beirut:20230929T213000
DTEND;TZID=Asia/Beirut:20230929T213000
DTSTAMP:20260420T223835
CREATED:20230926T131848Z
LAST-MODIFIED:20230926T132114Z
UID:10004974-1696023000-1696023000@gobatroun.com
SUMMARY:Al Hadchiti and Dj Kevin at NEOM
DESCRIPTION:
URL:https://gobatroun.com/event/al-hadchiti-and-dj-kevin-at-neom-19/
LOCATION:NEOM\, 6J6X+WX Madfoun\, Madfoun\, Lebanon
CATEGORIES:Performing Arts
ATTACH;FMTTYPE=image/png:https://gobatroun.com/wp-content/uploads/2023/09/Screenshot-2224.png
GEO:34.212265945423;35.649953019482
X-APPLE-STRUCTURED-LOCATION;VALUE=URI;X-ADDRESS=NEOM 6J6X+WX Madfoun Madfoun Lebanon;X-APPLE-RADIUS=500;X-TITLE=6J6X+WX Madfoun:geo:35.649953019482,34.212265945423
END:VEVENT
BEGIN:VEVENT
DTSTART;TZID=Asia/Beirut:20230929T220000
DTEND;TZID=Asia/Beirut:20230929T220000
DTSTAMP:20260420T223835
CREATED:20230926T130641Z
LAST-MODIFIED:20230926T130641Z
UID:10004958-1696024800-1696024800@gobatroun.com
SUMMARY:The Rays Ft. Nidal at Cheers
DESCRIPTION:
URL:https://gobatroun.com/event/the-rays-ft-nidal-at-cheers/
LOCATION:Cheers
CATEGORIES:Performing Arts
ATTACH;FMTTYPE=image/png:https://gobatroun.com/wp-content/uploads/2023/09/Screenshot-2220.png
END:VEVENT
END:VCALENDAR