BEGIN:VCALENDAR
VERSION:2.0
PRODID:-//Go Batroun - ECPv6.14.2//NONSGML v1.0//EN
CALSCALE:GREGORIAN
METHOD:PUBLISH
X-ORIGINAL-URL:https://gobatroun.com
X-WR-CALDESC:Events for Go Batroun
REFRESH-INTERVAL;VALUE=DURATION:PT1H
X-Robots-Tag:noindex
X-PUBLISHED-TTL:PT1H
BEGIN:VTIMEZONE
TZID:Asia/Beirut
BEGIN:DAYLIGHT
TZOFFSETFROM:+0200
TZOFFSETTO:+0300
TZNAME:EEST
DTSTART:20230325T220000
END:DAYLIGHT
BEGIN:STANDARD
TZOFFSETFROM:+0300
TZOFFSETTO:+0200
TZNAME:EET
DTSTART:20231028T210000
END:STANDARD
END:VTIMEZONE
BEGIN:VEVENT
DTSTART;TZID=Asia/Beirut:20230928T180000
DTEND;TZID=Asia/Beirut:20230928T210000
DTSTAMP:20260420T223749
CREATED:20230925T054406Z
LAST-MODIFIED:20230925T054406Z
UID:10004916-1695924000-1695934800@gobatroun.com
SUMMARY:Wine Haven’s tasting room
DESCRIPTION:Experience a delightful evening of wine tasting and art appreciation at the Wine Haven’s tasting room this Thursday\, September 28th\, from 6 to 9 PM. Limited spots available\, so we recommend RSVPing to secure your place. Join us for a unique blend of fine wines and captivating art!
URL:https://gobatroun.com/event/wine-havens-tasting-room/
LOCATION:Aurora Winery
CATEGORIES:Performing Arts
ATTACH;FMTTYPE=image/png:https://gobatroun.com/wp-content/uploads/2023/09/Screenshot-2195.png
END:VEVENT
BEGIN:VEVENT
DTSTART;TZID=Asia/Beirut:20230928T220000
DTEND;TZID=Asia/Beirut:20230928T220000
DTSTAMP:20260420T223749
CREATED:20230926T130855Z
LAST-MODIFIED:20230926T130855Z
UID:10004960-1695938400-1695938400@gobatroun.com
SUMMARY:Bazar Night with Dj Ado at Cheers
DESCRIPTION:
URL:https://gobatroun.com/event/bazar-night-with-dj-ado-at-cheers/
LOCATION:Cheers
CATEGORIES:Performing Arts
ATTACH;FMTTYPE=image/png:https://gobatroun.com/wp-content/uploads/2023/09/Screenshot-2221.png
END:VEVENT
END:VCALENDAR