BEGIN:VCALENDAR
VERSION:2.0
PRODID:-//Go Batroun - ECPv6.14.2//NONSGML v1.0//EN
CALSCALE:GREGORIAN
METHOD:PUBLISH
X-ORIGINAL-URL:https://gobatroun.com
X-WR-CALDESC:Events for Go Batroun
REFRESH-INTERVAL;VALUE=DURATION:PT1H
X-Robots-Tag:noindex
X-PUBLISHED-TTL:PT1H
BEGIN:VTIMEZONE
TZID:Asia/Beirut
BEGIN:DAYLIGHT
TZOFFSETFROM:+0200
TZOFFSETTO:+0300
TZNAME:EEST
DTSTART:20230325T220000
END:DAYLIGHT
BEGIN:STANDARD
TZOFFSETFROM:+0300
TZOFFSETTO:+0200
TZNAME:EET
DTSTART:20231028T210000
END:STANDARD
END:VTIMEZONE
BEGIN:VEVENT
DTSTART;TZID=Asia/Beirut:20230914T200000
DTEND;TZID=Asia/Beirut:20230914T200000
DTSTAMP:20260421T180720
CREATED:20230718T154947Z
LAST-MODIFIED:20230718T155004Z
UID:10004355-1694721600-1694721600@gobatroun.com
SUMMARY:Cynthia and the Band at JetSet Batroun
DESCRIPTION:Thursdays at JetSet Batroun: Unwind\, Savor\, and groove to the Rhythm with ‘Cynthia and the Band’ 🔥 \nWe can’t wait to see you.
URL:https://gobatroun.com/event/cynthia-and-the-band-at-jetset-batroun/2023-09-14/
LOCATION:Jet set batroun
CATEGORIES:Performing Arts
ATTACH;FMTTYPE=image/png:https://gobatroun.com/wp-content/uploads/2023/07/Screenshot-1434.png
END:VEVENT
BEGIN:VEVENT
DTSTART;TZID=Asia/Beirut:20230914T220000
DTEND;TZID=Asia/Beirut:20230914T220000
DTSTAMP:20260421T180720
CREATED:20230912T122725Z
LAST-MODIFIED:20230912T122725Z
UID:10004872-1694728800-1694728800@gobatroun.com
SUMMARY:80's Night with Dj Undertaker at Cheers
DESCRIPTION:
URL:https://gobatroun.com/event/80s-night-with-dj-undertaker-at-cheers-15/
LOCATION:Cheers
CATEGORIES:Performing Arts
ATTACH;FMTTYPE=image/png:https://gobatroun.com/wp-content/uploads/2023/08/Screenshot-2019.png
END:VEVENT
END:VCALENDAR