BEGIN:VCALENDAR
VERSION:2.0
PRODID:-//Go Batroun - ECPv6.14.2//NONSGML v1.0//EN
CALSCALE:GREGORIAN
METHOD:PUBLISH
X-ORIGINAL-URL:https://gobatroun.com
X-WR-CALDESC:Events for Go Batroun
REFRESH-INTERVAL;VALUE=DURATION:PT1H
X-Robots-Tag:noindex
X-PUBLISHED-TTL:PT1H
BEGIN:VTIMEZONE
TZID:Asia/Beirut
BEGIN:DAYLIGHT
TZOFFSETFROM:+0200
TZOFFSETTO:+0300
TZNAME:EEST
DTSTART:20230325T220000
END:DAYLIGHT
BEGIN:STANDARD
TZOFFSETFROM:+0300
TZOFFSETTO:+0200
TZNAME:EET
DTSTART:20231028T210000
END:STANDARD
END:VTIMEZONE
BEGIN:VEVENT
DTSTART;TZID=Asia/Beirut:20230913T180000
DTEND;TZID=Asia/Beirut:20230913T180000
DTSTAMP:20260420T203249
CREATED:20230913T121319Z
LAST-MODIFIED:20230913T121319Z
UID:10004883-1694628000-1694628000@gobatroun.com
SUMMARY:Open Wings & Beer at MIDNIGHT MUNCHIES
DESCRIPTION:Embrace the Messiness! 🍺🍗 Open Wings & Beer this Wednesday!\nJoin us for an unforgettable feast! \nReserve your spot on (79) 115 394
URL:https://gobatroun.com/event/open-wings-beer-at-midnight-munchies/
LOCATION:MIDNIGHT MUNCHIES
CATEGORIES:Performing Arts
ATTACH;FMTTYPE=image/png:https://gobatroun.com/wp-content/uploads/2023/09/Screenshot-2120.png
END:VEVENT
BEGIN:VEVENT
DTSTART;TZID=Asia/Beirut:20230913T210000
DTEND;TZID=Asia/Beirut:20230913T210000
DTSTAMP:20260420T203249
CREATED:20230913T093458Z
LAST-MODIFIED:20230913T093458Z
UID:10004880-1694638800-1694638800@gobatroun.com
SUMMARY:Hala and The Band at Jet Set Batroun
DESCRIPTION:
URL:https://gobatroun.com/event/hala-and-the-band-at-jet-set-batroun/
LOCATION:Jet set batroun
CATEGORIES:Performing Arts
ATTACH;FMTTYPE=image/png:https://gobatroun.com/wp-content/uploads/2023/09/Screenshot-2118.png
END:VEVENT
BEGIN:VEVENT
DTSTART;TZID=Asia/Beirut:20230913T220000
DTEND;TZID=Asia/Beirut:20230913T220000
DTSTAMP:20260420T203249
CREATED:20230718T131233Z
LAST-MODIFIED:20230718T131233Z
UID:10004340-1694642400-1694642400@gobatroun.com
SUMMARY:Sami Chamas at  Merchak بالسوق
DESCRIPTION:Level up your Oriental night with Sami Chamas\, every Wednesday starting 10:00 PM \n📱 76 666 151\n✨ Find our menu at the link in the bio
URL:https://gobatroun.com/event/sami-chamas-at-merchak-%d8%a8%d8%a7%d9%84%d8%b3%d9%88%d9%82/2023-09-13/
LOCATION:Merchak بالسوق
CATEGORIES:Performing Arts
ATTACH;FMTTYPE=image/png:https://gobatroun.com/wp-content/uploads/2023/07/Screenshot-1425.png
END:VEVENT
BEGIN:VEVENT
DTSTART;TZID=Asia/Beirut:20230913T220000
DTEND;TZID=Asia/Beirut:20230913T220000
DTSTAMP:20260420T203249
CREATED:20230912T122706Z
LAST-MODIFIED:20230912T122706Z
UID:10004871-1694642400-1694642400@gobatroun.com
SUMMARY:Stephan Roukos at Cheers
DESCRIPTION:
URL:https://gobatroun.com/event/stephan-roukos-at-cheers-40/
LOCATION:Cheers
CATEGORIES:Performing Arts
ATTACH;FMTTYPE=image/png:https://gobatroun.com/wp-content/uploads/2023/08/Screenshot-2016.png
END:VEVENT
END:VCALENDAR