BEGIN:VCALENDAR
VERSION:2.0
PRODID:-//Go Batroun - ECPv6.14.2//NONSGML v1.0//EN
CALSCALE:GREGORIAN
METHOD:PUBLISH
X-WR-CALNAME:Go Batroun
X-ORIGINAL-URL:https://gobatroun.com
X-WR-CALDESC:Events for Go Batroun
REFRESH-INTERVAL;VALUE=DURATION:PT1H
X-Robots-Tag:noindex
X-PUBLISHED-TTL:PT1H
BEGIN:VTIMEZONE
TZID:Asia/Beirut
BEGIN:DAYLIGHT
TZOFFSETFROM:+0200
TZOFFSETTO:+0300
TZNAME:EEST
DTSTART:20230325T220000
END:DAYLIGHT
BEGIN:STANDARD
TZOFFSETFROM:+0300
TZOFFSETTO:+0200
TZNAME:EET
DTSTART:20231028T210000
END:STANDARD
END:VTIMEZONE
BEGIN:VEVENT
DTSTART;TZID=Asia/Beirut:20230908T080000
DTEND;TZID=Asia/Beirut:20230908T170000
DTSTAMP:20260421T011556
CREATED:20230509T094219Z
LAST-MODIFIED:20230808T081113Z
UID:10004520-1694160000-1694192400@gobatroun.com
SUMMARY:BIF 2023: Batroun Mediterranean Film Festival
DESCRIPTION:We are one month away and we are so excited 🐙🐚🍻 \nThe 7th edition of the Batroun Mediterranean Film Festival will take place from September 7 till September 10. \nVisual Identity and Design by the talented @michelledaou \nPhoto Archive @alfredmoussaphotography collection.
URL:https://gobatroun.com/event/batroun-international-festival-2023-4/2023-09-08/
LOCATION:Batroun\, 6MX6+79V Batroun\, Batroun\, 1400\, Lebanon
CATEGORIES:Festivals,Performing Arts
ATTACH;FMTTYPE=image/png:https://gobatroun.com/wp-content/uploads/2023/05/Screenshot-1681.png
GEO:34.248237811542;35.660916328184
X-APPLE-STRUCTURED-LOCATION;VALUE=URI;X-ADDRESS=Batroun 6MX6+79V Batroun Batroun 1400 Lebanon;X-APPLE-RADIUS=500;X-TITLE=6MX6+79V Batroun:geo:35.660916328184,34.248237811542
END:VEVENT
BEGIN:VEVENT
DTSTART;TZID=Asia/Beirut:20230908T200000
DTEND;TZID=Asia/Beirut:20230908T200000
DTSTAMP:20260421T011556
CREATED:20230907T094605Z
LAST-MODIFIED:20230907T094605Z
UID:10004841-1694203200-1694203200@gobatroun.com
SUMMARY:Burger Night at Pine Straw Douma
DESCRIPTION:
URL:https://gobatroun.com/event/burger-night-at-pine-straw-douma-2/
LOCATION:Pine Straw Douma
CATEGORIES:Performing Arts
ATTACH;FMTTYPE=image/png:https://gobatroun.com/wp-content/uploads/2023/09/Screenshot-2070.png
END:VEVENT
BEGIN:VEVENT
DTSTART;TZID=Asia/Beirut:20230908T203000
DTEND;TZID=Asia/Beirut:20230908T203000
DTSTAMP:20260421T011556
CREATED:20230907T101945Z
LAST-MODIFIED:20230907T101945Z
UID:10004846-1694205000-1694205000@gobatroun.com
SUMMARY:Dj Nonz at Laho
DESCRIPTION:
URL:https://gobatroun.com/event/dj-nonz-at-laho-5/
LOCATION:Laho Rooftop\, 7M25+8G Batroun\, Batroun\, Lebanon
CATEGORIES:Performing Arts
ATTACH;FMTTYPE=image/png:https://gobatroun.com/wp-content/uploads/2023/07/Screenshot-1448-505x510-1.png
GEO:34.250857358408;35.658874045674
X-APPLE-STRUCTURED-LOCATION;VALUE=URI;X-ADDRESS=Laho Rooftop 7M25+8G Batroun Batroun Lebanon;X-APPLE-RADIUS=500;X-TITLE=7M25+8G Batroun:geo:35.658874045674,34.250857358408
END:VEVENT
BEGIN:VEVENT
DTSTART;TZID=Asia/Beirut:20230908T210000
DTEND;TZID=Asia/Beirut:20230908T210000
DTSTAMP:20260421T011556
CREATED:20230906T061554Z
LAST-MODIFIED:20230906T061554Z
UID:10004835-1694206800-1694206800@gobatroun.com
SUMMARY:Josiane El Zir at El Compadre Oyster Bar
DESCRIPTION:What’s your plan for the weekend?\nJoin us #friday september 8\,\nfor an amazing fusion night with\n@josianeelzir 🔥💃 \nBook your spot Now👇\n81 50 1234
URL:https://gobatroun.com/event/josiane-el-zir-at-el-compadre-oyster-bar-2/
LOCATION:El Compadre Oyster Bar
CATEGORIES:Performing Arts
ATTACH;FMTTYPE=image/png:https://gobatroun.com/wp-content/uploads/2023/09/Screenshot-2055.png
END:VEVENT
BEGIN:VEVENT
DTSTART;TZID=Asia/Beirut:20230908T213000
DTEND;TZID=Asia/Beirut:20230908T213000
DTSTAMP:20260421T011556
CREATED:20230906T052817Z
LAST-MODIFIED:20230906T052817Z
UID:10004813-1694208600-1694208600@gobatroun.com
SUMMARY:Al Hadchiti and Dj Kevin at NEOM
DESCRIPTION:
URL:https://gobatroun.com/event/al-hadchiti-and-dj-kevin-at-neom-16/
LOCATION:NEOM\, 6J6X+WX Madfoun\, Madfoun\, Lebanon
CATEGORIES:Performing Arts
ATTACH;FMTTYPE=image/png:https://gobatroun.com/wp-content/uploads/2023/07/Screenshot-987.png
GEO:34.212265945423;35.649953019482
X-APPLE-STRUCTURED-LOCATION;VALUE=URI;X-ADDRESS=NEOM 6J6X+WX Madfoun Madfoun Lebanon;X-APPLE-RADIUS=500;X-TITLE=6J6X+WX Madfoun:geo:35.649953019482,34.212265945423
END:VEVENT
BEGIN:VEVENT
DTSTART;TZID=Asia/Beirut:20230908T220000
DTEND;TZID=Asia/Beirut:20230908T220000
DTSTAMP:20260421T011556
CREATED:20230906T055050Z
LAST-MODIFIED:20230906T055248Z
UID:10004818-1694210400-1694210400@gobatroun.com
SUMMARY:Joud Dallal at Tramway Batroun
DESCRIPTION:This friday\, september 8\, Joud Dallal at Tramway Batroun\nFor reservations call us on – 03 51 41 01\nOr WhatsApp us on – https://wa.link/4z3wsz\n🕘starting 10 Pm
URL:https://gobatroun.com/event/joud-dallal-at-tramway-batroun-25/
LOCATION:Tramway Gastro Pub\, 7M45+CQ Batroun\, Batroun\, Lebanon
CATEGORIES:Performing Arts
ATTACH;FMTTYPE=image/png:https://gobatroun.com/wp-content/uploads/2023/07/Screenshot-1485.png
END:VEVENT
BEGIN:VEVENT
DTSTART;TZID=Asia/Beirut:20230908T220000
DTEND;TZID=Asia/Beirut:20230908T220000
DTSTAMP:20260421T011556
CREATED:20230906T060354Z
LAST-MODIFIED:20230906T060354Z
UID:10004823-1694210400-1694210400@gobatroun.com
SUMMARY:Charbel Narchy at Seven Night Club
DESCRIPTION:
URL:https://gobatroun.com/event/charbel-narchy-at-seven-night-club-2/
LOCATION:Seven Night Club
CATEGORIES:Performing Arts
ATTACH;FMTTYPE=image/png:https://gobatroun.com/wp-content/uploads/2023/09/Screenshot-2052.png
END:VEVENT
BEGIN:VEVENT
DTSTART;TZID=Asia/Beirut:20230908T223000
DTEND;TZID=Asia/Beirut:20230908T223000
DTSTAMP:20260421T011556
CREATED:20230906T055533Z
LAST-MODIFIED:20230906T055533Z
UID:10004820-1694212200-1694212200@gobatroun.com
SUMMARY:Jawad Saad at TAIGA BATROUN CLUB
DESCRIPTION:TaiGa Batroun Every Weekend!\nThis Friday Night 🍸\n#Jawad on Stage #DjRalph\n#TaiGa #Batroun #Lebanon\n#Reserve On 00961 3499408
URL:https://gobatroun.com/event/jawad-saad-at-taiga-batroun-club-27/
LOCATION:TAIGA BATROUN CLUB\, 7M46+23 Batroun\, Batroun\, Lebanon
CATEGORIES:Performing Arts
ATTACH;FMTTYPE=image/png:https://gobatroun.com/wp-content/uploads/2023/07/Screenshot-903.png
GEO:34.255082353874;35.660243950604
X-APPLE-STRUCTURED-LOCATION;VALUE=URI;X-ADDRESS=TAIGA BATROUN CLUB 7M46+23 Batroun Batroun Lebanon;X-APPLE-RADIUS=500;X-TITLE=7M46+23 Batroun:geo:35.660243950604,34.255082353874
END:VEVENT
END:VCALENDAR