BEGIN:VCALENDAR
VERSION:2.0
PRODID:-//Go Batroun - ECPv6.14.2//NONSGML v1.0//EN
CALSCALE:GREGORIAN
METHOD:PUBLISH
X-ORIGINAL-URL:https://gobatroun.com
X-WR-CALDESC:Events for Go Batroun
REFRESH-INTERVAL;VALUE=DURATION:PT1H
X-Robots-Tag:noindex
X-PUBLISHED-TTL:PT1H
BEGIN:VTIMEZONE
TZID:Asia/Beirut
BEGIN:DAYLIGHT
TZOFFSETFROM:+0200
TZOFFSETTO:+0300
TZNAME:EEST
DTSTART:20230325T220000
END:DAYLIGHT
BEGIN:STANDARD
TZOFFSETFROM:+0300
TZOFFSETTO:+0200
TZNAME:EET
DTSTART:20231028T210000
END:STANDARD
END:VTIMEZONE
BEGIN:VEVENT
DTSTART;TZID=Asia/Beirut:20230824T070000
DTEND;TZID=Asia/Beirut:20230824T070000
DTSTAMP:20260424T165416
CREATED:20230816T112513Z
LAST-MODIFIED:20230816T113006Z
UID:10004638-1692860400-1692860400@gobatroun.com
SUMMARY:One Blood Gathering at Colonel Reef
DESCRIPTION:After 3 years of absence\, we’re thrilled to announce the return of our annual fundraising event this time at @colonelreefbatroun ! \n>>>This vital occasion not only brings us together\, but also provides essential funding for our organization’s life-saving mission<<< \nJoin us in supporting the blood donation cause while enjoying live music with @jammit_the_band followed by a Dj mix by @dubouin_lebanese_reggae and many performing arts in between – a perfect combination for a meaningful and enjoyable evening. \nLet’s make this comeback event one to remember!\nYour presence and voluntary contributions will help us continue our mission.\nSpread the word\, grab some friends and let’s make a positive impact\, together! \nFor those who cannot make it\, but wish to contribute you can do so through\n@whish.money : 20605364
URL:https://gobatroun.com/event/one-blood-gathering-at-colonel-reef/
LOCATION:Colonel Reef\, 6MX5+R2 Batroun\, Batroun\, Lebanon
CATEGORIES:Performing Arts
ATTACH;FMTTYPE=image/png:https://gobatroun.com/wp-content/uploads/2023/08/Screenshot-1864.png
GEO:34.249604995751;35.657635266722
X-APPLE-STRUCTURED-LOCATION;VALUE=URI;X-ADDRESS=Colonel Reef 6MX5+R2 Batroun Batroun Lebanon;X-APPLE-RADIUS=500;X-TITLE=6MX5+R2 Batroun:geo:35.657635266722,34.249604995751
END:VEVENT
BEGIN:VEVENT
DTSTART;TZID=Asia/Beirut:20230824T190000
DTEND;TZID=Asia/Beirut:20230824T190000
DTSTAMP:20260424T165416
CREATED:20230824T084732Z
LAST-MODIFIED:20230824T084732Z
UID:10004710-1692903600-1692903600@gobatroun.com
SUMMARY:One Blood Gathering at Colonel Reef
DESCRIPTION:Colonel Reef Batroun is thrilled to host the annual DSC Lebanon fundraiser after a 3-year hiatus! Join in supporting the life-saving mission through blood donation while enjoying live music\, reggae beats\, and the arts. 🩸✨ \nFull details on Lebtivity.com
URL:https://gobatroun.com/event/one-blood-gathering-at-colonel-reef-2/
LOCATION:Colonel Reef\, 6MX5+R2 Batroun\, Batroun\, Lebanon
CATEGORIES:Performing Arts
ATTACH;FMTTYPE=image/png:https://gobatroun.com/wp-content/uploads/2023/08/Screenshot-1988.png
GEO:34.249604995751;35.657635266722
X-APPLE-STRUCTURED-LOCATION;VALUE=URI;X-ADDRESS=Colonel Reef 6MX5+R2 Batroun Batroun Lebanon;X-APPLE-RADIUS=500;X-TITLE=6MX5+R2 Batroun:geo:35.657635266722,34.249604995751
END:VEVENT
BEGIN:VEVENT
DTSTART;TZID=Asia/Beirut:20230824T200000
DTEND;TZID=Asia/Beirut:20230824T200000
DTSTAMP:20260424T165416
CREATED:20230718T154947Z
LAST-MODIFIED:20230718T155004Z
UID:10004352-1692907200-1692907200@gobatroun.com
SUMMARY:Cynthia and the Band at JetSet Batroun
DESCRIPTION:Thursdays at JetSet Batroun: Unwind\, Savor\, and groove to the Rhythm with ‘Cynthia and the Band’ 🔥 \nWe can’t wait to see you.
URL:https://gobatroun.com/event/cynthia-and-the-band-at-jetset-batroun/2023-08-24/
LOCATION:Jet set batroun
CATEGORIES:Performing Arts
ATTACH;FMTTYPE=image/png:https://gobatroun.com/wp-content/uploads/2023/07/Screenshot-1434.png
END:VEVENT
BEGIN:VEVENT
DTSTART;TZID=Asia/Beirut:20230824T203000
DTEND;TZID=Asia/Beirut:20230824T203000
DTSTAMP:20260424T165416
CREATED:20230824T091639Z
LAST-MODIFIED:20230824T091639Z
UID:10004713-1692909000-1692909000@gobatroun.com
SUMMARY:Dj Cedrix at Laho
DESCRIPTION:
URL:https://gobatroun.com/event/dj-cedrix-at-laho-5/
LOCATION:Laho Rooftop\, 7M25+8G Batroun\, Batroun\, Lebanon
CATEGORIES:Performing Arts
ATTACH;FMTTYPE=image/png:https://gobatroun.com/wp-content/uploads/2023/07/Screenshot-1449.png
GEO:34.250857358408;35.658874045674
X-APPLE-STRUCTURED-LOCATION;VALUE=URI;X-ADDRESS=Laho Rooftop 7M25+8G Batroun Batroun Lebanon;X-APPLE-RADIUS=500;X-TITLE=7M25+8G Batroun:geo:35.658874045674,34.250857358408
END:VEVENT
BEGIN:VEVENT
DTSTART;TZID=Asia/Beirut:20230824T210000
DTEND;TZID=Asia/Beirut:20230824T210000
DTSTAMP:20260424T165416
CREATED:20230824T101100Z
LAST-MODIFIED:20230824T101100Z
UID:10004716-1692910800-1692910800@gobatroun.com
SUMMARY:Dj Samix at Merchak بالسوق
DESCRIPTION:
URL:https://gobatroun.com/event/dj-samix-at-merchak-%d8%a8%d8%a7%d9%84%d8%b3%d9%88%d9%82-11/
LOCATION:Merchak بالسوق
CATEGORIES:Performing Arts
ATTACH;FMTTYPE=image/png:https://gobatroun.com/wp-content/uploads/2023/07/Screenshot-1991.png
END:VEVENT
BEGIN:VEVENT
DTSTART;TZID=Asia/Beirut:20230824T220000
DTEND;TZID=Asia/Beirut:20230824T220000
DTSTAMP:20260424T165416
CREATED:20230818T142721Z
LAST-MODIFIED:20230818T142721Z
UID:10004653-1692914400-1692914400@gobatroun.com
SUMMARY:Georges Harb and Ahmad Hussein at Kfarhay
DESCRIPTION:
URL:https://gobatroun.com/event/georges-harb-and-ahmad-hussein-at-kfarhay/
LOCATION:kfarhay
CATEGORIES:Performing Arts
ATTACH;FMTTYPE=image/jpeg:https://gobatroun.com/wp-content/uploads/2023/08/WhatsApp-Image-2023-08-17-at-21.05.09.jpg
END:VEVENT
BEGIN:VEVENT
DTSTART;TZID=Asia/Beirut:20230824T220000
DTEND;TZID=Asia/Beirut:20230824T220000
DTSTAMP:20260424T165416
CREATED:20230821T073103Z
LAST-MODIFIED:20230821T073316Z
UID:10004657-1692914400-1692914400@gobatroun.com
SUMMARY:Dominique Bakhos at Mar Saba Selaata
DESCRIPTION:
URL:https://gobatroun.com/event/dominique-bakhos-at-mar-saba-selaata/
LOCATION:selaata
CATEGORIES:Performing Arts
ATTACH;FMTTYPE=image/jpeg:https://gobatroun.com/wp-content/uploads/2023/08/WhatsApp-Image-2023-08-20-at-15.41.00.jpg
END:VEVENT
BEGIN:VEVENT
DTSTART;TZID=Asia/Beirut:20230824T220000
DTEND;TZID=Asia/Beirut:20230824T220000
DTSTAMP:20260424T165416
CREATED:20230821T074113Z
LAST-MODIFIED:20230821T074113Z
UID:10004659-1692914400-1692914400@gobatroun.com
SUMMARY:Jean-Jacques Lafon at SÃO
DESCRIPTION:We welcome you to a mesmerizing French night with the outstanding @jean_jacques_lafon on Thursday 24 of August at São followed by @ralphkalache ✨ \nFor your reservations\, contact us on 03 600 943
URL:https://gobatroun.com/event/jean-jacques-lafon-at-sao/
LOCATION:SÃO
CATEGORIES:Performing Arts
ATTACH;FMTTYPE=image/jpeg:https://gobatroun.com/wp-content/uploads/2023/08/WhatsApp-Image-2023-08-21-at-10.23.02.jpg
END:VEVENT
BEGIN:VEVENT
DTSTART;TZID=Asia/Beirut:20230824T220000
DTEND;TZID=Asia/Beirut:20230824T220000
DTSTAMP:20260424T165416
CREATED:20230821T114358Z
LAST-MODIFIED:20230821T114430Z
UID:10004662-1692914400-1692914400@gobatroun.com
SUMMARY:Naji Osta at Kai Beach
DESCRIPTION:Naji Osta will be gracing Kai Beach once again on Thursday\, August 24th. \nDoors open at 10 pm.\nInfo & Reservations 79188988
URL:https://gobatroun.com/event/naji-osta-at-kai-beach/
LOCATION:Kai Beach\, 6J7X+FV Madfoun\, Madfoun\, Lebanon
CATEGORIES:Performing Arts
ATTACH;FMTTYPE=image/png:https://gobatroun.com/wp-content/uploads/2023/08/Screenshot-1902.png
END:VEVENT
BEGIN:VEVENT
DTSTART;TZID=Asia/Beirut:20230824T220000
DTEND;TZID=Asia/Beirut:20230824T220000
DTSTAMP:20260424T165416
CREATED:20230824T051209Z
LAST-MODIFIED:20230824T051209Z
UID:10004705-1692914400-1692914400@gobatroun.com
SUMMARY:Dj Bibb and Mc-H at NEOM
DESCRIPTION:
URL:https://gobatroun.com/event/dj-bibb-and-mc-h-at-neom-12/
LOCATION:NEOM\, 6J6X+WX Madfoun\, Madfoun\, Lebanon
CATEGORIES:Performing Arts
ATTACH;FMTTYPE=image/png:https://gobatroun.com/wp-content/uploads/2023/07/Screenshot-1334.png
GEO:34.212265945423;35.649953019482
X-APPLE-STRUCTURED-LOCATION;VALUE=URI;X-ADDRESS=NEOM 6J6X+WX Madfoun Madfoun Lebanon;X-APPLE-RADIUS=500;X-TITLE=6J6X+WX Madfoun:geo:35.649953019482,34.212265945423
END:VEVENT
BEGIN:VEVENT
DTSTART;TZID=Asia/Beirut:20230824T220000
DTEND;TZID=Asia/Beirut:20230824T220000
DTSTAMP:20260424T165416
CREATED:20230824T093735Z
LAST-MODIFIED:20230824T093735Z
UID:10004715-1692914400-1692914400@gobatroun.com
SUMMARY:Retro Night at JET SET batroun
DESCRIPTION:
URL:https://gobatroun.com/event/retro-night-at-jet-set-batroun-2/
LOCATION:Jet set batroun
CATEGORIES:Performing Arts
ATTACH;FMTTYPE=image/png:https://gobatroun.com/wp-content/uploads/2023/08/Screenshot-1733.png
END:VEVENT
END:VCALENDAR