BEGIN:VCALENDAR
VERSION:2.0
PRODID:-//Go Batroun - ECPv6.14.2//NONSGML v1.0//EN
CALSCALE:GREGORIAN
METHOD:PUBLISH
X-WR-CALNAME:Go Batroun
X-ORIGINAL-URL:https://gobatroun.com
X-WR-CALDESC:Events for Go Batroun
REFRESH-INTERVAL;VALUE=DURATION:PT1H
X-Robots-Tag:noindex
X-PUBLISHED-TTL:PT1H
BEGIN:VTIMEZONE
TZID:Asia/Beirut
BEGIN:DAYLIGHT
TZOFFSETFROM:+0200
TZOFFSETTO:+0300
TZNAME:EEST
DTSTART:20230325T220000
END:DAYLIGHT
BEGIN:STANDARD
TZOFFSETFROM:+0300
TZOFFSETTO:+0200
TZNAME:EET
DTSTART:20231028T210000
END:STANDARD
END:VTIMEZONE
BEGIN:VEVENT
DTSTART;TZID=Asia/Beirut:20230721T180000
DTEND;TZID=Asia/Beirut:20230721T180000
DTSTAMP:20260421T131821
CREATED:20230713T080451Z
LAST-MODIFIED:20230713T085300Z
UID:10004042-1689962400-1689962400@gobatroun.com
SUMMARY:Private Collection: Scenes at Dar Al Mona
DESCRIPTION:Dar al Mona proudly unveils the second exhibition of artworks from its private collection. This series features a charming array of landscapes and houses from Lebanon\, including pieces painted by Mona Abi-Hanna herself\, adding a personal touch to this collection of watercolors and oils. \nThis exhibition also features the work of:\nRaymond Ghaleb\nArlette Haddad\nFather Jean Jabbour\nMichel Rouhana \nStarting July 15 at 6 PM\nJuly 16 to August 6 / Fridays to Sundays 3 to 8 PM
URL:https://gobatroun.com/event/private-collection-scenes-at-dar-al-mona/2023-07-21/
LOCATION:Dar Al Mona\, 7M35+PM Batroun\, Batroun\, Lebanon
CATEGORIES:Performing Arts
ATTACH;FMTTYPE=image/jpeg:https://gobatroun.com/wp-content/uploads/2023/07/DAM-Private-Collection-Scenes-07-23-05.jpg
GEO:34.254368398216;35.659186434674
X-APPLE-STRUCTURED-LOCATION;VALUE=URI;X-ADDRESS=Dar Al Mona 7M35+PM Batroun Batroun Lebanon;X-APPLE-RADIUS=500;X-TITLE=7M35+PM Batroun:geo:35.659186434674,34.254368398216
END:VEVENT
BEGIN:VEVENT
DTSTART;TZID=Asia/Beirut:20230721T200000
DTEND;TZID=Asia/Beirut:20230721T200000
DTSTAMP:20260421T131821
CREATED:20230714T134339Z
LAST-MODIFIED:20230714T134339Z
UID:10004264-1689969600-1689969600@gobatroun.com
SUMMARY:Clara Atallah at Kir Restaurant
DESCRIPTION:Join us FRIDAY 21 July\, Starting 7:30 for an Amazing Sunset and Fusion Night @kirwinebar ! \nlet’s Drink Dine n’ Sing along with the Talented @claraattallah at the Fusion Night ! \nFor Bar n’ Table Reservation\n03 66 35 57
URL:https://gobatroun.com/event/clara-atallah-at-kir-restaurant/
LOCATION:Kir Restaurant & WineBar\, 6MPM+8RG\, Edde\, Batroun\, Lebanon
CATEGORIES:Performing Arts
ATTACH;FMTTYPE=image/png:https://gobatroun.com/wp-content/uploads/2023/07/Screenshot-1358.png
END:VEVENT
BEGIN:VEVENT
DTSTART;TZID=Asia/Beirut:20230721T210000
DTEND;TZID=Asia/Beirut:20230721T210000
DTSTAMP:20260421T131821
CREATED:20230718T155936Z
LAST-MODIFIED:20230718T155936Z
UID:10004358-1689973200-1689973200@gobatroun.com
SUMMARY:Aline Lahoud at El Compadre Oyster Bar
DESCRIPTION:Meet us this #friday with the one and only\n@alinelahoudofficial\nWaiting for you all 🌅💃
URL:https://gobatroun.com/event/aline-lahoud-at-el-compadre-oyster-bar/
LOCATION:El Compadre Oyster Bar
CATEGORIES:Performing Arts
ATTACH;FMTTYPE=image/png:https://gobatroun.com/wp-content/uploads/2023/07/Screenshot-1439.png
END:VEVENT
BEGIN:VEVENT
DTSTART;TZID=Asia/Beirut:20230721T210000
DTEND;TZID=Asia/Beirut:20230721T210000
DTSTAMP:20260421T131821
CREATED:20230718T163153Z
LAST-MODIFIED:20230718T163153Z
UID:10004360-1689973200-1689973200@gobatroun.com
SUMMARY:Clout Fest at BluBay
DESCRIPTION:
URL:https://gobatroun.com/event/clout-fest-at-blubay/
LOCATION:Blu Bay Batroun\, 6MW6+QJ Batroun\, Batroun\, Lebanon
CATEGORIES:Performing Arts
ATTACH;FMTTYPE=image/png:https://gobatroun.com/wp-content/uploads/2023/07/Screenshot-1442.png
END:VEVENT
BEGIN:VEVENT
DTSTART;TZID=Asia/Beirut:20230721T213000
DTEND;TZID=Asia/Beirut:20230721T213000
DTSTAMP:20260421T131821
CREATED:20230718T124252Z
LAST-MODIFIED:20230718T124401Z
UID:10004318-1689975000-1689975000@gobatroun.com
SUMMARY:Al Hadchiti and Dj Kevin at NEOM
DESCRIPTION:
URL:https://gobatroun.com/event/al-hadchiti-and-dj-kevin-at-neom-9/
LOCATION:NEOM\, 6J6X+WX Madfoun\, Madfoun\, Lebanon
CATEGORIES:Performing Arts
ATTACH;FMTTYPE=image/png:https://gobatroun.com/wp-content/uploads/2023/07/Screenshot-987.png
GEO:34.212265945423;35.649953019482
X-APPLE-STRUCTURED-LOCATION;VALUE=URI;X-ADDRESS=NEOM 6J6X+WX Madfoun Madfoun Lebanon;X-APPLE-RADIUS=500;X-TITLE=6J6X+WX Madfoun:geo:35.649953019482,34.212265945423
END:VEVENT
BEGIN:VEVENT
DTSTART;TZID=Asia/Beirut:20230721T220000
DTEND;TZID=Asia/Beirut:20230721T220000
DTSTAMP:20260421T131821
CREATED:20230718T130325Z
LAST-MODIFIED:20230718T130325Z
UID:10004326-1689976800-1689976800@gobatroun.com
SUMMARY:Dj Undertaker at Cheers
DESCRIPTION:
URL:https://gobatroun.com/event/dj-undertaker-at-cheers-35/
LOCATION:Cheers
CATEGORIES:Performing Arts
ATTACH;FMTTYPE=image/png:https://gobatroun.com/wp-content/uploads/2023/07/Screenshot-472.png
END:VEVENT
BEGIN:VEVENT
DTSTART;TZID=Asia/Beirut:20230721T220000
DTEND;TZID=Asia/Beirut:20230721T220000
DTSTAMP:20260421T131821
CREATED:20230718T132358Z
LAST-MODIFIED:20230718T132358Z
UID:10004343-1689976800-1689976800@gobatroun.com
SUMMARY:Ghadeer Badran at Seven Night Club
DESCRIPTION:
URL:https://gobatroun.com/event/ghadeer-badran-at-seven-night-club-6/
LOCATION:Seven Night Club
CATEGORIES:Performing Arts
ATTACH;FMTTYPE=image/png:https://gobatroun.com/wp-content/uploads/2023/07/Screenshot-1428.png
END:VEVENT
BEGIN:VEVENT
DTSTART;TZID=Asia/Beirut:20230721T220000
DTEND;TZID=Asia/Beirut:20230721T220000
DTSTAMP:20260421T131821
CREATED:20230718T165223Z
LAST-MODIFIED:20230718T165223Z
UID:10004365-1689976800-1689976800@gobatroun.com
SUMMARY:Jawad at La TaiGa Beach Resort
DESCRIPTION:
URL:https://gobatroun.com/event/jawad-at-la-taiga-beach-resort/
LOCATION:La Taiga Resort Batroun\, 6MC3+CP Kfar Aabida\, Batroun\, Lebanon
CATEGORIES:Performing Arts
ATTACH;FMTTYPE=image/png:https://gobatroun.com/wp-content/uploads/2023/07/Screenshot-1445.png
GEO:34.221113189181;35.654292376004
X-APPLE-STRUCTURED-LOCATION;VALUE=URI;X-ADDRESS=La Taiga Resort Batroun 6MC3+CP Kfar Aabida Batroun Lebanon;X-APPLE-RADIUS=500;X-TITLE=6MC3+CP Kfar Aabida:geo:35.654292376004,34.221113189181
END:VEVENT
BEGIN:VEVENT
DTSTART;TZID=Asia/Beirut:20230721T223000
DTEND;TZID=Asia/Beirut:20230721T223000
DTSTAMP:20260421T131821
CREATED:20230718T130829Z
LAST-MODIFIED:20230718T130829Z
UID:10004331-1689978600-1689978600@gobatroun.com
SUMMARY:Jawad Saad at TAIGA BATROUN CLUB
DESCRIPTION:TaiGa Batroun Every Weekend!\nThis Friday Night 🍸\n#Jawad on Stage #DjRalph\n#TaiGa #Batroun #Lebanon\n#Reserve On 00961 3499408
URL:https://gobatroun.com/event/jawad-saad-at-taiga-batroun-club-20/
LOCATION:TAIGA BATROUN CLUB\, 7M46+23 Batroun\, Batroun\, Lebanon
CATEGORIES:Performing Arts
ATTACH;FMTTYPE=image/png:https://gobatroun.com/wp-content/uploads/2023/07/Screenshot-903.png
GEO:34.255082353874;35.660243950604
X-APPLE-STRUCTURED-LOCATION;VALUE=URI;X-ADDRESS=TAIGA BATROUN CLUB 7M46+23 Batroun Batroun Lebanon;X-APPLE-RADIUS=500;X-TITLE=7M46+23 Batroun:geo:35.660243950604,34.255082353874
END:VEVENT
END:VCALENDAR