BEGIN:VCALENDAR
VERSION:2.0
PRODID:-//Go Batroun - ECPv6.14.2//NONSGML v1.0//EN
CALSCALE:GREGORIAN
METHOD:PUBLISH
X-ORIGINAL-URL:https://gobatroun.com
X-WR-CALDESC:Events for Go Batroun
REFRESH-INTERVAL;VALUE=DURATION:PT1H
X-Robots-Tag:noindex
X-PUBLISHED-TTL:PT1H
BEGIN:VTIMEZONE
TZID:Asia/Beirut
BEGIN:DAYLIGHT
TZOFFSETFROM:+0200
TZOFFSETTO:+0300
TZNAME:EEST
DTSTART:20230325T220000
END:DAYLIGHT
BEGIN:STANDARD
TZOFFSETFROM:+0300
TZOFFSETTO:+0200
TZNAME:EET
DTSTART:20231028T210000
END:STANDARD
END:VTIMEZONE
BEGIN:VEVENT
DTSTART;TZID=Asia/Beirut:20230630T080000
DTEND;TZID=Asia/Beirut:20230630T170000
DTSTAMP:20260421T080901
CREATED:20230528T143721Z
LAST-MODIFIED:20230713T083857Z
UID:10003354-1688112000-1688144400@gobatroun.com
SUMMARY:For You Batroun Exhibition
DESCRIPTION:
URL:https://gobatroun.com/event/for-you-batroun-exhibition/
LOCATION:Batrouniyat
CATEGORIES:Performing Arts
ATTACH;FMTTYPE=image/jpeg:https://gobatroun.com/wp-content/uploads/2023/05/WhatsApp-Image-2023-05-28-at-15.43.30.jpg
END:VEVENT
BEGIN:VEVENT
DTSTART;TZID=Asia/Beirut:20230630T190000
DTEND;TZID=Asia/Beirut:20230630T190000
DTSTAMP:20260421T080901
CREATED:20230713T080426Z
LAST-MODIFIED:20230713T083852Z
UID:10004014-1688151600-1688151600@gobatroun.com
SUMMARY:Clara Attallah at kir Wine Bar
DESCRIPTION:Experience an Unforgettable Melting Pot of Music and Emotion with the Talented Singer @ClaraAttallah. \nSave the date FRIDAY\, June 30\, Starting at 7:30 for an Amazing Sunset and Fusion Night @kirwinebar! \nFor Bar n’ Table Reservation\n03663557
URL:https://gobatroun.com/event/clara-attallah-at-kir-wine-bar-2/
LOCATION:Kir Restaurant & WineBar\, 6MPM+8RG\, Edde\, Batroun\, Lebanon
CATEGORIES:Performing Arts
ATTACH;FMTTYPE=image/png:https://gobatroun.com/wp-content/uploads/2023/07/Screenshot-1187.png
END:VEVENT
BEGIN:VEVENT
DTSTART;TZID=Asia/Beirut:20230630T200000
DTEND;TZID=Asia/Beirut:20230630T200000
DTSTAMP:20260421T080901
CREATED:20230404T113831Z
LAST-MODIFIED:20230713T083844Z
UID:10002167-1688155200-1688155200@gobatroun.com
SUMMARY:Adonis at Batroun
DESCRIPTION:The wait is finally over!\nWe are thrilled to have the one and only @adonisband perform at Batroun International Festival on June 30!\nBook your early bird ticket NOW through the link in our highlights and story 🎫
URL:https://gobatroun.com/event/adonis-at-batroun/
LOCATION:Mina Batroun
CATEGORIES:Performing Arts
ATTACH;FMTTYPE=image/png:https://gobatroun.com/wp-content/uploads/2023/04/Screenshot-342.png
END:VEVENT
BEGIN:VEVENT
DTSTART;TZID=Asia/Beirut:20230630T200000
DTEND;TZID=Asia/Beirut:20230630T200000
DTSTAMP:20260421T080901
CREATED:20230713T080426Z
LAST-MODIFIED:20230713T083839Z
UID:10004013-1688155200-1688155200@gobatroun.com
SUMMARY:Dj Rea\, Dj Whoisbibz\, and Dj Nad!Ne at BluBay
DESCRIPTION:
URL:https://gobatroun.com/event/dj-rea-dj-whoisbibz-and-dj-nadne-at-blubay-2/
LOCATION:Blu Bay Batroun\, 6MW6+QJ Batroun\, Batroun\, Lebanon
CATEGORIES:Performing Arts
ATTACH;FMTTYPE=image/png:https://gobatroun.com/wp-content/uploads/2023/07/Screenshot-1201.png
END:VEVENT
BEGIN:VEVENT
DTSTART;TZID=Asia/Beirut:20230630T210000
DTEND;TZID=Asia/Beirut:20230630T210000
DTSTAMP:20260421T080901
CREATED:20230531T132008Z
LAST-MODIFIED:20230713T083830Z
UID:10003386-1688158800-1688158800@gobatroun.com
SUMMARY:Walid Kanaan at Casa Bar
DESCRIPTION:81 328 117 or 71 108 749
URL:https://gobatroun.com/event/walid-kanaan-at-casa-bar/
LOCATION:Casa Bar
CATEGORIES:Performing Arts
ATTACH;FMTTYPE=image/png:https://gobatroun.com/wp-content/uploads/2023/05/Screenshot-866.png
END:VEVENT
BEGIN:VEVENT
DTSTART;TZID=Asia/Beirut:20230630T210000
DTEND;TZID=Asia/Beirut:20230630T210000
DTSTAMP:20260421T080901
CREATED:20230713T080413Z
LAST-MODIFIED:20230713T083730Z
UID:10004006-1688158800-1688158800@gobatroun.com
SUMMARY:Hadi Khalil at Xlounge Batroun
DESCRIPTION:
URL:https://gobatroun.com/event/hadi-khalil-at-xlounge-batroun-2/
LOCATION:Xlounge Batroun
CATEGORIES:Performing Arts
ATTACH;FMTTYPE=image/png:https://gobatroun.com/wp-content/uploads/2023/07/Screenshot-1107.png
END:VEVENT
BEGIN:VEVENT
DTSTART;TZID=Asia/Beirut:20230630T210000
DTEND;TZID=Asia/Beirut:20230630T210000
DTSTAMP:20260421T080901
CREATED:20230713T080426Z
LAST-MODIFIED:20230713T083728Z
UID:10004005-1688158800-1688158800@gobatroun.com
SUMMARY:Aline Lahoud at KŌRI
DESCRIPTION:An exceptional evening with @alinelahoudofficial\nLive @kori. leb on Friday\, June 30th\nRSVP: 79 118 887
URL:https://gobatroun.com/event/aline-lahoud-at-kori-5/
LOCATION:KŌRI
CATEGORIES:Performing Arts
ATTACH;FMTTYPE=image/png:https://gobatroun.com/wp-content/uploads/2023/07/Screenshot-1185.png
END:VEVENT
BEGIN:VEVENT
DTSTART;TZID=Asia/Beirut:20230630T210000
DTEND;TZID=Asia/Beirut:20230630T210000
DTSTAMP:20260421T080901
CREATED:20230713T080438Z
LAST-MODIFIED:20230713T083725Z
UID:10004004-1688158800-1688158800@gobatroun.com
SUMMARY:Dj Ehub at Merchak بالسوق
DESCRIPTION:
URL:https://gobatroun.com/event/dj-ehub-at-merchak-%d8%a8%d8%a7%d9%84%d8%b3%d9%88%d9%82-3/
LOCATION:Merchak بالسوق
CATEGORIES:Performing Arts
ATTACH;FMTTYPE=image/png:https://gobatroun.com/wp-content/uploads/2023/07/Screenshot-1204.png
END:VEVENT
BEGIN:VEVENT
DTSTART;TZID=Asia/Beirut:20230630T213000
DTEND;TZID=Asia/Beirut:20230630T213000
DTSTAMP:20260421T080901
CREATED:20230713T080413Z
LAST-MODIFIED:20230713T083723Z
UID:10004003-1688160600-1688160600@gobatroun.com
SUMMARY:Al Hadchiti and Dj Kevin at NEOM
DESCRIPTION:
URL:https://gobatroun.com/event/al-hadchiti-and-dj-kevin-at-neom-6/
LOCATION:NEOM\, 6J6X+WX Madfoun\, Madfoun\, Lebanon
CATEGORIES:Performing Arts
ATTACH;FMTTYPE=image/png:https://gobatroun.com/wp-content/uploads/2023/07/Screenshot-987.png
GEO:34.212265945423;35.649953019482
X-APPLE-STRUCTURED-LOCATION;VALUE=URI;X-ADDRESS=NEOM 6J6X+WX Madfoun Madfoun Lebanon;X-APPLE-RADIUS=500;X-TITLE=6J6X+WX Madfoun:geo:35.649953019482,34.212265945423
END:VEVENT
BEGIN:VEVENT
DTSTART;TZID=Asia/Beirut:20230630T220000
DTEND;TZID=Asia/Beirut:20230630T220000
DTSTAMP:20260421T080901
CREATED:20230713T080358Z
LAST-MODIFIED:20230713T083722Z
UID:10004002-1688162400-1688162400@gobatroun.com
SUMMARY:Mouhannad at La TaiGa Beach Resort
DESCRIPTION:
URL:https://gobatroun.com/event/mouhannad-at-la-taiga-beach-resort-2/
LOCATION:La Taiga Resort Batroun\, 6MC3+CP Kfar Aabida\, Batroun\, Lebanon
CATEGORIES:Performing Arts
ATTACH;FMTTYPE=image/png:https://gobatroun.com/wp-content/uploads/2023/07/Screenshot-1096.png
GEO:34.221113189181;35.654292376004
X-APPLE-STRUCTURED-LOCATION;VALUE=URI;X-ADDRESS=La Taiga Resort Batroun 6MC3+CP Kfar Aabida Batroun Lebanon;X-APPLE-RADIUS=500;X-TITLE=6MC3+CP Kfar Aabida:geo:35.654292376004,34.221113189181
END:VEVENT
BEGIN:VEVENT
DTSTART;TZID=Asia/Beirut:20230630T220000
DTEND;TZID=Asia/Beirut:20230630T220000
DTSTAMP:20260421T080901
CREATED:20230713T080413Z
LAST-MODIFIED:20230713T083718Z
UID:10004001-1688162400-1688162400@gobatroun.com
SUMMARY:Chadi Aidamouny at KAI Beach Batroun
DESCRIPTION:
URL:https://gobatroun.com/event/chadi-aidamouny-at-kai-beach-batroun-2/
LOCATION:Kai Beach\, 6J7X+FV Madfoun\, Madfoun\, Lebanon
CATEGORIES:Performing Arts
ATTACH;FMTTYPE=image/png:https://gobatroun.com/wp-content/uploads/2023/07/Screenshot-1136.png
END:VEVENT
BEGIN:VEVENT
DTSTART;TZID=Asia/Beirut:20230630T220000
DTEND;TZID=Asia/Beirut:20230630T220000
DTSTAMP:20260421T080901
CREATED:20230713T080426Z
LAST-MODIFIED:20230713T083706Z
UID:10003999-1688162400-1688162400@gobatroun.com
SUMMARY:Aziz Asaad at Tramway Batroun
DESCRIPTION:Friday June 30\, Aziz Asaad “ at Tramway Batroun ft. @dj_chub_official\nFor reservations call us on – 03 51 41 01\nOr WhatsApp us on – https://wa.link/4z3wsz\n✅Valet parking service available\n🕘 Starting 10 Pm
URL:https://gobatroun.com/event/aziz-asaad-at-tramway-batroun-23/
LOCATION:Tramway Gastro Pub\, 7M45+CQ Batroun\, Batroun\, Lebanon
CATEGORIES:Performing Arts
ATTACH;FMTTYPE=image/png:https://gobatroun.com/wp-content/uploads/2023/07/Screenshot-1138.png
END:VEVENT
BEGIN:VEVENT
DTSTART;TZID=Asia/Beirut:20230630T220000
DTEND;TZID=Asia/Beirut:20230630T220000
DTSTAMP:20260421T080901
CREATED:20230713T080426Z
LAST-MODIFIED:20230713T083713Z
UID:10004000-1688162400-1688162400@gobatroun.com
SUMMARY:The Rays Featuring Nidal Saxophone at Cheers
DESCRIPTION:
URL:https://gobatroun.com/event/the-rays-featuring-nidal-saxophone-at-cheers-15/
LOCATION:Cheers
CATEGORIES:Performing Arts
ATTACH;FMTTYPE=image/png:https://gobatroun.com/wp-content/uploads/2023/07/Screenshot-1990.png
END:VEVENT
BEGIN:VEVENT
DTSTART;TZID=Asia/Beirut:20230630T220000
DTEND;TZID=Asia/Beirut:20230630T220000
DTSTAMP:20260421T080901
CREATED:20230713T080438Z
LAST-MODIFIED:20230713T083217Z
UID:10003995-1688162400-1688162400@gobatroun.com
SUMMARY:Ghadeer Badran at Seven Night Club
DESCRIPTION:
URL:https://gobatroun.com/event/ghadeer-badran-at-seven-night-club-5/
LOCATION:Seven Night Club
CATEGORIES:Performing Arts
ATTACH;FMTTYPE=image/png:https://gobatroun.com/wp-content/uploads/2023/07/Screenshot-1205.png
END:VEVENT
BEGIN:VEVENT
DTSTART;TZID=Asia/Beirut:20230630T220000
DTEND;TZID=Asia/Beirut:20230630T220000
DTSTAMP:20260421T080901
CREATED:20230713T080438Z
LAST-MODIFIED:20230713T083251Z
UID:10003996-1688162400-1688162400@gobatroun.com
SUMMARY:Rodolphe El Khoury at Casa Bar
DESCRIPTION:Join us this Friday to drink\, sing\, and 💃 for an unforgettable Fusion night with Rodolphe El Khoury 🎤. \nMinimum charge 20$ \n📲 81 328 117 or 71 108 749
URL:https://gobatroun.com/event/rodolphe-el-khoury-at-casa-bar-2/
LOCATION:Casa Bar
CATEGORIES:Performing Arts
ATTACH;FMTTYPE=image/png:https://gobatroun.com/wp-content/uploads/2023/07/Screenshot-1207.png
END:VEVENT
END:VCALENDAR