BEGIN:VCALENDAR
VERSION:2.0
PRODID:-//Go Batroun - ECPv6.14.2//NONSGML v1.0//EN
CALSCALE:GREGORIAN
METHOD:PUBLISH
X-WR-CALNAME:Go Batroun
X-ORIGINAL-URL:https://gobatroun.com
X-WR-CALDESC:Events for Go Batroun
REFRESH-INTERVAL;VALUE=DURATION:PT1H
X-Robots-Tag:noindex
X-PUBLISHED-TTL:PT1H
BEGIN:VTIMEZONE
TZID:Asia/Beirut
BEGIN:DAYLIGHT
TZOFFSETFROM:+0200
TZOFFSETTO:+0300
TZNAME:EEST
DTSTART:20230325T220000
END:DAYLIGHT
BEGIN:STANDARD
TZOFFSETFROM:+0300
TZOFFSETTO:+0200
TZNAME:EET
DTSTART:20231028T210000
END:STANDARD
END:VTIMEZONE
BEGIN:VEVENT
DTSTART;TZID=Asia/Beirut:20230620T220000
DTEND;TZID=Asia/Beirut:20230620T220000
DTSTAMP:20260423T065335
CREATED:20230713T080335Z
LAST-MODIFIED:20230713T092206Z
UID:10004190-1687298400-1687298400@gobatroun.com
SUMMARY:Carlos at Kai Beach Batroun
DESCRIPTION:The wait is over! @carlos.hikri is set to ignite the stage once again at Kai Beach Batroun every Tuesday\, starting June 20th. \nDoors open at 10 pm.\nInfo & Reservations 79188988
URL:https://gobatroun.com/event/carlos-at-kai-beach-batroun-4/
LOCATION:Kai Beach\, 6J7X+FV Madfoun\, Madfoun\, Lebanon
CATEGORIES:Performing Arts
ATTACH;FMTTYPE=image/png:https://gobatroun.com/wp-content/uploads/2023/07/Screenshot-948.png
END:VEVENT
END:VCALENDAR