BEGIN:VCALENDAR
VERSION:2.0
PRODID:-//Go Batroun - ECPv6.14.2//NONSGML v1.0//EN
CALSCALE:GREGORIAN
METHOD:PUBLISH
X-WR-CALNAME:Go Batroun
X-ORIGINAL-URL:https://gobatroun.com
X-WR-CALDESC:Events for Go Batroun
REFRESH-INTERVAL;VALUE=DURATION:PT1H
X-Robots-Tag:noindex
X-PUBLISHED-TTL:PT1H
BEGIN:VTIMEZONE
TZID:Asia/Beirut
BEGIN:DAYLIGHT
TZOFFSETFROM:+0200
TZOFFSETTO:+0300
TZNAME:EEST
DTSTART:20230325T220000
END:DAYLIGHT
BEGIN:STANDARD
TZOFFSETFROM:+0300
TZOFFSETTO:+0200
TZNAME:EET
DTSTART:20231028T210000
END:STANDARD
END:VTIMEZONE
BEGIN:VEVENT
DTSTART;TZID=Asia/Beirut:20230615T080000
DTEND;TZID=Asia/Beirut:20230615T170000
DTSTAMP:20260422T013353
CREATED:20230509T093749Z
LAST-MODIFIED:20230713T100035Z
UID:10002303-1686816000-1686848400@gobatroun.com
SUMMARY:Batroun Photography Award at Batroun International Festival 2023
DESCRIPTION:Calling all photography lovers📸\nHere is your chance to win the first Batroun Photography Award\, launching this year!\nAll top three winners will recieve cash prizes and contestants will have the chance to have their photos displayed all over the city!\nFor more information and for submissins and rules & regulations\, please Visit the Batroun Photography Award in our Highlights !
URL:https://gobatroun.com/event/batroun-photography-award-at-batroun-international-festival-2023/
LOCATION:Batroun\, 6MX6+79V Batroun\, Batroun\, 1400\, Lebanon
CATEGORIES:Festivals,Performing Arts
ATTACH;FMTTYPE=image/png:https://gobatroun.com/wp-content/uploads/2023/05/Screenshot-835.png
GEO:34.248237811542;35.660916328184
X-APPLE-STRUCTURED-LOCATION;VALUE=URI;X-ADDRESS=Batroun 6MX6+79V Batroun Batroun 1400 Lebanon;X-APPLE-RADIUS=500;X-TITLE=6MX6+79V Batroun:geo:35.660916328184,34.248237811542
END:VEVENT
BEGIN:VEVENT
DTSTART;TZID=Asia/Beirut:20230615T190000
DTEND;TZID=Asia/Beirut:20230615T190000
DTSTAMP:20260422T013353
CREATED:20230713T080322Z
LAST-MODIFIED:20230713T100033Z
UID:10004226-1686855600-1686855600@gobatroun.com
SUMMARY:The Saxophone's Serenade at Kir Restaurant
DESCRIPTION:Reviving last Thursday: The Saxophone’s Serenade under the @kirwinebar Sunset’s Spell\, Blending Blues\, and Jazz starting 7 pm! \nAsk for our Signature Cocktails🍹🍷🍸this Thursday 15 June 🥳!\nFor Bar n’ Table reservation 03663557
URL:https://gobatroun.com/event/the-saxophones-serenade-at-kir-restaurant-2/
LOCATION:Kir Restaurant & WineBar\, 6MPM+8RG\, Edde\, Batroun\, Lebanon
CATEGORIES:Performing Arts
ATTACH;FMTTYPE=image/png:https://gobatroun.com/wp-content/uploads/2023/07/Screenshot-956.png
END:VEVENT
BEGIN:VEVENT
DTSTART;TZID=Asia/Beirut:20230615T220000
DTEND;TZID=Asia/Beirut:20230615T220000
DTSTAMP:20260422T013353
CREATED:20230713T080322Z
LAST-MODIFIED:20230713T100030Z
UID:10004225-1686866400-1686866400@gobatroun.com
SUMMARY:Youhanna Saad at The Karawan
DESCRIPTION:
URL:https://gobatroun.com/event/youhanna-saad-at-the-karawan-4/
LOCATION:The Karawan
CATEGORIES:Performing Arts
ATTACH;FMTTYPE=image/png:https://gobatroun.com/wp-content/uploads/2023/07/Screenshot-991.png
END:VEVENT
END:VCALENDAR