BEGIN:VCALENDAR
VERSION:2.0
PRODID:-//Go Batroun - ECPv6.14.2//NONSGML v1.0//EN
CALSCALE:GREGORIAN
METHOD:PUBLISH
X-ORIGINAL-URL:https://gobatroun.com
X-WR-CALDESC:Events for Go Batroun
REFRESH-INTERVAL;VALUE=DURATION:PT1H
X-Robots-Tag:noindex
X-PUBLISHED-TTL:PT1H
BEGIN:VTIMEZONE
TZID:Asia/Beirut
BEGIN:DAYLIGHT
TZOFFSETFROM:+0200
TZOFFSETTO:+0300
TZNAME:EEST
DTSTART:20230325T220000
END:DAYLIGHT
BEGIN:STANDARD
TZOFFSETFROM:+0300
TZOFFSETTO:+0200
TZNAME:EET
DTSTART:20231028T210000
END:STANDARD
END:VTIMEZONE
BEGIN:VEVENT
DTSTART;TZID=Asia/Beirut:20230604T100000
DTEND;TZID=Asia/Beirut:20230604T170000
DTSTAMP:20260425T184701
CREATED:20230530T131414Z
LAST-MODIFIED:20230530T131414Z
UID:10003367-1685872800-1685898000@gobatroun.com
SUMMARY:Detox Flow with Aurélie Karam
DESCRIPTION:Detox Flow\nMaster Class & Loco Breakfast \nThis unique and challenging master class focuses on cleansing the vital organs through\n🔅specific techniques that help support these critical organs including a variety of pranayama (breathing techniques) to light the internal fires and burn away impurities\,\n🔅a unique vinyasa sequence that utilizes three internal components ~ compression\, decompression\, and twists to stimulate the purification within the body. The weather is warm to facilitate the detoxification process.\n🔅 finishing off with restorative meditative poses to calm the body & mind. By the end\, you will feel more balanced\, re-energized\, lighter\, and armed with the information to add to your regular practice and continue the work! \n@cocolocojuiceco\nLoco breakfast to complement the detox process after class\n1 raw cold pressed juice of your choice plus 1 customizable Açai bowl \nFor registration contact +961 3 632 900 \nSee you on the rooftop!!
URL:https://gobatroun.com/event/detox-flow-with-aurelie-karam/
LOCATION:Darma Ji
CATEGORIES:Performing Arts,Sports
ATTACH;FMTTYPE=image/png:https://gobatroun.com/wp-content/uploads/2023/05/Screenshot-844.png
END:VEVENT
BEGIN:VEVENT
DTSTART;TZID=Asia/Beirut:20230604T150000
DTEND;TZID=Asia/Beirut:20230604T150000
DTSTAMP:20260425T184701
CREATED:20230523T133422Z
LAST-MODIFIED:20230523T133437Z
UID:10002403-1685890800-1685890800@gobatroun.com
SUMMARY:Wadih el cheikh at La Taiga Resort Batroun 
DESCRIPTION:HERE WE GO AGAIN!\nYour Summer Destination\nSunday\, June 4 Season Opening \n#wadihelcheikh\n#LaTaigaResort #Batroun #kafarbida\nStarting At 3:00 PM\nMore info call +961 71 414 441
URL:https://gobatroun.com/event/wadih-el-cheikh-at-la-taiga-resort-batroun/
LOCATION:La Taiga Resort Batroun\, 6MC3+CP Kfar Aabida\, Batroun\, Lebanon
CATEGORIES:Performing Arts
ATTACH;FMTTYPE=image/png:https://gobatroun.com/wp-content/uploads/2023/05/Screenshot-804.png
GEO:34.221113189181;35.654292376004
X-APPLE-STRUCTURED-LOCATION;VALUE=URI;X-ADDRESS=La Taiga Resort Batroun 6MC3+CP Kfar Aabida Batroun Lebanon;X-APPLE-RADIUS=500;X-TITLE=6MC3+CP Kfar Aabida:geo:35.654292376004,34.221113189181
END:VEVENT
BEGIN:VEVENT
DTSTART;TZID=Asia/Beirut:20230604T153000
DTEND;TZID=Asia/Beirut:20230604T180000
DTSTAMP:20260425T184701
CREATED:20230530T133645Z
LAST-MODIFIED:20230602T144048Z
UID:10003373-1685892600-1685901600@gobatroun.com
SUMMARY:Deuces at Blu Bay
DESCRIPTION:Discover the world of Afro rhythms and immerse yourself in the captivating melodies as Deuces takes the stage this Sunday at 3:30 PM. See you there! \nNight reservations: 70 436 244\nDay reservations: 76 149 944 \nNight reservations: 70 436 244\nDay reservations: 76 149 944
URL:https://gobatroun.com/event/deuces-at-blu-bay/
LOCATION:Blu Bay Batroun\, 6MW6+QJ Batroun\, Batroun\, Lebanon
CATEGORIES:Performing Arts
ATTACH;FMTTYPE=image/png:https://gobatroun.com/wp-content/uploads/2023/05/Screenshot-891.png
END:VEVENT
BEGIN:VEVENT
DTSTART;TZID=Asia/Beirut:20230604T160000
DTEND;TZID=Asia/Beirut:20230604T220000
DTSTAMP:20260425T184701
CREATED:20230524T120954Z
LAST-MODIFIED:20230602T100812Z
UID:10003390-1685894400-1685916000@gobatroun.com
SUMMARY:Welcome Summer Beer Garden at Mayouli
DESCRIPTION:Get ready to sip\, savor and celebrate as you indulge in craft beers\, mouthwatering bites\, and live entertainment that will keep you grooving. \nGather your friends and let’s make lasting memories! \nDon’t miss out on this epic celebration of brews and good times! \nCheers to an unforgettable experience
URL:https://gobatroun.com/event/welcome-summer-at-mayouli/2023-06-04/
LOCATION:Mayouli\, 7M88+PP Batroun\, Batroun\, Lebanon
CATEGORIES:Performing Arts
ATTACH;FMTTYPE=image/png:https://gobatroun.com/wp-content/uploads/2023/05/Screenshot-810.png
GEO:34.266795819013;35.666856562531
X-APPLE-STRUCTURED-LOCATION;VALUE=URI;X-ADDRESS=Mayouli 7M88+PP Batroun Batroun Lebanon;X-APPLE-RADIUS=500;X-TITLE=7M88+PP Batroun:geo:35.666856562531,34.266795819013
END:VEVENT
BEGIN:VEVENT
DTSTART;TZID=Asia/Beirut:20230604T190000
DTEND;TZID=Asia/Beirut:20230604T190000
DTSTAMP:20260425T184701
CREATED:20230602T135425Z
LAST-MODIFIED:20230712T102524Z
UID:10003515-1685905200-1685905200@gobatroun.com
SUMMARY:Blindkode at Batroun
DESCRIPTION:We meet again this Sunday at the heart of Batroun\, starting at 7 pm. Catch the upscaled sunset and electrifying beats\, guaranteeing your stay till sunrise 🌅You can also reserve your accommodation in our available stay spots – a perfect way to wrap up your visit.\n📍Location: Batroon (TBA)\n••For RSVP and further info: 76-988566 or 76-919894
URL:https://gobatroun.com/event/blindkode-at-batroun/
LOCATION:Batroun\, 6MX6+79V Batroun\, Batroun\, 1400\, Lebanon
CATEGORIES:Performing Arts
ATTACH;FMTTYPE=image/jpeg:https://gobatroun.com/wp-content/uploads/2023/07/WhatsApp-Image-2023-06-02-at-16.30.24-ENZeyw.tmp_.jpg
GEO:34.248237811542;35.660916328184
X-APPLE-STRUCTURED-LOCATION;VALUE=URI;X-ADDRESS=Batroun 6MX6+79V Batroun Batroun 1400 Lebanon;X-APPLE-RADIUS=500;X-TITLE=6MX6+79V Batroun:geo:35.660916328184,34.248237811542
END:VEVENT
BEGIN:VEVENT
DTSTART;TZID=Asia/Beirut:20230604T193000
DTEND;TZID=Asia/Beirut:20230604T193000
DTSTAMP:20260425T184701
CREATED:20230602T143418Z
LAST-MODIFIED:20230712T102527Z
UID:10003519-1685907000-1685907000@gobatroun.com
SUMMARY:Rola and Ray at Vine Wine Bar
DESCRIPTION:A tribute to Dalida and a night full of nostalgia and amazing tunes this Sunday\, June 4th with Rola & Ray.\nFor bookings – 71 455882\nBand charge – 7$
URL:https://gobatroun.com/event/rola-and-ray-at-vine-wine-bar/
LOCATION:Vine\, Smar Jbeil\, 6M9R+95 Smar Jbeil\, Smar Jbeil\, Lebanon
CATEGORIES:Performing Arts
ATTACH;FMTTYPE=image/png:https://gobatroun.com/wp-content/uploads/2023/07/Screenshot-888-3AjkjF.tmp_.png
END:VEVENT
BEGIN:VEVENT
DTSTART;TZID=Asia/Beirut:20230604T200000
DTEND;TZID=Asia/Beirut:20230604T200000
DTSTAMP:20260425T184701
CREATED:20230531T131649Z
LAST-MODIFIED:20230531T131649Z
UID:10003384-1685908800-1685908800@gobatroun.com
SUMMARY:Rodolph khoury at Casa Bar
DESCRIPTION:Join us this Sunday for a fusion night with Rodolph khoury \n📲 81 328 117 or 71 108 749
URL:https://gobatroun.com/event/rodolph-khoury-at-casa-bar-2/
LOCATION:Casa Bar
CATEGORIES:Performing Arts
ATTACH;FMTTYPE=image/png:https://gobatroun.com/wp-content/uploads/2023/05/Screenshot-813.png
END:VEVENT
BEGIN:VEVENT
DTSTART;TZID=Asia/Beirut:20230604T210000
DTEND;TZID=Asia/Beirut:20230604T210000
DTSTAMP:20260425T184701
CREATED:20230529T132524Z
LAST-MODIFIED:20230529T132524Z
UID:10003358-1685912400-1685912400@gobatroun.com
SUMMARY:Chady Aidamouny at Merchak بالسوق
DESCRIPTION:Book now at📱 76 666 151
URL:https://gobatroun.com/event/chady-aidamouny-at-merchak-%d8%a8%d8%a7%d9%84%d8%b3%d9%88%d9%82-17/
LOCATION:Merchak بالسوق
CATEGORIES:Performing Arts
ATTACH;FMTTYPE=image/png:https://gobatroun.com/wp-content/uploads/2023/03/Screenshot-118.png
END:VEVENT
BEGIN:VEVENT
DTSTART;TZID=Asia/Beirut:20230604T210000
DTEND;TZID=Asia/Beirut:20230604T210000
DTSTAMP:20260425T184701
CREATED:20230531T130009Z
LAST-MODIFIED:20230713T100913Z
UID:10003380-1685912400-1685912400@gobatroun.com
SUMMARY:Ziad Hanna at Tramway Batroun
DESCRIPTION:This Sunday 4th of June Ziad Hanna “ at Tramway Batroun ft. @dj_chub_official\nFor reservations call us on – 03 51 41 01\nOr WhatsApp us on – https://wa.link/4z3wsz\n✅Valet parking service available\n🕘starting 9 Pm
URL:https://gobatroun.com/event/ziad-hanna-at-tramway-batroun-3/
LOCATION:Tramway Gastro Pub\, 7M45+CQ Batroun\, Batroun\, Lebanon
CATEGORIES:Performing Arts
ATTACH;FMTTYPE=image/png:https://gobatroun.com/wp-content/uploads/2023/05/Screenshot-861.png
END:VEVENT
END:VCALENDAR