BEGIN:VCALENDAR
VERSION:2.0
PRODID:-//Go Batroun - ECPv6.14.2//NONSGML v1.0//EN
CALSCALE:GREGORIAN
METHOD:PUBLISH
X-ORIGINAL-URL:https://gobatroun.com
X-WR-CALDESC:Events for Go Batroun
REFRESH-INTERVAL;VALUE=DURATION:PT1H
X-Robots-Tag:noindex
X-PUBLISHED-TTL:PT1H
BEGIN:VTIMEZONE
TZID:Asia/Beirut
BEGIN:DAYLIGHT
TZOFFSETFROM:+0200
TZOFFSETTO:+0300
TZNAME:EEST
DTSTART:20230325T220000
END:DAYLIGHT
BEGIN:STANDARD
TZOFFSETFROM:+0300
TZOFFSETTO:+0200
TZNAME:EET
DTSTART:20231028T210000
END:STANDARD
END:VTIMEZONE
BEGIN:VEVENT
DTSTART;TZID=Asia/Beirut:20230528T160000
DTEND;TZID=Asia/Beirut:20230528T170000
DTSTAMP:20260421T080803
CREATED:20230525T135931Z
LAST-MODIFIED:20230525T135931Z
UID:10003347-1685289600-1685293200@gobatroun.com
SUMMARY:Aperitivo Sunday at Capitano
DESCRIPTION:Nothing compares to authentic Italian food paired with the refreshing taste of #AperolSpritz \nJoin us this Sunday for a fun & chill experience!\nCin Cin 🍹🍊
URL:https://gobatroun.com/event/aperitivo-sunday-at-capitano/
LOCATION:Capitano
CATEGORIES:Performing Arts
ATTACH;FMTTYPE=image/jpeg:https://gobatroun.com/wp-content/uploads/2023/05/WhatsApp-Image-2023-05-25-at-16.55.59.jpg
END:VEVENT
BEGIN:VEVENT
DTSTART;TZID=Asia/Beirut:20230528T200000
DTEND;TZID=Asia/Beirut:20230528T200000
DTSTAMP:20260421T080803
CREATED:20230525T122808Z
LAST-MODIFIED:20230525T122808Z
UID:10003346-1685304000-1685304000@gobatroun.com
SUMMARY:Rodolph khoury at Casa Bar
DESCRIPTION:Join us this Sunday for a fusion night with Rodolph khoury \n📲 81 328 117 or 71 108 749
URL:https://gobatroun.com/event/rodolph-khoury-at-casa-bar/
LOCATION:Casa Bar
CATEGORIES:Performing Arts
ATTACH;FMTTYPE=image/png:https://gobatroun.com/wp-content/uploads/2023/05/Screenshot-813.png
END:VEVENT
BEGIN:VEVENT
DTSTART;TZID=Asia/Beirut:20230528T203000
DTEND;TZID=Asia/Beirut:20230528T203000
DTSTAMP:20260421T080803
CREATED:20230526T143820Z
LAST-MODIFIED:20230526T143820Z
UID:10003350-1685305800-1685305800@gobatroun.com
SUMMARY:BluBox at Barrio67
DESCRIPTION:Let the soulful sounds of BluBox fill your Sunday evening as they take the stage for their last performance this season.\nIt’s going to be an unforgettable farewell. \n@guy_ramy\n@jihadboustany\n@faressokhon\n@ahmad_rajjj\n@elias_bluesician \nBand charge $5 \nFor reservations\, please call this number 👇🏼\n+961 70 211 299
URL:https://gobatroun.com/event/blubox-at-barrio67/
LOCATION:Barrio67
CATEGORIES:Performing Arts
ATTACH;FMTTYPE=image/png:https://gobatroun.com/wp-content/uploads/2023/05/Screenshot-821.png
END:VEVENT
BEGIN:VEVENT
DTSTART;TZID=Asia/Beirut:20230528T210000
DTEND;TZID=Asia/Beirut:20230528T210000
DTSTAMP:20260421T080803
CREATED:20230522T134028Z
LAST-MODIFIED:20230522T134028Z
UID:10002389-1685307600-1685307600@gobatroun.com
SUMMARY:Ziad Hanna at Tramway Batroun
DESCRIPTION:This Sunday 28 Ziad Hanna “ at Tramway batroun ft. @dj_chub_official\nFor reservations call us on – 03 51 41 01\nOr WhatsApp us on – https://wa.link/4z3wsz\n✅Valet parking service available\n🕘starting 9 Pm
URL:https://gobatroun.com/event/ziad-hanna-at-tramway-batroun-2/
LOCATION:Tramway Gastro Pub\, 7M45+CQ Batroun\, Batroun\, Lebanon
CATEGORIES:Performing Arts
ATTACH;FMTTYPE=image/png:https://gobatroun.com/wp-content/uploads/2023/05/Screenshot-779.png
END:VEVENT
BEGIN:VEVENT
DTSTART;TZID=Asia/Beirut:20230528T210000
DTEND;TZID=Asia/Beirut:20230528T210000
DTSTAMP:20260421T080803
CREATED:20230526T144247Z
LAST-MODIFIED:20230526T144247Z
UID:10003352-1685307600-1685307600@gobatroun.com
SUMMARY:Dj Assaad Mondalak at Chess Bar
DESCRIPTION:Come show us your moves!💃💃
URL:https://gobatroun.com/event/dj-assaad-mondalak-at-chess-bar-2/
LOCATION:Chess Bar
CATEGORIES:Performing Arts
ATTACH;FMTTYPE=image/png:https://gobatroun.com/wp-content/uploads/2023/05/Screenshot-824.png
END:VEVENT
END:VCALENDAR