BEGIN:VCALENDAR
VERSION:2.0
PRODID:-//Go Batroun - ECPv6.14.2//NONSGML v1.0//EN
CALSCALE:GREGORIAN
METHOD:PUBLISH
X-ORIGINAL-URL:https://gobatroun.com
X-WR-CALDESC:Events for Go Batroun
REFRESH-INTERVAL;VALUE=DURATION:PT1H
X-Robots-Tag:noindex
X-PUBLISHED-TTL:PT1H
BEGIN:VTIMEZONE
TZID:Asia/Beirut
BEGIN:DAYLIGHT
TZOFFSETFROM:+0200
TZOFFSETTO:+0300
TZNAME:EEST
DTSTART:20230325T220000
END:DAYLIGHT
BEGIN:STANDARD
TZOFFSETFROM:+0300
TZOFFSETTO:+0200
TZNAME:EET
DTSTART:20231028T210000
END:STANDARD
END:VTIMEZONE
BEGIN:VEVENT
DTSTART;TZID=Asia/Beirut:20230518T090000
DTEND;TZID=Asia/Beirut:20230518T233000
DTSTAMP:20260421T202629
CREATED:20230515T131520Z
LAST-MODIFIED:20230515T131618Z
UID:10002348-1684400400-1684452600@gobatroun.com
SUMMARY:Moules and Frites at Barrio67
DESCRIPTION:
URL:https://gobatroun.com/event/moules-and-frites-at-barrio67-8/
LOCATION:Barrio67
CATEGORIES:Performing Arts
ATTACH;FMTTYPE=image/jpeg:https://gobatroun.com/wp-content/uploads/2023/03/WhatsApp-Image-2023-03-28-at-21.22.56.jpg
END:VEVENT
BEGIN:VEVENT
DTSTART;TZID=Asia/Beirut:20230518T190000
DTEND;TZID=Asia/Beirut:20230518T190000
DTSTAMP:20260421T202629
CREATED:20230517T062241Z
LAST-MODIFIED:20230517T062241Z
UID:10002362-1684436400-1684436400@gobatroun.com
SUMMARY:A Classic Piano Recital at Dar Al Mona
DESCRIPTION:Join us for an enchanting evening of music and art at the “CAPTURE” exhibition. We are delighted to announce a classical piano recital by internationally acclaimed artist Rupert Egerton-Smith\, taking place on Thursday\, May 18 @ 7:00 PM. \nRupert Egerton-Smith’s musical prowess has graced concert halls in Paris\, London\, and Berlin\, where he has captivated audiences with his solo recitals and collaborations with renowned orchestras. \nDon’t miss this unique opportunity to experience the fusion of captivating artworks and mesmerizing piano melodies. Mark your calendars and join us for an unforgettable evening. \nDate: Thursday\, May 18\nTime: 7:00 PM\nLocation: Dar al Mona\, Batroun \nWe look forward to seeing you there!
URL:https://gobatroun.com/event/a-classic-piano-recital-at-dar-al-mona/
LOCATION:Dar Al Mona\, 7M35+PM Batroun\, Batroun\, Lebanon
CATEGORIES:Performing Arts
ATTACH;FMTTYPE=image/png:https://gobatroun.com/wp-content/uploads/2023/05/Screenshot-732.png
GEO:34.254368398216;35.659186434674
X-APPLE-STRUCTURED-LOCATION;VALUE=URI;X-ADDRESS=Dar Al Mona 7M35+PM Batroun Batroun Lebanon;X-APPLE-RADIUS=500;X-TITLE=7M35+PM Batroun:geo:35.659186434674,34.254368398216
END:VEVENT
BEGIN:VEVENT
DTSTART;TZID=Asia/Beirut:20230518T220000
DTEND;TZID=Asia/Beirut:20230518T220000
DTSTAMP:20260421T202629
CREATED:20230516T150002Z
LAST-MODIFIED:20230516T150002Z
UID:10002358-1684447200-1684447200@gobatroun.com
SUMMARY:80's Night at Cheers
DESCRIPTION:
URL:https://gobatroun.com/event/80s-night-at-cheers-6/
LOCATION:Cheers
CATEGORIES:Performing Arts
ATTACH;FMTTYPE=image/png:https://gobatroun.com/wp-content/uploads/2023/02/Screenshot-2747.png
END:VEVENT
BEGIN:VEVENT
DTSTART;TZID=Asia/Beirut:20230518T220000
DTEND;TZID=Asia/Beirut:20230518T220000
DTSTAMP:20260421T202629
CREATED:20230518T132152Z
LAST-MODIFIED:20230518T132152Z
UID:10002377-1684447200-1684447200@gobatroun.com
SUMMARY:Dj Ray at Chess Bar
DESCRIPTION:
URL:https://gobatroun.com/event/dj-ray-at-chess-bar/
LOCATION:Chess Bar
CATEGORIES:Performing Arts
ATTACH;FMTTYPE=image/png:https://gobatroun.com/wp-content/uploads/2023/05/Screenshot-763.png
END:VEVENT
END:VCALENDAR