BEGIN:VCALENDAR
VERSION:2.0
PRODID:-//Go Batroun - ECPv6.14.2//NONSGML v1.0//EN
CALSCALE:GREGORIAN
METHOD:PUBLISH
X-ORIGINAL-URL:https://gobatroun.com
X-WR-CALDESC:Events for Go Batroun
REFRESH-INTERVAL;VALUE=DURATION:PT1H
X-Robots-Tag:noindex
X-PUBLISHED-TTL:PT1H
BEGIN:VTIMEZONE
TZID:Asia/Beirut
BEGIN:DAYLIGHT
TZOFFSETFROM:+0200
TZOFFSETTO:+0300
TZNAME:EEST
DTSTART:20230325T220000
END:DAYLIGHT
BEGIN:STANDARD
TZOFFSETFROM:+0300
TZOFFSETTO:+0200
TZNAME:EET
DTSTART:20231028T210000
END:STANDARD
END:VTIMEZONE
BEGIN:VEVENT
DTSTART;TZID=Asia/Beirut:20230503T200000
DTEND;TZID=Asia/Beirut:20230503T200000
DTSTAMP:20260421T145657
CREATED:20230502T065826Z
LAST-MODIFIED:20230502T070105Z
UID:10002282-1683144000-1683144000@gobatroun.com
SUMMARY:صلى مع الحركة الرسولية المريمية
DESCRIPTION:سلام المسيح،\nتعوا نصلي سوا مع الحركة الرسولية المريمية بعنوان:\n“طوبى لمن يسمع كلمة الله و يعمل بها” \nالمكان: كنيسة السيدة\nالزمان: الأربعاء ٣ أيار ٢٠٢٣\nالساعة ٨ مساءً \nحضوركن بفرحنا…\nنحن ناطرينكن.
URL:https://gobatroun.com/event/%d8%b7%d9%88%d8%a8%d9%89-%d9%84%d9%85%d9%86-%d9%8a%d8%b3%d9%85%d8%b9-%d9%83%d9%84%d9%85%d8%a9-%d8%a7%d9%84%d9%84%d9%87-%d9%88-%d9%8a%d8%b9%d9%85%d9%84-%d8%a8%d9%87%d8%a7/
LOCATION:كنيسة السيدة
ATTACH;FMTTYPE=image/jpeg:https://gobatroun.com/wp-content/uploads/2023/05/WhatsApp-Image-2023-05-02-at-09.00.24.jpg
END:VEVENT
BEGIN:VEVENT
DTSTART;TZID=Asia/Beirut:20230503T220000
DTEND;TZID=Asia/Beirut:20230503T220000
DTSTAMP:20260421T145657
CREATED:20230503T133214Z
LAST-MODIFIED:20230503T133214Z
UID:10002287-1683151200-1683151200@gobatroun.com
SUMMARY:Stephan Roukos at Cheers
DESCRIPTION:
URL:https://gobatroun.com/event/stephan-roukos-at-cheers-20/
LOCATION:Cheers
CATEGORIES:Performing Arts
ATTACH;FMTTYPE=image/png:https://gobatroun.com/wp-content/uploads/2022/12/Screenshot-2158.png
END:VEVENT
END:VCALENDAR