BEGIN:VCALENDAR
VERSION:2.0
PRODID:-//Go Batroun - ECPv6.14.2//NONSGML v1.0//EN
CALSCALE:GREGORIAN
METHOD:PUBLISH
X-WR-CALNAME:Go Batroun
X-ORIGINAL-URL:https://gobatroun.com
X-WR-CALDESC:Events for Go Batroun
REFRESH-INTERVAL;VALUE=DURATION:PT1H
X-Robots-Tag:noindex
X-PUBLISHED-TTL:PT1H
BEGIN:VTIMEZONE
TZID:Asia/Beirut
BEGIN:DAYLIGHT
TZOFFSETFROM:+0200
TZOFFSETTO:+0300
TZNAME:EEST
DTSTART:20230325T220000
END:DAYLIGHT
BEGIN:STANDARD
TZOFFSETFROM:+0300
TZOFFSETTO:+0200
TZNAME:EET
DTSTART:20231028T210000
END:STANDARD
END:VTIMEZONE
BEGIN:VEVENT
DTSTART;TZID=Asia/Beirut:20230430T210000
DTEND;TZID=Asia/Beirut:20230430T210000
DTSTAMP:20260422T134628
CREATED:20230425T114723Z
LAST-MODIFIED:20230425T114723Z
UID:10002258-1682888400-1682888400@gobatroun.com
SUMMARY:Aline Lahoud at Kori
DESCRIPTION:A mesmerizing LIVE performance by 👐🏻\nALINE LAHOUD \nSUNDAY\, APRIL 30TH\nRSVP: 79 118 887
URL:https://gobatroun.com/event/aline-lahoud-at-kori/
LOCATION:KŌRI
CATEGORIES:Performing Arts
ATTACH;FMTTYPE=image/png:https://gobatroun.com/wp-content/uploads/2023/04/Screenshot-470.png
END:VEVENT
BEGIN:VEVENT
DTSTART;TZID=Asia/Beirut:20230430T213000
DTEND;TZID=Asia/Beirut:20230430T213000
DTSTAMP:20260422T134628
CREATED:20230425T120144Z
LAST-MODIFIED:20230425T120144Z
UID:10002264-1682890200-1682890200@gobatroun.com
SUMMARY:Rodolphe and The Band at Cheers
DESCRIPTION:
URL:https://gobatroun.com/event/rodolphe-and-the-band-at-cheers-2/
LOCATION:Cheers
CATEGORIES:Performing Arts
ATTACH;FMTTYPE=image/png:https://gobatroun.com/wp-content/uploads/2023/04/Screenshot-473.png
END:VEVENT
BEGIN:VEVENT
DTSTART;TZID=Asia/Beirut:20230430T220000
DTEND;TZID=Asia/Beirut:20230430T220000
DTSTAMP:20260422T134628
CREATED:20230424T104254Z
LAST-MODIFIED:20230424T104254Z
UID:10002245-1682892000-1682892000@gobatroun.com
SUMMARY:Hadi Daou at Léyl
DESCRIPTION:
URL:https://gobatroun.com/event/hadi-daou-at-leyl-5/
LOCATION:Léyl
CATEGORIES:Performing Arts
ATTACH;FMTTYPE=image/png:https://gobatroun.com/wp-content/uploads/2023/04/Screenshot-452.png
END:VEVENT
BEGIN:VEVENT
DTSTART;TZID=Asia/Beirut:20230430T220000
DTEND;TZID=Asia/Beirut:20230430T220000
DTSTAMP:20260422T134628
CREATED:20230424T104841Z
LAST-MODIFIED:20230424T104841Z
UID:10002248-1682892000-1682892000@gobatroun.com
SUMMARY:Dj Bibb and Mc-H at Void
DESCRIPTION:
URL:https://gobatroun.com/event/dj-bibb-and-mc-h-at-void-18/
LOCATION:Void Nightclub
CATEGORIES:Performing Arts
ATTACH;FMTTYPE=image/png:https://gobatroun.com/wp-content/uploads/2023/04/Screenshot-450.png
END:VEVENT
BEGIN:VEVENT
DTSTART;TZID=Asia/Beirut:20230430T220000
DTEND;TZID=Asia/Beirut:20230430T220000
DTSTAMP:20260422T134628
CREATED:20230427T102630Z
LAST-MODIFIED:20230427T102630Z
UID:10002265-1682892000-1682892000@gobatroun.com
SUMMARY:Ely Kallas and Patric Safi at TAIGA BATROUN CLUB
DESCRIPTION:This Sunday\nTAIGA Batroun\n#elykallas #patricksafi #DjRalph \n#TaigaBatroun #lebanon #North\nReserve On 03499408
URL:https://gobatroun.com/event/ely-kallas-and-patric-safi-at-taiga-batroun-club-2/
LOCATION:TAIGA BATROUN CLUB\, 7M46+23 Batroun\, Batroun\, Lebanon
CATEGORIES:Performing Arts
ATTACH;FMTTYPE=image/png:https://gobatroun.com/wp-content/uploads/2023/04/Screenshot-437.png
GEO:34.255082353874;35.660243950604
X-APPLE-STRUCTURED-LOCATION;VALUE=URI;X-ADDRESS=TAIGA BATROUN CLUB 7M46+23 Batroun Batroun Lebanon;X-APPLE-RADIUS=500;X-TITLE=7M46+23 Batroun:geo:35.660243950604,34.255082353874
END:VEVENT
END:VCALENDAR