BEGIN:VCALENDAR
VERSION:2.0
PRODID:-//Go Batroun - ECPv6.14.2//NONSGML v1.0//EN
CALSCALE:GREGORIAN
METHOD:PUBLISH
X-WR-CALNAME:Go Batroun
X-ORIGINAL-URL:https://gobatroun.com
X-WR-CALDESC:Events for Go Batroun
REFRESH-INTERVAL;VALUE=DURATION:PT1H
X-Robots-Tag:noindex
X-PUBLISHED-TTL:PT1H
BEGIN:VTIMEZONE
TZID:Asia/Beirut
BEGIN:DAYLIGHT
TZOFFSETFROM:+0200
TZOFFSETTO:+0300
TZNAME:EEST
DTSTART:20230325T220000
END:DAYLIGHT
BEGIN:STANDARD
TZOFFSETFROM:+0300
TZOFFSETTO:+0200
TZNAME:EET
DTSTART:20231028T210000
END:STANDARD
END:VTIMEZONE
BEGIN:VEVENT
DTSTART;TZID=Asia/Beirut:20230427T090000
DTEND;TZID=Asia/Beirut:20230427T233000
DTSTAMP:20260423T065336
CREATED:20230425T113757Z
LAST-MODIFIED:20230425T113757Z
UID:10002255-1682586000-1682638200@gobatroun.com
SUMMARY:Moules and Frites at Barrio67
DESCRIPTION:
URL:https://gobatroun.com/event/moules-and-frites-at-barrio67-6/
LOCATION:Barrio67
CATEGORIES:Performing Arts
ATTACH;FMTTYPE=image/jpeg:https://gobatroun.com/wp-content/uploads/2023/03/WhatsApp-Image-2023-03-28-at-21.22.56.jpg
END:VEVENT
BEGIN:VEVENT
DTSTART;TZID=Asia/Beirut:20230427T213000
DTEND;TZID=Asia/Beirut:20230427T213000
DTSTAMP:20260423T065336
CREATED:20230425T112829Z
LAST-MODIFIED:20230425T112829Z
UID:10002252-1682631000-1682631000@gobatroun.com
SUMMARY:SBK Night at Madame Figo
DESCRIPTION:
URL:https://gobatroun.com/event/sbk-night-at-madame-figo/
LOCATION:Madame Figo
CATEGORIES:Performing Arts
ATTACH;FMTTYPE=image/png:https://gobatroun.com/wp-content/uploads/2023/04/Screenshot-465.png
END:VEVENT
BEGIN:VEVENT
DTSTART;TZID=Asia/Beirut:20230427T220000
DTEND;TZID=Asia/Beirut:20230427T220000
DTSTAMP:20260423T065336
CREATED:20230425T115231Z
LAST-MODIFIED:20230425T115231Z
UID:10002261-1682632800-1682632800@gobatroun.com
SUMMARY:80's night with Dj Undertaker at Cheers
DESCRIPTION:
URL:https://gobatroun.com/event/80s-night-with-dj-undertaker-at-cheers-5/
LOCATION:Cheers
CATEGORIES:Performing Arts
ATTACH;FMTTYPE=image/png:https://gobatroun.com/wp-content/uploads/2023/04/Screenshot-426.png
END:VEVENT
END:VCALENDAR