BEGIN:VCALENDAR
VERSION:2.0
PRODID:-//Go Batroun - ECPv6.14.2//NONSGML v1.0//EN
CALSCALE:GREGORIAN
METHOD:PUBLISH
X-WR-CALNAME:Go Batroun
X-ORIGINAL-URL:https://gobatroun.com
X-WR-CALDESC:Events for Go Batroun
REFRESH-INTERVAL;VALUE=DURATION:PT1H
X-Robots-Tag:noindex
X-PUBLISHED-TTL:PT1H
BEGIN:VTIMEZONE
TZID:Asia/Beirut
BEGIN:DAYLIGHT
TZOFFSETFROM:+0200
TZOFFSETTO:+0300
TZNAME:EEST
DTSTART:20230325T220000
END:DAYLIGHT
BEGIN:STANDARD
TZOFFSETFROM:+0300
TZOFFSETTO:+0200
TZNAME:EET
DTSTART:20231028T210000
END:STANDARD
END:VTIMEZONE
BEGIN:VEVENT
DTSTART;TZID=Asia/Beirut:20230423T170000
DTEND;TZID=Asia/Beirut:20230423T170000
DTSTAMP:20260421T162438
CREATED:20230422T125814Z
LAST-MODIFIED:20230422T125814Z
UID:10002240-1682269200-1682269200@gobatroun.com
SUMMARY:Zajal at Douma Club
DESCRIPTION:انضموا إلينا نهار الأحد ٢٣ نيسان في نادي دوما لأمسية زجل نستحضر فيها جمال لبنان \n٥ شعراء مميزين (فيكتور ميرزا​، منذر خيرالله، سميح خليل، حنا جعجع، عادل خداج) سيؤديون القصائد والالتبادلات اللفظية بشكل فردي وجماعي حول مجموعة متنوعة من المواضيع بما في ذلك الحياة والطبيعة والحب والحنين والأحداث اليومية. \nالزجل هو شكل من أشكال الشعر الشعبي اللبناني الذي يُلقى أو يُغنى في الاحتفالات الاجتماعية والعائلية وفي الحياة اليومية.\nخلال المنافسات الشعرية ، تتجمع فرق الشعراء والموسيقيين حول طاولة لتأدية القصائد أمام جمهور مختلط على إيقاع الدف والدربوكة. يقوم الشعراء بإلقاء أبيات ، غالبًا في شكل تحديات ، ثم يتكررها المطربون والجمهور. \nJoin us this Sunday\, April 23 at Douma Club for an evening of Zajal and verbal exchanges that evoke the beauty of Lebanon. \n5 amazing poets (Victor Merza\, Monther Khairallah\, Samih Khalil\, Hanna Geagea\, and Adel Khidaj) will express themselves individually and collectively on a variety of themes including life\, nature\, love\, nostalgia\, and daily events. \nAl-Zajal is a form of Lebanese folk poetry declaimed or sung at social and family celebrations and in daily life. During poetic jousts\, troupes of poets and musicians gather around a table to perform verses in front of a mixed audience to the rhythm of the tambourine and derbouka. The poets declaim verses\, often in the form of challenges\, which are then repeated by the singers and audience.
URL:https://gobatroun.com/event/zajal-at-douma-club/
LOCATION:Douma Club\, 6R3W+4C3\, Douma\, Lebanon
CATEGORIES:Performing Arts
ATTACH;FMTTYPE=image/png:https://gobatroun.com/wp-content/uploads/2023/04/Screenshot-442.png
GEO:34.202772400684;35.846053231692
X-APPLE-STRUCTURED-LOCATION;VALUE=URI;X-ADDRESS=Douma Club 6R3W+4C3 Douma Lebanon;X-APPLE-RADIUS=500;X-TITLE=6R3W+4C3:geo:35.846053231692,34.202772400684
END:VEVENT
BEGIN:VEVENT
DTSTART;TZID=Asia/Beirut:20230423T210000
DTEND;TZID=Asia/Beirut:20230423T210000
DTSTAMP:20260421T162438
CREATED:20230420T155443Z
LAST-MODIFIED:20230420T155443Z
UID:10002236-1682283600-1682283600@gobatroun.com
SUMMARY:Chady Aidamouny at Merchak بالسوق
DESCRIPTION:Book now at📱 76 666 151
URL:https://gobatroun.com/event/chady-aidamouny-at-merchak-%d8%a8%d8%a7%d9%84%d8%b3%d9%88%d9%82-14/
LOCATION:Merchak بالسوق
CATEGORIES:Performing Arts
ATTACH;FMTTYPE=image/png:https://gobatroun.com/wp-content/uploads/2023/03/Screenshot-118.png
END:VEVENT
BEGIN:VEVENT
DTSTART;TZID=Asia/Beirut:20230423T213000
DTEND;TZID=Asia/Beirut:20230423T213000
DTSTAMP:20260421T162438
CREATED:20230419T133929Z
LAST-MODIFIED:20230419T133929Z
UID:10002230-1682285400-1682285400@gobatroun.com
SUMMARY:Dj Mark at KŌRI
DESCRIPTION:
URL:https://gobatroun.com/event/dj-mark-at-kori-4/
LOCATION:KŌRI
CATEGORIES:Performing Arts
ATTACH;FMTTYPE=image/png:https://gobatroun.com/wp-content/uploads/2023/04/Screenshot-434.png
END:VEVENT
BEGIN:VEVENT
DTSTART;TZID=Asia/Beirut:20230423T213000
DTEND;TZID=Asia/Beirut:20230423T213000
DTSTAMP:20260421T162438
CREATED:20230420T154622Z
LAST-MODIFIED:20230420T154622Z
UID:10002233-1682285400-1682285400@gobatroun.com
SUMMARY:Dj Undertaker at Cheers
DESCRIPTION:
URL:https://gobatroun.com/event/dj-undertaker-at-cheers-25/
LOCATION:Cheers
CATEGORIES:Performing Arts
ATTACH;FMTTYPE=image/png:https://gobatroun.com/wp-content/uploads/2023/04/Screenshot-436.png
END:VEVENT
BEGIN:VEVENT
DTSTART;TZID=Asia/Beirut:20230423T220000
DTEND;TZID=Asia/Beirut:20230423T220000
DTSTAMP:20260421T162438
CREATED:20230420T154928Z
LAST-MODIFIED:20230420T154928Z
UID:10002234-1682287200-1682287200@gobatroun.com
SUMMARY:Ely Kallas and Patric Safi at TAIGA BATROUN CLUB
DESCRIPTION:
URL:https://gobatroun.com/event/ely-kallas-and-patric-safi-at-taiga-batroun-club/
LOCATION:TAIGA BATROUN CLUB\, 7M46+23 Batroun\, Batroun\, Lebanon
CATEGORIES:Performing Arts
ATTACH;FMTTYPE=image/png:https://gobatroun.com/wp-content/uploads/2023/04/Screenshot-437.png
GEO:34.255082353874;35.660243950604
X-APPLE-STRUCTURED-LOCATION;VALUE=URI;X-ADDRESS=TAIGA BATROUN CLUB 7M46+23 Batroun Batroun Lebanon;X-APPLE-RADIUS=500;X-TITLE=7M46+23 Batroun:geo:35.660243950604,34.255082353874
END:VEVENT
END:VCALENDAR