BEGIN:VCALENDAR
VERSION:2.0
PRODID:-//Go Batroun - ECPv6.14.2//NONSGML v1.0//EN
CALSCALE:GREGORIAN
METHOD:PUBLISH
X-WR-CALNAME:Go Batroun
X-ORIGINAL-URL:https://gobatroun.com
X-WR-CALDESC:Events for Go Batroun
REFRESH-INTERVAL;VALUE=DURATION:PT1H
X-Robots-Tag:noindex
X-PUBLISHED-TTL:PT1H
BEGIN:VTIMEZONE
TZID:Asia/Beirut
BEGIN:DAYLIGHT
TZOFFSETFROM:+0200
TZOFFSETTO:+0300
TZNAME:EEST
DTSTART:20230325T220000
END:DAYLIGHT
BEGIN:STANDARD
TZOFFSETFROM:+0300
TZOFFSETTO:+0200
TZNAME:EET
DTSTART:20231028T210000
END:STANDARD
END:VTIMEZONE
BEGIN:VEVENT
DTSTART;VALUE=DATE:20230422
DTEND;VALUE=DATE:20230424
DTSTAMP:20260423T065336
CREATED:20230418T074544Z
LAST-MODIFIED:20230418T074544Z
UID:10002204-1682143200-1682229599@gobatroun.com
SUMMARY:Chatine Snounous are Back
DESCRIPTION:Snounous are back with a fantastic full-day adventure! They’ll take you on a day full of hiking\, exploration\, delicious local food\, and breathtaking views in the hidden gem of Chatine\, Batroun district. \nLimited spots are available❕ \nFull details on Lebtivity.com
URL:https://gobatroun.com/event/chatine-snounous-are-back/
LOCATION:Chatine
CATEGORIES:Performing Arts
ATTACH;FMTTYPE=image/jpeg:https://gobatroun.com/wp-content/uploads/2023/04/WhatsApp-Image-2023-04-18-at-09.51.52.jpg
END:VEVENT
BEGIN:VEVENT
DTSTART;TZID=Asia/Beirut:20230422T210000
DTEND;TZID=Asia/Beirut:20230422T210000
DTSTAMP:20260423T065336
CREATED:20230418T080801Z
LAST-MODIFIED:20230418T080801Z
UID:10002208-1682197200-1682197200@gobatroun.com
SUMMARY:Joud Dallal at Tramway Batroun
DESCRIPTION:This Saturday Joud Dallal ” at Tramway Batroun Ft. @dj_chub_official\nFor reservations call us at 📲 03 51 41 01\nor WhatsApp us at ➡️ https://wa.link/4z3wsz\n.\n✅Valet Parking Service available\n🕘 Starting 9 p.m
URL:https://gobatroun.com/event/joud-dallal-at-tramway-batroun-6/
LOCATION:Tramway Gastro Pub\, 7M45+CQ Batroun\, Batroun\, Lebanon
CATEGORIES:Performing Arts
ATTACH;FMTTYPE=image/png:https://gobatroun.com/wp-content/uploads/2023/04/Screenshot-416.png
END:VEVENT
BEGIN:VEVENT
DTSTART;TZID=Asia/Beirut:20230422T210000
DTEND;TZID=Asia/Beirut:20230422T210000
DTSTAMP:20260423T065336
CREATED:20230419T133646Z
LAST-MODIFIED:20230419T133646Z
UID:10002228-1682197200-1682197200@gobatroun.com
SUMMARY:Alecco’s Nights at KŌRI
DESCRIPTION:
URL:https://gobatroun.com/event/aleccos-nights-at-kori/
LOCATION:KŌRI
CATEGORIES:Performing Arts
ATTACH;FMTTYPE=image/png:https://gobatroun.com/wp-content/uploads/2023/04/Screenshot-433.png
END:VEVENT
BEGIN:VEVENT
DTSTART;TZID=Asia/Beirut:20230422T210000
DTEND;TZID=Asia/Beirut:20230422T210000
DTSTAMP:20260423T065336
CREATED:20230420T155216Z
LAST-MODIFIED:20230420T155216Z
UID:10002235-1682197200-1682197200@gobatroun.com
SUMMARY:Mariam and the Band at Barrio67
DESCRIPTION:Mark your calendars! @mariam.mezher is back at Barrio67 for another live performance this Saturday. It’s going to be a night to remember! \nBand charge $5 \nFor reservations\, please call this number 👇🏼\n+961 70 211 299
URL:https://gobatroun.com/event/mariam-and-the-band-at-barrio67/
LOCATION:Barrio67
CATEGORIES:Performing Arts
ATTACH;FMTTYPE=image/png:https://gobatroun.com/wp-content/uploads/2023/04/Screenshot-438.png
END:VEVENT
BEGIN:VEVENT
DTSTART;TZID=Asia/Beirut:20230422T210000
DTEND;TZID=Asia/Beirut:20230422T210000
DTSTAMP:20260423T065336
CREATED:20230420T155836Z
LAST-MODIFIED:20230420T155836Z
UID:10002239-1682197200-1682197200@gobatroun.com
SUMMARY:Dj Ehub at Merchak بالسوق
DESCRIPTION:
URL:https://gobatroun.com/event/dj-ehub-at-merchak-%d8%a8%d8%a7%d9%84%d8%b3%d9%88%d9%82-2/
LOCATION:Merchak بالسوق
CATEGORIES:Performing Arts
ATTACH;FMTTYPE=image/png:https://gobatroun.com/wp-content/uploads/2023/04/Screenshot-368.png
END:VEVENT
BEGIN:VEVENT
DTSTART;TZID=Asia/Beirut:20230422T213000
DTEND;TZID=Asia/Beirut:20230422T213000
DTSTAMP:20260423T065336
CREATED:20230418T133511Z
LAST-MODIFIED:20230418T133511Z
UID:10002225-1682199000-1682199000@gobatroun.com
SUMMARY:Dj Salvador at Cheers
DESCRIPTION:
URL:https://gobatroun.com/event/dj-salvador-at-cheers-2/
LOCATION:Cheers
CATEGORIES:Performing Arts
ATTACH;FMTTYPE=image/png:https://gobatroun.com/wp-content/uploads/2022/09/Screenshot-1776.png
END:VEVENT
BEGIN:VEVENT
DTSTART;TZID=Asia/Beirut:20230422T213000
DTEND;TZID=Asia/Beirut:20230422T213000
DTSTAMP:20260423T065336
CREATED:20230419T133919Z
LAST-MODIFIED:20230419T133919Z
UID:10002231-1682199000-1682199000@gobatroun.com
SUMMARY:Dj Mark at KŌRI
DESCRIPTION:
URL:https://gobatroun.com/event/dj-mark-at-kori-3/
LOCATION:KŌRI
CATEGORIES:Performing Arts
ATTACH;FMTTYPE=image/png:https://gobatroun.com/wp-content/uploads/2023/04/Screenshot-434.png
END:VEVENT
BEGIN:VEVENT
DTSTART;TZID=Asia/Beirut:20230422T220000
DTEND;TZID=Asia/Beirut:20230422T220000
DTSTAMP:20260423T065336
CREATED:20230418T082004Z
LAST-MODIFIED:20230418T082004Z
UID:10002211-1682200800-1682200800@gobatroun.com
SUMMARY:Georges Tawil at Xlounge Batroun
DESCRIPTION:Get ready to uplift your mood with the exceptional energy and voice of @georgestawilofficial this Saturday\, April 22 \nFor reservation 03 499 833
URL:https://gobatroun.com/event/georges-tawil-at-xlounge-batroun/
LOCATION:Xlounge Batroun
CATEGORIES:Performing Arts
ATTACH;FMTTYPE=image/png:https://gobatroun.com/wp-content/uploads/2023/04/Screenshot-419.png
END:VEVENT
BEGIN:VEVENT
DTSTART;TZID=Asia/Beirut:20230422T220000
DTEND;TZID=Asia/Beirut:20230422T220000
DTSTAMP:20260423T065336
CREATED:20230419T132947Z
LAST-MODIFIED:20230419T132947Z
UID:10002226-1682200800-1682200800@gobatroun.com
SUMMARY:Dj Bibb and Mc-H at Void
DESCRIPTION:
URL:https://gobatroun.com/event/dj-bibb-and-mc-h-at-void-17/
LOCATION:Void Nightclub
CATEGORIES:Performing Arts
ATTACH;FMTTYPE=image/png:https://gobatroun.com/wp-content/uploads/2023/04/Screenshot-431.png
END:VEVENT
BEGIN:VEVENT
DTSTART;TZID=Asia/Beirut:20230422T223000
DTEND;TZID=Asia/Beirut:20230422T223000
DTSTAMP:20260423T065336
CREATED:20230418T081350Z
LAST-MODIFIED:20230418T081350Z
UID:10002210-1682202600-1682202600@gobatroun.com
SUMMARY:Rabih Gemayel at TAIGA BATROUN CLUB
DESCRIPTION:This Saturday #TaigaBatroun\n#Rabihgemayel\n#DjRalph \n#Taiga #Batroun #Lebanon #North\nReserve on 00961 3 499408
URL:https://gobatroun.com/event/rabih-gemayel-at-taiga-batroun-club/
LOCATION:TAIGA BATROUN CLUB\, 7M46+23 Batroun\, Batroun\, Lebanon
CATEGORIES:Performing Arts
ATTACH;FMTTYPE=image/png:https://gobatroun.com/wp-content/uploads/2023/04/Screenshot-417.png
GEO:34.255082353874;35.660243950604
X-APPLE-STRUCTURED-LOCATION;VALUE=URI;X-ADDRESS=TAIGA BATROUN CLUB 7M46+23 Batroun Batroun Lebanon;X-APPLE-RADIUS=500;X-TITLE=7M46+23 Batroun:geo:35.660243950604,34.255082353874
END:VEVENT
END:VCALENDAR