BEGIN:VCALENDAR
VERSION:2.0
PRODID:-//Go Batroun - ECPv6.14.2//NONSGML v1.0//EN
CALSCALE:GREGORIAN
METHOD:PUBLISH
X-WR-CALNAME:Go Batroun
X-ORIGINAL-URL:https://gobatroun.com
X-WR-CALDESC:Events for Go Batroun
REFRESH-INTERVAL;VALUE=DURATION:PT1H
X-Robots-Tag:noindex
X-PUBLISHED-TTL:PT1H
BEGIN:VTIMEZONE
TZID:Asia/Beirut
BEGIN:DAYLIGHT
TZOFFSETFROM:+0200
TZOFFSETTO:+0300
TZNAME:EEST
DTSTART:20230325T220000
END:DAYLIGHT
BEGIN:STANDARD
TZOFFSETFROM:+0300
TZOFFSETTO:+0200
TZNAME:EET
DTSTART:20231028T210000
END:STANDARD
END:VTIMEZONE
BEGIN:VEVENT
DTSTART;TZID=Asia/Beirut:20230418T210000
DTEND;TZID=Asia/Beirut:20230418T210000
DTSTAMP:20260421T162418
CREATED:20230418T080142Z
LAST-MODIFIED:20230418T080142Z
UID:10002205-1681851600-1681851600@gobatroun.com
SUMMARY:Stars Night at 961 Lounge Bar
DESCRIPTION:Every Tuesday🥰 #961.LoungeBar
URL:https://gobatroun.com/event/stars-night-at-961-lounge-bar-6/
LOCATION:961 Lounge bar
CATEGORIES:Performing Arts
ATTACH;FMTTYPE=image/png:https://gobatroun.com/wp-content/uploads/2023/03/Screenshot-116.png
END:VEVENT
BEGIN:VEVENT
DTSTART;TZID=Asia/Beirut:20230418T213000
DTEND;TZID=Asia/Beirut:20230418T213000
DTSTAMP:20260421T162418
CREATED:20230418T084700Z
LAST-MODIFIED:20230418T084700Z
UID:10002213-1681853400-1681853400@gobatroun.com
SUMMARY:Batroun vs Zahra Vollyball Game
DESCRIPTION:
URL:https://gobatroun.com/event/batroun-vs-zahra-vollyball-game/
LOCATION:Club Jeunesse Sportif Batroun\, 7M68+QCX\, Batroun\, Batroun\, Lebanon
CATEGORIES:Performing Arts,Sports
ATTACH;FMTTYPE=image/png:https://gobatroun.com/wp-content/uploads/2023/04/Screenshot-423.png
GEO:34.261999867948;35.66615409094
X-APPLE-STRUCTURED-LOCATION;VALUE=URI;X-ADDRESS=Club Jeunesse Sportif Batroun 7M68+QCX Batroun Batroun Lebanon;X-APPLE-RADIUS=500;X-TITLE=7M68+QCX\, Batroun:geo:35.66615409094,34.261999867948
END:VEVENT
END:VCALENDAR