BEGIN:VCALENDAR
VERSION:2.0
PRODID:-//Go Batroun - ECPv6.14.2//NONSGML v1.0//EN
CALSCALE:GREGORIAN
METHOD:PUBLISH
X-WR-CALNAME:Go Batroun
X-ORIGINAL-URL:https://gobatroun.com
X-WR-CALDESC:Events for Go Batroun
REFRESH-INTERVAL;VALUE=DURATION:PT1H
X-Robots-Tag:noindex
X-PUBLISHED-TTL:PT1H
BEGIN:VTIMEZONE
TZID:Asia/Beirut
BEGIN:DAYLIGHT
TZOFFSETFROM:+0200
TZOFFSETTO:+0300
TZNAME:EEST
DTSTART:20230325T220000
END:DAYLIGHT
BEGIN:STANDARD
TZOFFSETFROM:+0300
TZOFFSETTO:+0200
TZNAME:EET
DTSTART:20231028T210000
END:STANDARD
END:VTIMEZONE
BEGIN:VEVENT
DTSTART;TZID=Asia/Beirut:20230414T210000
DTEND;TZID=Asia/Beirut:20230414T210000
DTSTAMP:20260423T204506
CREATED:20230411T110244Z
LAST-MODIFIED:20230411T110244Z
UID:10002183-1681506000-1681506000@gobatroun.com
SUMMARY:Dj Samix at Merchak بالسوق
DESCRIPTION:
URL:https://gobatroun.com/event/dj-samix-at-merchak-%d8%a8%d8%a7%d9%84%d8%b3%d9%88%d9%82-8/
LOCATION:Merchak بالسوق
CATEGORIES:Performing Arts
ATTACH;FMTTYPE=image/png:https://gobatroun.com/wp-content/uploads/2023/04/Screenshot-368.png
END:VEVENT
BEGIN:VEVENT
DTSTART;TZID=Asia/Beirut:20230414T210000
DTEND;TZID=Asia/Beirut:20230414T210000
DTSTAMP:20260423T204506
CREATED:20230412T132451Z
LAST-MODIFIED:20230412T132451Z
UID:10002198-1681506000-1681506000@gobatroun.com
SUMMARY:Alfredline at Cheers
DESCRIPTION:
URL:https://gobatroun.com/event/alfredline-at-cheers/
LOCATION:Cheers
CATEGORIES:Performing Arts
ATTACH;FMTTYPE=image/png:https://gobatroun.com/wp-content/uploads/2023/04/Screenshot-380.png
END:VEVENT
BEGIN:VEVENT
DTSTART;TZID=Asia/Beirut:20230414T213000
DTEND;TZID=Asia/Beirut:20230414T213000
DTSTAMP:20260423T204506
CREATED:20230411T135108Z
LAST-MODIFIED:20230411T135403Z
UID:10002196-1681507800-1681507800@gobatroun.com
SUMMARY:Dj Mark at KŌRI
DESCRIPTION:
URL:https://gobatroun.com/event/dj-mark-at-kori/
LOCATION:KŌRI
CATEGORIES:Performing Arts
ATTACH;FMTTYPE=image/png:https://gobatroun.com/wp-content/uploads/2023/04/Screenshot-378.png
END:VEVENT
END:VCALENDAR