BEGIN:VCALENDAR
VERSION:2.0
PRODID:-//Go Batroun - ECPv6.14.2//NONSGML v1.0//EN
CALSCALE:GREGORIAN
METHOD:PUBLISH
X-ORIGINAL-URL:https://gobatroun.com
X-WR-CALDESC:Events for Go Batroun
REFRESH-INTERVAL;VALUE=DURATION:PT1H
X-Robots-Tag:noindex
X-PUBLISHED-TTL:PT1H
BEGIN:VTIMEZONE
TZID:Asia/Beirut
BEGIN:DAYLIGHT
TZOFFSETFROM:+0200
TZOFFSETTO:+0300
TZNAME:EEST
DTSTART:20230325T220000
END:DAYLIGHT
BEGIN:STANDARD
TZOFFSETFROM:+0300
TZOFFSETTO:+0200
TZNAME:EET
DTSTART:20231028T210000
END:STANDARD
END:VTIMEZONE
BEGIN:VEVENT
DTSTART;TZID=Asia/Beirut:20230408T210000
DTEND;TZID=Asia/Beirut:20230408T210000
DTSTAMP:20260423T075449
CREATED:20230404T112654Z
LAST-MODIFIED:20230404T112654Z
UID:10002162-1680987600-1680987600@gobatroun.com
SUMMARY:Dj Wissam at B1 Batroun
DESCRIPTION:
URL:https://gobatroun.com/event/dj-wissam-at-b1-batroun/
LOCATION:B1 Batroun
CATEGORIES:Performing Arts
ATTACH;FMTTYPE=image/png:https://gobatroun.com/wp-content/uploads/2023/04/Screenshot-340.png
END:VEVENT
BEGIN:VEVENT
DTSTART;TZID=Asia/Beirut:20230408T210000
DTEND;TZID=Asia/Beirut:20230408T210000
DTSTAMP:20260423T075449
CREATED:20230404T114201Z
LAST-MODIFIED:20230404T114201Z
UID:10002170-1680987600-1680987600@gobatroun.com
SUMMARY:Dj Solvador at Cheers
DESCRIPTION:
URL:https://gobatroun.com/event/dj-solvador-at-cheers-23/
LOCATION:Cheers
CATEGORIES:Performing Arts
ATTACH;FMTTYPE=image/png:https://gobatroun.com/wp-content/uploads/2022/10/Screenshot-1836.png
END:VEVENT
BEGIN:VEVENT
DTSTART;TZID=Asia/Beirut:20230408T213000
DTEND;TZID=Asia/Beirut:20230408T213000
DTSTAMP:20260423T075449
CREATED:20230404T110842Z
LAST-MODIFIED:20230404T110842Z
UID:10002157-1680989400-1680989400@gobatroun.com
SUMMARY:Dj Bibb and Mc-H at Void
DESCRIPTION:
URL:https://gobatroun.com/event/dj-bibb-and-mc-h-at-void-16/
LOCATION:Void Nightclub
CATEGORIES:Performing Arts
ATTACH;FMTTYPE=image/png:https://gobatroun.com/wp-content/uploads/2023/04/Screenshot-336.png
END:VEVENT
BEGIN:VEVENT
DTSTART;TZID=Asia/Beirut:20230408T213000
DTEND;TZID=Asia/Beirut:20230408T213000
DTSTAMP:20260423T075449
CREATED:20230404T111653Z
LAST-MODIFIED:20230404T111653Z
UID:10002161-1680989400-1680989400@gobatroun.com
SUMMARY:Pavo Sbannout at Xlounge Batroun
DESCRIPTION:Because we can’t get enough of his vibrant ambience\, @xloungebatroun is hosting again @pavosbannout . Don’t miss it! Join us on Saturday April 8 \nFor reservation 03 499 833
URL:https://gobatroun.com/event/pavo-sbannout-at-xlounge-batroun/
LOCATION:Xlounge Batroun
CATEGORIES:Performing Arts
ATTACH;FMTTYPE=image/png:https://gobatroun.com/wp-content/uploads/2023/04/Screenshot-339.png
END:VEVENT
BEGIN:VEVENT
DTSTART;TZID=Asia/Beirut:20230408T213000
DTEND;TZID=Asia/Beirut:20230408T213000
DTSTAMP:20260423T075449
CREATED:20230404T113056Z
LAST-MODIFIED:20230404T113056Z
UID:10002164-1680989400-1680989400@gobatroun.com
SUMMARY:Peter Boutros at Seven Night Club
DESCRIPTION:
URL:https://gobatroun.com/event/peter-boutros-at-seven-night-club-3/
LOCATION:Seven Night Club
CATEGORIES:Performing Arts
ATTACH;FMTTYPE=image/png:https://gobatroun.com/wp-content/uploads/2023/04/Screenshot-335.png
END:VEVENT
BEGIN:VEVENT
DTSTART;TZID=Asia/Beirut:20230408T213000
DTEND;TZID=Asia/Beirut:20230408T213000
DTSTAMP:20260423T075449
CREATED:20230404T113256Z
LAST-MODIFIED:20230404T113256Z
UID:10002165-1680989400-1680989400@gobatroun.com
SUMMARY:Al Hadchity at Leyl
DESCRIPTION:
URL:https://gobatroun.com/event/al-hadchity-at-leyl-12/
LOCATION:Léyl
CATEGORIES:Performing Arts
ATTACH;FMTTYPE=image/jpeg:https://gobatroun.com/wp-content/uploads/2023/04/WhatsApp-Image-2023-04-04-at-04.59.21.jpg
END:VEVENT
BEGIN:VEVENT
DTSTART;TZID=Asia/Beirut:20230408T213000
DTEND;TZID=Asia/Beirut:20230408T213000
DTSTAMP:20260423T075449
CREATED:20230405T122033Z
LAST-MODIFIED:20230405T122033Z
UID:10002173-1680989400-1680989400@gobatroun.com
SUMMARY:ANWAR SAMRANI and The TAILORS at GreenHouse
DESCRIPTION:This Saturday ANWAR SAMRANI and The TAILORS Live on the 8th of April. They will take you on a journey through time playing your favorite Classic Rock songs in medley style…\n____________________________________\nSat April 08 starting 9:30 pm\nRsvp 70 125 310
URL:https://gobatroun.com/event/anwar-samrani-and-the-tailors-at-greenhouse/
LOCATION:Green House Batroun
CATEGORIES:Performing Arts
ATTACH;FMTTYPE=image/png:https://gobatroun.com/wp-content/uploads/2023/04/Screenshot-358.png
END:VEVENT
BEGIN:VEVENT
DTSTART;TZID=Asia/Beirut:20230408T220000
DTEND;TZID=Asia/Beirut:20230408T220000
DTSTAMP:20260423T075449
CREATED:20230404T111509Z
LAST-MODIFIED:20230404T111509Z
UID:10002160-1680991200-1680991200@gobatroun.com
SUMMARY:Maher Jah at TAIGA BATROUN CLUB
DESCRIPTION:TaiGa Batroun\nThis Saturday Night\n#Maher on Stage #DjRalph\nStarting at 12 AM\n#TaiGa #Batroun #Lebanon\n#Reserve On 00961 3499408
URL:https://gobatroun.com/event/maher-jah-at-taiga-batroun-club-8/
LOCATION:TAIGA BATROUN CLUB\, 7M46+23 Batroun\, Batroun\, Lebanon
CATEGORIES:Performing Arts
ATTACH;FMTTYPE=image/png:https://gobatroun.com/wp-content/uploads/2023/04/Screenshot-338.png
GEO:34.255082353874;35.660243950604
X-APPLE-STRUCTURED-LOCATION;VALUE=URI;X-ADDRESS=TAIGA BATROUN CLUB 7M46+23 Batroun Batroun Lebanon;X-APPLE-RADIUS=500;X-TITLE=7M46+23 Batroun:geo:35.660243950604,34.255082353874
END:VEVENT
END:VCALENDAR