BEGIN:VCALENDAR
VERSION:2.0
PRODID:-//Go Batroun - ECPv6.14.2//NONSGML v1.0//EN
CALSCALE:GREGORIAN
METHOD:PUBLISH
X-WR-CALNAME:Go Batroun
X-ORIGINAL-URL:https://gobatroun.com
X-WR-CALDESC:Events for Go Batroun
REFRESH-INTERVAL;VALUE=DURATION:PT1H
X-Robots-Tag:noindex
X-PUBLISHED-TTL:PT1H
BEGIN:VTIMEZONE
TZID:Asia/Beirut
BEGIN:DAYLIGHT
TZOFFSETFROM:+0200
TZOFFSETTO:+0300
TZNAME:EEST
DTSTART:20230325T220000
END:DAYLIGHT
BEGIN:STANDARD
TZOFFSETFROM:+0300
TZOFFSETTO:+0200
TZNAME:EET
DTSTART:20231028T210000
END:STANDARD
END:VTIMEZONE
BEGIN:VEVENT
DTSTART;VALUE=DATE:20230219
DTEND;VALUE=DATE:20230313
DTSTAMP:20260421T234205
CREATED:20230207T150309Z
LAST-MODIFIED:20230207T150309Z
UID:10001923-1676764800-1678665599@gobatroun.com
SUMMARY:Volleyball Match Schedule
DESCRIPTION:
URL:https://gobatroun.com/event/volleyball-match-schedule/
LOCATION:Hamat Community Center
CATEGORIES:Performing Arts,Sports
ATTACH;FMTTYPE=image/jpeg:https://gobatroun.com/wp-content/uploads/2023/02/WhatsApp-Image-2023-02-07-at-5.02.15-PM.jpeg
END:VEVENT
BEGIN:VEVENT
DTSTART;VALUE=DATE:20230302
DTEND;VALUE=DATE:20230303
DTSTAMP:20260421T234205
CREATED:20230228T081512Z
LAST-MODIFIED:20230228T081512Z
UID:10002020-1677715200-1677801599@gobatroun.com
SUMMARY:Moules and Frites at Barrio67
DESCRIPTION:
URL:https://gobatroun.com/event/moules-and-frites-at-barrio67/
LOCATION:Barrio67
CATEGORIES:Performing Arts
ATTACH;FMTTYPE=image/png:https://gobatroun.com/wp-content/uploads/2023/02/Screenshot-97.png
END:VEVENT
BEGIN:VEVENT
DTSTART;TZID=Asia/Beirut:20230302T170000
DTEND;TZID=Asia/Beirut:20230302T170000
DTSTAMP:20260421T234205
CREATED:20230302T085934Z
LAST-MODIFIED:20230302T085934Z
UID:10002041-1677776400-1677776400@gobatroun.com
SUMMARY:French Night With Dj Gaby Abi Chahine at Barrio67
DESCRIPTION:Open Moules\, Frites and Wine
URL:https://gobatroun.com/event/french-night-with-dj-gaby-abi-chahine-at-barrio67/
LOCATION:Barrio67
CATEGORIES:Performing Arts
ATTACH;FMTTYPE=image/png:https://gobatroun.com/wp-content/uploads/2023/03/Screenshot-2790.png
END:VEVENT
BEGIN:VEVENT
DTSTART;TZID=Asia/Beirut:20230302T183000
DTEND;TZID=Asia/Beirut:20230302T193000
DTSTAMP:20260421T234205
CREATED:20230227T114007Z
LAST-MODIFIED:20230227T114007Z
UID:10002013-1677781800-1677785400@gobatroun.com
SUMMARY:Pilates Flow with Nadia at Darma Ji
DESCRIPTION:
URL:https://gobatroun.com/event/pilates-flow-with-nadia-at-darma-ji-12/
LOCATION:Darma Ji
CATEGORIES:Performing Arts,Sports
ATTACH;FMTTYPE=image/jpeg:https://gobatroun.com/wp-content/uploads/2023/02/WhatsApp-Image-2023-02-27-at-13.35.48.jpg
END:VEVENT
BEGIN:VEVENT
DTSTART;TZID=Asia/Beirut:20230302T193000
DTEND;TZID=Asia/Beirut:20230302T193000
DTSTAMP:20260421T234205
CREATED:20230302T081906Z
LAST-MODIFIED:20230302T081906Z
UID:10002036-1677785400-1677785400@gobatroun.com
SUMMARY:Batroun vs Anwar Game
DESCRIPTION:
URL:https://gobatroun.com/event/batroun-vs-anwar-game/
LOCATION:Batroun\, 6MX6+79V Batroun\, Batroun\, 1400\, Lebanon
CATEGORIES:Performing Arts,Sports
ATTACH;FMTTYPE=image/png:https://gobatroun.com/wp-content/uploads/2023/03/Screenshot-2773.png
GEO:34.248237811542;35.660916328184
X-APPLE-STRUCTURED-LOCATION;VALUE=URI;X-ADDRESS=Batroun 6MX6+79V Batroun Batroun 1400 Lebanon;X-APPLE-RADIUS=500;X-TITLE=6MX6+79V Batroun:geo:35.660916328184,34.248237811542
END:VEVENT
BEGIN:VEVENT
DTSTART;TZID=Asia/Beirut:20230302T220000
DTEND;TZID=Asia/Beirut:20230302T220000
DTSTAMP:20260421T234205
CREATED:20230228T153153Z
LAST-MODIFIED:20230228T153153Z
UID:10002034-1677794400-1677794400@gobatroun.com
SUMMARY:80's night with Dj Undertaker at Cheers
DESCRIPTION:
URL:https://gobatroun.com/event/80s-night-with-dj-undertaker-at-cheers/
LOCATION:Cheers
CATEGORIES:Performing Arts
ATTACH;FMTTYPE=image/png:https://gobatroun.com/wp-content/uploads/2023/02/Screenshot-106.png
END:VEVENT
END:VCALENDAR