BEGIN:VCALENDAR
VERSION:2.0
PRODID:-//Go Batroun - ECPv6.14.2//NONSGML v1.0//EN
CALSCALE:GREGORIAN
METHOD:PUBLISH
X-ORIGINAL-URL:https://gobatroun.com
X-WR-CALDESC:Events for Go Batroun
REFRESH-INTERVAL;VALUE=DURATION:PT1H
X-Robots-Tag:noindex
X-PUBLISHED-TTL:PT1H
BEGIN:VTIMEZONE
TZID:Asia/Beirut
BEGIN:DAYLIGHT
TZOFFSETFROM:+0200
TZOFFSETTO:+0300
TZNAME:EEST
DTSTART:20230325T220000
END:DAYLIGHT
BEGIN:STANDARD
TZOFFSETFROM:+0300
TZOFFSETTO:+0200
TZNAME:EET
DTSTART:20231028T210000
END:STANDARD
END:VTIMEZONE
BEGIN:VEVENT
DTSTART;VALUE=DATE:20230219
DTEND;VALUE=DATE:20230313
DTSTAMP:20260421T080826
CREATED:20230207T150309Z
LAST-MODIFIED:20230207T150309Z
UID:10001923-1676764800-1678665599@gobatroun.com
SUMMARY:Volleyball Match Schedule
DESCRIPTION:
URL:https://gobatroun.com/event/volleyball-match-schedule/
LOCATION:Hamat Community Center
CATEGORIES:Performing Arts,Sports
ATTACH;FMTTYPE=image/jpeg:https://gobatroun.com/wp-content/uploads/2023/02/WhatsApp-Image-2023-02-07-at-5.02.15-PM.jpeg
END:VEVENT
BEGIN:VEVENT
DTSTART;TZID=Asia/Beirut:20230225T160000
DTEND;TZID=Asia/Beirut:20230225T170000
DTSTAMP:20260421T080826
CREATED:20230224T113357Z
LAST-MODIFIED:20230224T113357Z
UID:10002000-1677340800-1677344400@gobatroun.com
SUMMARY:Let's save the Princess at Dream Ville
DESCRIPTION:Let’s save the Princess from the 🐉 attack!!!\nJoin us tomorrow at 4 pm and let’s try our best! \nFor reservations: 70/224987\n70/146349
URL:https://gobatroun.com/event/lets-save-the-princess-at-dream-ville/
LOCATION:Dream Ville
CATEGORIES:Performing Arts
ATTACH;FMTTYPE=image/png:https://gobatroun.com/wp-content/uploads/2023/02/Screenshot-69.png
END:VEVENT
BEGIN:VEVENT
DTSTART;TZID=Asia/Beirut:20230225T190000
DTEND;TZID=Asia/Beirut:20230225T190000
DTSTAMP:20260421T080826
CREATED:20230224T124153Z
LAST-MODIFIED:20230224T124153Z
UID:10002001-1677351600-1677351600@gobatroun.com
SUMMARY:Lebanese Volleball League Batroun vs Meshmesh
DESCRIPTION:
URL:https://gobatroun.com/event/lebanese-volleball-league-batroun-vs-meshmesh/
LOCATION:Batroun\, 6MX6+79V Batroun\, Batroun\, 1400\, Lebanon
CATEGORIES:Performing Arts,Sports
ATTACH;FMTTYPE=image/jpeg:https://gobatroun.com/wp-content/uploads/2023/02/WhatsApp-Image-2023-02-24-at-14.22.17.jpg
GEO:34.248237811542;35.660916328184
X-APPLE-STRUCTURED-LOCATION;VALUE=URI;X-ADDRESS=Batroun 6MX6+79V Batroun Batroun 1400 Lebanon;X-APPLE-RADIUS=500;X-TITLE=6MX6+79V Batroun:geo:35.660916328184,34.248237811542
END:VEVENT
BEGIN:VEVENT
DTSTART;TZID=Asia/Beirut:20230225T210000
DTEND;TZID=Asia/Beirut:20230225T210000
DTSTAMP:20260421T080826
CREATED:20230220T073355Z
LAST-MODIFIED:20230220T073355Z
UID:10001968-1677358800-1677358800@gobatroun.com
SUMMARY:George Nehme at Xlounge Batroun
DESCRIPTION:We are eager to announce that the outstanding @georgenehmeofficial will rock the stage at @xloungebatroun on Saturday\, February 25th!
URL:https://gobatroun.com/event/george-nehme-at-xlounge-batroun/
LOCATION:Xlounge Batroun
CATEGORIES:Performing Arts
ATTACH;FMTTYPE=image/png:https://gobatroun.com/wp-content/uploads/2023/02/Screenshot-2756.png
END:VEVENT
BEGIN:VEVENT
DTSTART;TZID=Asia/Beirut:20230225T210000
DTEND;TZID=Asia/Beirut:20230225T210000
DTSTAMP:20260421T080826
CREATED:20230221T092325Z
LAST-MODIFIED:20230221T092325Z
UID:10001986-1677358800-1677358800@gobatroun.com
SUMMARY:Allo Beirut Band and Maher at Tramway Batroun
DESCRIPTION:Join us this Saturday February 25th with “Allo Beirut Band and Maher” at Tramway Batroun Ft. @dj_chub_official\nFor reservations call us on 📲 03 51 41 01\nor WhatsApp us on ➡️ https://wa.link/4z3wsz\n.\n✅Valet Parking Service available\n🕘 starting 9 p.m
URL:https://gobatroun.com/event/allo-beirut-band-and-maher-at-tramway-batroun-6/
LOCATION:Tramway Gastro Pub\, 7M45+CQ Batroun\, Batroun\, Lebanon
CATEGORIES:Performing Arts
ATTACH;FMTTYPE=image/png:https://gobatroun.com/wp-content/uploads/2023/02/Screenshot-39.png
END:VEVENT
BEGIN:VEVENT
DTSTART;TZID=Asia/Beirut:20230225T210000
DTEND;TZID=Asia/Beirut:20230225T210000
DTSTAMP:20260421T080826
CREATED:20230222T074350Z
LAST-MODIFIED:20230222T074541Z
UID:10001994-1677358800-1677358800@gobatroun.com
SUMMARY:Dj Solvador at Cheers
DESCRIPTION:
URL:https://gobatroun.com/event/dj-solvador-at-cheers-17/
LOCATION:Cheers
CATEGORIES:Performing Arts
ATTACH;FMTTYPE=image/png:https://gobatroun.com/wp-content/uploads/2022/10/Screenshot-1836.png
END:VEVENT
BEGIN:VEVENT
DTSTART;TZID=Asia/Beirut:20230225T210000
DTEND;TZID=Asia/Beirut:20230225T210000
DTSTAMP:20260421T080826
CREATED:20230222T145219Z
LAST-MODIFIED:20230222T145219Z
UID:10001996-1677358800-1677358800@gobatroun.com
SUMMARY:Talia Lahoud at Loubnane by Ramy Ayach
DESCRIPTION:For an unforgettable night\, tuck in the distinguished tunes of the talented Talia Lahoud. \nReserve now 📞81 22 00 07
URL:https://gobatroun.com/event/talia-lahoud-at-loubnane-by-ramy-ayach/
LOCATION:Loubnane by Ramy Ayach
CATEGORIES:Performing Arts
ATTACH;FMTTYPE=image/png:https://gobatroun.com/wp-content/uploads/2023/02/Screenshot-52.png
END:VEVENT
BEGIN:VEVENT
DTSTART;TZID=Asia/Beirut:20230225T210000
DTEND;TZID=Asia/Beirut:20230225T210000
DTSTAMP:20260421T080826
CREATED:20230223T075840Z
LAST-MODIFIED:20230223T075840Z
UID:10001997-1677358800-1677358800@gobatroun.com
SUMMARY:Dj Jimmy Dib at Colonel Beer
DESCRIPTION:A good weather is nature’s way of saying “Let’s party!” @jimmydib is getting the party started this Saturday at 9:00 p.m. at Colonel Reef. Join us on the dance floor to welcome the beginning of a great season.
URL:https://gobatroun.com/event/dj-jimmy-dib-at-colonel-beer/
LOCATION:Colonel Beer
CATEGORIES:Performing Arts
ATTACH;FMTTYPE=image/png:https://gobatroun.com/wp-content/uploads/2023/02/Screenshot-53.png
END:VEVENT
BEGIN:VEVENT
DTSTART;TZID=Asia/Beirut:20230225T220000
DTEND;TZID=Asia/Beirut:20230225T220000
DTSTAMP:20260421T080826
CREATED:20230220T074125Z
LAST-MODIFIED:20230220T074125Z
UID:10001973-1677362400-1677362400@gobatroun.com
SUMMARY:DJ Armen Avakian at B1 Batroun
DESCRIPTION:
URL:https://gobatroun.com/event/dj-armen-avakian-at-b1-batroun-5/
LOCATION:B1 Batroun
CATEGORIES:Performing Arts
ATTACH;FMTTYPE=image/png:https://gobatroun.com/wp-content/uploads/2023/01/Screenshot-2561.png
END:VEVENT
BEGIN:VEVENT
DTSTART;TZID=Asia/Beirut:20230225T220000
DTEND;TZID=Asia/Beirut:20230225T220000
DTSTAMP:20260421T080826
CREATED:20230220T140741Z
LAST-MODIFIED:20230220T140741Z
UID:10001982-1677362400-1677362400@gobatroun.com
SUMMARY:Borhan at TAIGA BATROUN CLUB
DESCRIPTION:TaiGa Batroun Every Weekend!\nThis Saturday Night 🍸\n#Borhan on Stage #DjRalph\nNew Hit 3am Faker sah\n#TaiGa #Batroun #Lebanon\n#Reserve On 00961 3499408
URL:https://gobatroun.com/event/borhan-at-taiga-batroun-club-24/
LOCATION:TAIGA BATROUN CLUB\, 7M46+23 Batroun\, Batroun\, Lebanon
CATEGORIES:Performing Arts
ATTACH;FMTTYPE=image/png:https://gobatroun.com/wp-content/uploads/2023/02/Screenshot-2695.png
GEO:34.255082353874;35.660243950604
X-APPLE-STRUCTURED-LOCATION;VALUE=URI;X-ADDRESS=TAIGA BATROUN CLUB 7M46+23 Batroun Batroun Lebanon;X-APPLE-RADIUS=500;X-TITLE=7M46+23 Batroun:geo:35.660243950604,34.255082353874
END:VEVENT
BEGIN:VEVENT
DTSTART;TZID=Asia/Beirut:20230225T220000
DTEND;TZID=Asia/Beirut:20230225T220000
DTSTAMP:20260421T080826
CREATED:20230220T141501Z
LAST-MODIFIED:20230220T141501Z
UID:10001985-1677362400-1677362400@gobatroun.com
SUMMARY:Al Hadchity at Leyl
DESCRIPTION:
URL:https://gobatroun.com/event/al-hadchity-at-leyl-6/
LOCATION:Léyl
CATEGORIES:Performing Arts
ATTACH;FMTTYPE=image/png:https://gobatroun.com/wp-content/uploads/2023/02/Screenshot-2762.png
END:VEVENT
BEGIN:VEVENT
DTSTART;TZID=Asia/Beirut:20230225T220000
DTEND;TZID=Asia/Beirut:20230225T220000
DTSTAMP:20260421T080826
CREATED:20230221T093403Z
LAST-MODIFIED:20230221T093403Z
UID:10001989-1677362400-1677362400@gobatroun.com
SUMMARY:Dj Bibb and Mc-H at Void
DESCRIPTION:
URL:https://gobatroun.com/event/dj-bibb-and-mc-h-at-void-11/
LOCATION:Void Nightclub
CATEGORIES:Performing Arts
ATTACH;FMTTYPE=image/png:https://gobatroun.com/wp-content/uploads/2023/02/Screenshot-42.png
END:VEVENT
BEGIN:VEVENT
DTSTART;TZID=Asia/Beirut:20230225T220000
DTEND;TZID=Asia/Beirut:20230225T220000
DTSTAMP:20260421T080826
CREATED:20230223T080352Z
LAST-MODIFIED:20230223T080352Z
UID:10001998-1677362400-1677362400@gobatroun.com
SUMMARY:Dj Bob at Chess Bar
DESCRIPTION:Join us this Saturday\, February 25th\, for a night of disco/House with dj @bobgemaa
URL:https://gobatroun.com/event/dj-bob-at-chess-bar/
LOCATION:Chess Bar
CATEGORIES:Performing Arts
ATTACH;FMTTYPE=image/png:https://gobatroun.com/wp-content/uploads/2023/02/Screenshot-54.png
END:VEVENT
END:VCALENDAR