BEGIN:VCALENDAR
VERSION:2.0
PRODID:-//Go Batroun - ECPv6.14.2//NONSGML v1.0//EN
CALSCALE:GREGORIAN
METHOD:PUBLISH
X-ORIGINAL-URL:https://gobatroun.com
X-WR-CALDESC:Events for Go Batroun
REFRESH-INTERVAL;VALUE=DURATION:PT1H
X-Robots-Tag:noindex
X-PUBLISHED-TTL:PT1H
BEGIN:VTIMEZONE
TZID:Asia/Beirut
BEGIN:DAYLIGHT
TZOFFSETFROM:+0200
TZOFFSETTO:+0300
TZNAME:EEST
DTSTART:20230325T220000
END:DAYLIGHT
BEGIN:STANDARD
TZOFFSETFROM:+0300
TZOFFSETTO:+0200
TZNAME:EET
DTSTART:20231028T210000
END:STANDARD
END:VTIMEZONE
BEGIN:VEVENT
DTSTART;VALUE=DATE:20230219
DTEND;VALUE=DATE:20230313
DTSTAMP:20260421T073513
CREATED:20230207T150309Z
LAST-MODIFIED:20230207T150309Z
UID:10001923-1676764800-1678665599@gobatroun.com
SUMMARY:Volleyball Match Schedule
DESCRIPTION:
URL:https://gobatroun.com/event/volleyball-match-schedule/
LOCATION:Hamat Community Center
CATEGORIES:Performing Arts,Sports
ATTACH;FMTTYPE=image/jpeg:https://gobatroun.com/wp-content/uploads/2023/02/WhatsApp-Image-2023-02-07-at-5.02.15-PM.jpeg
END:VEVENT
BEGIN:VEVENT
DTSTART;TZID=Asia/Beirut:20230224T100000
DTEND;TZID=Asia/Beirut:20230224T230000
DTSTAMP:20260421T073513
CREATED:20230220T075014Z
LAST-MODIFIED:20230220T075033Z
UID:10001980-1677232800-1677279600@gobatroun.com
SUMMARY:Pilates with Maria at Darma Ji
DESCRIPTION:
URL:https://gobatroun.com/event/pilates-with-maria-at-darma-ji-14/
LOCATION:Darma Ji
CATEGORIES:Performing Arts,Sports
ATTACH;FMTTYPE=image/png:https://gobatroun.com/wp-content/uploads/2023/02/Screenshot-2759.png
END:VEVENT
BEGIN:VEVENT
DTSTART;TZID=Asia/Beirut:20230224T183000
DTEND;TZID=Asia/Beirut:20230224T193000
DTSTAMP:20260421T073513
CREATED:20230220T075032Z
LAST-MODIFIED:20230220T075032Z
UID:10001981-1677263400-1677267000@gobatroun.com
SUMMARY:Gentle Flow with Jenny at Darma Ji
DESCRIPTION:
URL:https://gobatroun.com/event/gentle-flow-with-jenny-at-darma-ji-3/
LOCATION:Darma Ji
CATEGORIES:Performing Arts,Sports
ATTACH;FMTTYPE=image/png:https://gobatroun.com/wp-content/uploads/2023/02/Screenshot-2759.png
END:VEVENT
BEGIN:VEVENT
DTSTART;TZID=Asia/Beirut:20230224T210000
DTEND;TZID=Asia/Beirut:20230224T210000
DTSTAMP:20260421T073513
CREATED:20230221T092607Z
LAST-MODIFIED:20230221T092607Z
UID:10001987-1677272400-1677272400@gobatroun.com
SUMMARY:Oriental night at Tramway Batroun
DESCRIPTION:
URL:https://gobatroun.com/event/oriental-night-at-tramway-batroun-3/
LOCATION:Tramway Gastro Pub\, 7M45+CQ Batroun\, Batroun\, Lebanon
CATEGORIES:Performing Arts
ATTACH;FMTTYPE=image/png:https://gobatroun.com/wp-content/uploads/2023/02/Screenshot-40.png
END:VEVENT
BEGIN:VEVENT
DTSTART;TZID=Asia/Beirut:20230224T210000
DTEND;TZID=Asia/Beirut:20230224T210000
DTSTAMP:20260421T073513
CREATED:20230221T093218Z
LAST-MODIFIED:20230221T093426Z
UID:10001988-1677272400-1677272400@gobatroun.com
SUMMARY:Dj Kayy Geoffroy and Mc-H at Void
DESCRIPTION:
URL:https://gobatroun.com/event/dj-kayy-geoffroy-and-mc-h-at-void/
LOCATION:Tramway Gastro Pub\, 7M45+CQ Batroun\, Batroun\, Lebanon
CATEGORIES:Performing Arts
ATTACH;FMTTYPE=image/png:https://gobatroun.com/wp-content/uploads/2023/02/Screenshot-41.png
END:VEVENT
BEGIN:VEVENT
DTSTART;TZID=Asia/Beirut:20230224T210000
DTEND;TZID=Asia/Beirut:20230224T210000
DTSTAMP:20260421T073513
CREATED:20230224T113049Z
LAST-MODIFIED:20230224T113049Z
UID:10001999-1677272400-1677272400@gobatroun.com
SUMMARY:Stephanie Zeidan at Barrio67
DESCRIPTION:It’s showtime 🎤🎸\nJoin us at Barrio67 this Saturday for a live performance by @stephaniezeidan.sz niezeidan.sz and her band. See you! \n@shantbajak\n@guy_ramy \nBand charge $5 \nFor reservations\, please call this number 👇🏼\n+961 70 211 299
URL:https://gobatroun.com/event/stephanie-zeidan-at-barrio67/
LOCATION:Barrio67
CATEGORIES:Performing Arts
ATTACH;FMTTYPE=image/png:https://gobatroun.com/wp-content/uploads/2023/02/Screenshot-68.png
END:VEVENT
BEGIN:VEVENT
DTSTART;TZID=Asia/Beirut:20230224T213000
DTEND;TZID=Asia/Beirut:20230224T213000
DTSTAMP:20260421T073513
CREATED:20230222T073552Z
LAST-MODIFIED:20230222T073552Z
UID:10001990-1677274200-1677274200@gobatroun.com
SUMMARY:Elie Kalas at Seven Night Clib
DESCRIPTION:
URL:https://gobatroun.com/event/elie-kalas-at-seven-night-clib/
LOCATION:Seven Night Club
CATEGORIES:Performing Arts
ATTACH;FMTTYPE=image/png:https://gobatroun.com/wp-content/uploads/2023/02/Screenshot-47.png
END:VEVENT
BEGIN:VEVENT
DTSTART;TZID=Asia/Beirut:20230224T220000
DTEND;TZID=Asia/Beirut:20230224T220000
DTSTAMP:20260421T073513
CREATED:20230220T074117Z
LAST-MODIFIED:20230220T074117Z
UID:10001972-1677276000-1677276000@gobatroun.com
SUMMARY:Dj Steve Salameh at B1 Batroun
DESCRIPTION:
URL:https://gobatroun.com/event/dj-steve-salameh-at-b1-batroun-5/
LOCATION:B1 Batroun
CATEGORIES:Performing Arts
ATTACH;FMTTYPE=image/png:https://gobatroun.com/wp-content/uploads/2023/01/Screenshot-2565.png
END:VEVENT
BEGIN:VEVENT
DTSTART;TZID=Asia/Beirut:20230224T220000
DTEND;TZID=Asia/Beirut:20230224T220000
DTSTAMP:20260421T073513
CREATED:20230220T140732Z
LAST-MODIFIED:20230220T140732Z
UID:10001983-1677276000-1677276000@gobatroun.com
SUMMARY:Jawad Saad at TAIGA BATROUN CLUB
DESCRIPTION:TaiGa Batroun Every Weekend!\nThis Friday Night 🍸\n#Jawad on Stage #DjRalph\n#TaiGa #Batroun #Lebanon\n#Reserve On 00961 3499408
URL:https://gobatroun.com/event/jawad-saad-at-taiga-batroun-club-3/
LOCATION:TAIGA BATROUN CLUB\, 7M46+23 Batroun\, Batroun\, Lebanon
CATEGORIES:Performing Arts
ATTACH;FMTTYPE=image/png:https://gobatroun.com/wp-content/uploads/2023/02/Screenshot-2696.png
GEO:34.255082353874;35.660243950604
X-APPLE-STRUCTURED-LOCATION;VALUE=URI;X-ADDRESS=TAIGA BATROUN CLUB 7M46+23 Batroun Batroun Lebanon;X-APPLE-RADIUS=500;X-TITLE=7M46+23 Batroun:geo:35.660243950604,34.255082353874
END:VEVENT
BEGIN:VEVENT
DTSTART;TZID=Asia/Beirut:20230224T220000
DTEND;TZID=Asia/Beirut:20230224T220000
DTSTAMP:20260421T073513
CREATED:20230220T141349Z
LAST-MODIFIED:20230220T141349Z
UID:10001984-1677276000-1677276000@gobatroun.com
SUMMARY:Rashid Al Najjar at Leyl
DESCRIPTION:
URL:https://gobatroun.com/event/rashid-al-najjar-at-leyl-3/
LOCATION:Léyl
CATEGORIES:Performing Arts
ATTACH;FMTTYPE=image/png:https://gobatroun.com/wp-content/uploads/2023/02/Screenshot-2761-1.png
END:VEVENT
BEGIN:VEVENT
DTSTART;TZID=Asia/Beirut:20230224T220000
DTEND;TZID=Asia/Beirut:20230224T220000
DTSTAMP:20260421T073513
CREATED:20230222T074411Z
LAST-MODIFIED:20230222T074541Z
UID:10001993-1677276000-1677276000@gobatroun.com
SUMMARY:The Rays Featuring Nidal Saxophone at Cheers
DESCRIPTION:
URL:https://gobatroun.com/event/the-rays-featuring-nidal-saxophone-at-cheers-9/
LOCATION:Cheers
CATEGORIES:Performing Arts
ATTACH;FMTTYPE=image/png:https://gobatroun.com/wp-content/uploads/2022/10/Screenshot-1990.png
END:VEVENT
END:VCALENDAR